Workbook
Name __xlfn_AGGREGATE: NA()

Sheet kdy
A1: =C1 -> 1 | B1: LHL č. | C1: 1 | D1: HT Zábřeh.liga | E1: HT Zábřeh | F1: : | G1: Bobři | H1: po | I1: HT Zábřeh5.9. | J1: HT Zábřeh0:15:00 | K1: 6 | L1: : | M1: 0
A2: =C2 -> 2 | B2: LHL č. | C2: 2 | D2: 3.liga | E2: Orel Lukavice | F2: : | G2: Sloni | H2: út | I2: HT Zábřeh6.9. | J2: HT Zábřeh0:15:00 | K2: 10 | L2: : | M2: 4
A3: =C3 -> 3 | B3: LHL č. | C3: 3 | D3: 1.liga | E3: Klášterec | F3: : | G3: SOMA | H3: st | I3: HT Zábřeh7.9. | J3: 0.82291667 | K3: 1 | L3: : | M3: 13
A4: =C4 -> 4 | B4: LHL č. | C4: 4 | D4: 4.liga | E4: H.Čermná | F4: : | G4: Snakes D.Dobr. | H4: čt | I4: HT Zábřeh8.9. | J4: 0.57291667 | K4: 8 | L4: : | M4: 4
A5: =C5 -> 5 | B5: LHL č. | C5: 5 | D5: 4.liga | E5: Štíty | F5: : | G5: H.Třešňovec | H5: pá | I5: HT Zábřeh9.9. | J5: HT Zábřeh0:15:00 | K5: 0 | L5: : | M5: 5(8-7)
A6: =C6 -> 6 | B6: LHL č. | C6: 6 | D6: HT Zábřeh.liga | E6: Cyklo | F6: : | G6: Islanders | H6: so | I6: 30.9. | J6: 0.63541667 | K6: 1 | L6: : | M6: HT Zábřeh
A7: =C7 -> 7 | B7: LHL č. | C7: 7 | D7: 3.liga | E7: Luková | F7: : | G7: Udánky | H7: so | I7: 30.9. | J7: 0.76041667 | K7: 5 | L7: : | M7: 6
A8: =C8 -> 8 | B8: LHL č. | C8: 8 | D8: 4.liga | E8: Jedlí | F8: : | G8: Slámožrouti | H8: so | I8: 30.9. | J8: 0.82291667 | K8: 1 | L8: : | M8: 8
A9: =C9 -> 9 | B9: LHL č. | C9: 9 | D9: HT Zábřeh.liga | E9: Petrovice | F9: : | G9: Bystřec | H9: ne | I9: 1.10. | J9: 0.63541667 | K9: 3 | L9: : | M9: 1
A10: =C10 -> 10 | B10: LHL č. | C10: 10 | D10: 1.liga | E10: Heat tech | F10: : | G10: Nekoř | H10: ne | I10: 1.10. | J10: 0.69791667 | K10: 7 | L10: : | M10: HT Zábřeh
A11: =C11 -> 11 | B11: LHL č. | C11: 11 | D11: 3.liga | E11: Verměřovice | F11: : | G11: Orel Lukavice | H11: ne | I11: 1.10. | J11: 0.82291667 | K11: 5 | L11: : | M11: 7
A12: =C12 -> 12 | B12: LHL č. | C12: 12 | D12: 3.liga | E12: Sršni | F12: : | G12: LDM | H12: po | I12: 2.10. | J12: 0.84375 | K12: 2 | L12: : | M12: 6
A13: =C13 -> 13 | B13: LHL č. | C13: 13 | D13: 1.liga | E13: Tygři | F13: : | G13: Těchonín | H13: út | I13: 3.10. | J13: 0.84375 | K13: 7 | L13: : | M13: 1
A14: =C14 -> 14 | B14: LHL č. | C14: 14 | D14: 2.liga | E14: Flyers | F14: : | G14: HT Zábřeh | H14: st | I14: 4.10. | J14: 0.875 | K14: 2 | L14: : | M14: 8
A15: =C15 -> 15 | B15: LHL č. | C15: 15 | D15: 4.liga | E15: OMB Letohrad | F15: : | G15: SK Rájec | H15: čt | I15: 5.10. | J15: 0.86458333 | K15: 1 | L15: : | M15: 4
A16: =C16 -> 16 | B16: LHL č. | C16: 16 | D16: 4.liga | E16: Slámožrouti | F16: : | G16: H.Třešňovec | H16: pá | I16: 6.10. | J16: 0.84375 | K16: 5 | L16: : | M16: 1
A17: =C17 -> 17 | B17: LHL č. | C17: 17 | D17: 3.liga | E17: Udánky | F17: : | G17: Rafani | H17: pá | I17: 6.10. | J17: 0.90625 | K17: 6 | L17: : | M17: 2
A18: =C18 -> 18 | B18: LHL č. | C18: 18 | D18: 3.liga | E18: Orel Lukavice | F18: : | G18: Sršni | H18: so | I18: 7.10. | J18: 0.52083333 | K18: 1 | L18: : | M18: 9
A19: =C19 -> 19 | B19: LHL č. | C19: 19 | D19: 2.liga | E19: Bystřec | F19: : | G19: Islanders | H19: so | I19: 7.10. | J19: 0.63541667 | K19: 4 | L19: : | M19: 2
A20: =C20 -> 20 | B20: LHL č. | C20: 20 | D20: 2.liga | E20: Lazy Neckers | F20: : | G20: Cyklo | H20: ne | I20: 8.10. | J20: 0.52083333 | K20: 2 | L20: : | M20: 6
A21: =C21 -> 21 | B21: LHL č. | C21: 21 | D21: 1.liga | E21: Těchonín | F21: : | G21: Klášterec | H21: ne | I21: 8.10. | J21: 0.63541667 | K21: 4 | L21: : | M21: 3
A22: =C22 -> 22 | B22: LHL č. | C22: 22 | D22: 3.liga | E22: Sloni | F22: : | G22: Luková | H22: ne | I22: 8.10. | J22: 0.69791667 | K22: 1 | L22: : | M22: 1
... A35: =C35 -> 35 | B35: LHL č. | C35: 35 | D35: 3.liga | E35: Orel Lukavice | F35: : | G35: LDM | H35: st | I35: 18.10. | J35: 0.86458333 | K35: 6 | L35: : | M35: 4
A36: =C36 -> 36 | B36: LHL č. | C36: 36 | D36: 2.liga | E36: Petrovice | F36: : | G36: HT Zábřeh | H36: čt | I36: 0.79861111 | J36: 0.86458333 | K36: 4 | L36: : | M36: 6
A37: =C37 -> 37 | B37: LHL č. | C37: 37 | D37: 2.liga | E37: Cyklo | F37: : | G37: Flyers | H37: pá | I37: 20.10. | J37: 0.88541667 | K37: 6 | L37: : | M37: 6
A38: =C38 -> 38 | B38: LHL č. | C38: 38 | D38: 4.liga | E38: Jedlí | F38: : | G38: OMB Letohrad | H38: so | I38: 21.10. | J38: 0.63541667 | K38: 2 | L38: : | M38: 4
A39: =C39 -> 39 | B39: LHL č. | C39: 39 | D39: 4.liga | E39: H.Čermná | F39: : | G39: Slámožrouti | H39: so | I39: 21.10. | J39: 0.80208333 | K39: 3 | L39: : | M39: 3
A40: =C40 -> 40 | B40: LHL č. | C40: 40 | D40: 3.liga | E40: Sršni | F40: : | G40: Luková | H40: so | I40: 21.10. | J40: 0.86458333 | K40: 5 | L40: : | M40: 5
A41: =C41 -> 41 | B41: LHL č. | C41: 41 | D41: 4.liga | E41: H.Třešňovec | F41: : | G41: Snakes D.Dobr. | H41: ne | I41: 22.10. | J41: 0.39583333 | K41: 1 | L41: : | M41: 4
A42: =C42 -> 42 | B42: LHL č. | C42: 42 | D42: 4.liga | E42: SK Rájec | F42: : | G42: Štíty | H42: ne | I42: 22.10. | J42: 0.61458333 | K42: 7 | L42: : | M42: 2
A43: =C43 -> 43 | B43: LHL č. | C43: 43 | D43: 2.liga | E43: Bystřec | F43: : | G43: Lazy Neckers | H43: ne | I43: 22.10. | J43: 0.86458333 | K43: 8 | L43: : | M43: 6
A44: =C44 -> 44 | B44: LHL č. | C44: 44 | D44: 1.liga | E44: Nuget | F44: : | G44: Heat tech | H44: po | I44: 23.10. | J44: 0.83333333 | K44: 5 | L44: : | M44: 1
A45: =C45 -> 45 | B45: LHL č. | C45: 45 | D45: 1.liga | E45: SOMA | F45: : | G45: Tygři | H45: út | I45: 24.10. | J45: 0.84375 | K45: 7 | L45: : | M45: 4
A46: =C46 -> 46 | B46: LHL č. | C46: 46 | D46: 3.liga | E46: LDM | F46: : | G46: Verměřovice | H46: st | I46: 25.10. | J46: 0.84375 | K46: 3 | L46: : | M46: 10
A47: =C47 -> 47 | B47: LHL č. | C47: 47 | D47: 1.liga | E47: Nekoř | F47: : | G47: Klášterec | H47: čt | I47: 26.10. | J47: 0.86458333 | K47: 5 | L47: : | M47: 3
A48: =C48 -> 48 | B48: LHL č. | C48: 48 | D48: 3.liga | E48: Rafani | F48: : | G48: Sršni | H48: pá | I48: 27.10. | J48: 0.84375 | K48: 4 | L48: : | M48: 5
... A72: =C72 -> 72 | B72: LHL č. | C72: 72 | D72: 1.liga | E72: Nuget | F72: : | G72: Klášterec | H72: čt | I72: 9.11. | J72: 0.86458333 | K72: 14 | L72: : | M72: 2
A73: =C73 -> 73 | B73: LHL č. | C73: 73 | D73: 1.liga | E73: Těchonín | F73: : | G73: Heat tech | H73: pá | I73: 10.11. | J73: 0.84375 | K73: 5 | L73: : | M73: 0 (3-9)
A74: =C74 -> 74 | B74: LHL č. | C74: 74 | D74: 3.liga | E74: Rafani | F74: : | G74: LDM | H74: pá | I74: 10.11. | J74: 0.90625 | K74: 1 | L74: : | M74: 5
A75: =C75 -> 75 | B75: LHL č. | C75: 75 | D75: 4.liga | E75: Snakes D.Dobr. | F75: : | G75: SK Rájec | H75: so | I75: 11.11. | J75: 0.52083333 | K75: 2 | L75: : | M75: 11
A76: =C76 -> 76 | B76: LHL č. | C76: 76 | D76: 3.liga | E76: Luková | F76: : | G76: Verměřovice | H76: so | I76: 11.11. | J76: 0.63541667 | K76: 9 | L76: : | M76: 4
A77: =C77 -> 77 | B77: LHL č. | C77: 77 | D77: 2.liga | E77: Petrovice | F77: : | G77: Lazy Neckers | H77: ne | I77: 12.11. | J77: 0.5 | K77: 2 | L77: : | M77: 6
A78: =C78 -> 78 | B78: LHL č. | C78: 78 | D78: 1.liga | E78: Nekoř | F78: : | G78: SOMA | H78: ne | I78: 12.11. | J78: 0.61458333 | K78: 3 | L78: : | M78: 8
A79: =C79 -> 79 | B79: LHL č. | C79: 79 | D79: 2.liga | E79: HT Zábřeh | F79: : | G79: Cyklo | H79: ne | I79: 12.11. | J79: 0.86458333 | K79: 3 | L79: : | M79: 1
A80: =C80 -> 80 | B80: LHL č. | C80: 80 | D80: 4.liga | E80: H.Čermná | F80: : | G80: Jedlí | H80: po | I80: 13.11. | J80: 0.83333333 | K80: 1 | L80: : | M80: 3
A81: =C81 -> 81 | B81: LHL č. | C81: 81 | D81: 1.liga | E81: Tygři | F81: : | G81: Nuget | H81: út | I81: 14.11. | J81: 0.84375 | K81: 2 | L81: : | M81: 8
A82: =C82 -> 82 | B82: LHL č. | C82: 82 | D82: 3.liga | E82: Udánky | F82: : | G82: Orel Lukavice | H82: st | I82: 15.11. | J82: 0.875 | K82: 7 | L82: : | M82: 2
A83: =C83 -> 83 | B83: LHL č. | C83: 83 | D83: 4.liga | E83: OMB Letohrad | F83: : | G83: Slámožrouti | H83: čt | I83: 16.11. | J83: 0.86458333 | K83: 0 | L83: : | M83: 10
A84: =C84 -> 84 | B84: LHL č. | C84: 84 | D84: 2.liga | E84: Bystřec | F84: : | G84: Bobři | H84: pá | I84: 17.11. | J84: 0.79166667 | K84: 11 | L84: : | M84: 4
A85: =C85 -> 85 | B85: LHL č. | C85: 85 | D85: 2.liga | E85: Islanders | F85: : | G85: Petrovice | H85: so | I85: 18.11. | J85: 0.63541667 | K85: 5 | L85: : | M85: 5
A86: =C86 -> 86 | B86: LHL č. | C86: 86 | D86: 3.liga | E86: Udánky | F86: : | G86: Verměřovice | H86: so | I86: 18.11. | J86: 0.75 | K86: k 5 | L86: : | M86: 0
A87: =C87 -> 87 | B87: LHL č. | C87: 87 | D87: 4.liga | E87: Snakes D.Dob. | F87: : | G87: Štíty | H87: so | I87: 18.11. | J87: 0.8125 | K87: 6 | L87: : | M87: 9
A88: =C88 -> 88 | B88: LHL č. | C88: 88 | D88: 4.liga | E88: SK Rájec | F88: : | G88: Jedlí | H88: so | I88: 18.11. | J88: 0.875 | K88: 3 | L88: : | M88: 1
A89: =C89 -> 89 | B89: LHL č. | C89: 89 | D89: 3.liga | E89: Sloni | F89: : | G89: Sršni | H89: ne | I89: 19.11. | J89: 0.61458333 | K89: 6 | L89: : | M89: 2
A90: =C90 -> 90 | B90: LHL č. | C90: 90 | D90: 2.liga | E90: HT Zábřeh | F90: : | G90: Lazy Neckers | H90: ne | I90: 19.11. | J90: 0.86458333 | K90: 2 | L90: : | M90: 3
A91: =C91 -> 91 | B91: LHL č. | C91: 91 | D91: 2.liga | E91: Bobři | F91: : | G91: Cyklo | H91: po | I91: 20.11. | J91: 0.83333333 | K91: 7 | L91: : | M91: 6
A92: =C92 -> 92 | B92: LHL č. | C92: 92 | D92: 1.liga | E92: Klášterec | F92: : | G92: Tygři | H92: út | I92: 21.11. | J92: 0.84375 | K92: 3 | L92: : | M92: 4
A93: =C93 -> 93 | B93: LHL č. | C93: 93 | D93: 4.liga | E93: Slámožrouti | F93: : | G93: Snakes D.Dobr. | H93: st | I93: 22.11. | J93: 0.88541667 | K93: 2 | L93: : | M93: 3
A94: =C94 -> 94 | B94: LHL č. | C94: 94 | D94: 3.liga | E94: Verměřovice | F94: : | G94: Sršni | H94: čt | I94: 23.11. | J94: 0.86458333 | K94: 6 | L94: : | M94: 4
A95: =C95 -> 95 | B95: LHL č. | C95: 95 | D95: 3.liga | E95: Luková | F95: : | G95: Rafani | H95: pá | I95: 24.11. | J95: 0.88541667 | K95: 6 | L95: : | M95: 8
A96: =C96 -> 96 | B96: LHL č. | C96: 96 | D96: 2.liga | E96: Islanders | F96: : | G96: HT Zábřeh | H96: so | I96: 25.11. | J96: 0.39583333 | K96: 1 | L96: : | M96: 2
A97: =C97 -> 97 | B97: LHL č. | C97: 97 | D97: 2.liga | E97: Flyers | F97: : | G97: Lazy Neckers | H97: so | I97: 25.11. | J97: 0.45833333 | K97: 5 | L97: : | M97: 11
A98: =C98 -> 98 | B98: LHL č. | C98: 98 | D98: 1.A | E98: Klášterec | F98: : | G98: Nekoř | H98: so | I98: 25.11. | J98: 0.52083333 | K98: 4 | L98: : | M98: 3
... A141: =C141 -> 141 | B141: LHL č. | C141: 141 | D141: 2.liga | E141: Sloni | F141: : | G141: Snakes | H141: pá | I141: 22.12. | J141: 0.84375 | K141: 6 | L141: : | M141: 2
A142: =C142 -> 142 | B142: LHL č. | C142: 142 | D142: 1.B. | E142: Islanders | F142: : | G142: Lazy Neckers | H142: so | I142: 23.12. | J142: 0.45833333 | K142: 3 | M142: 7
A143: =C143 -> 143 | B143: LHL č. | C143: 143 | D143: 1.A | E143: Klas Nekoř | F143: : | G143: Cyklo | H143: so | I143: 23.12. | J143: 0.52083333 | K143: 4 | L143: : | M143: 2
A144: =C144 -> 144 | B144: LHL č. | C144: 144 | D144: 1.liga | E144: Heat tech | F144: : | G144: SOMA | H144: so | I144: 23.12. | J144: 0.63541667 | K144: 0 | L144: : | M144: 5
A145: =C145 -> 145 | B145: LHL č. | C145: 145 | D145: 2.liga | E145: Luková | F145: : | G145: Slámožrouti | H145: so | I145: 23.12. | J145: 0.75 | K145: 2 | L145: : | M145: 6
A146: =C146 -> 146 | B146: LHL č. | C146: 146 | D146: 3.liga | E146: Sršni | F146: : | G146: Rafani | H146: so | I146: 23.12. | J146: 0.8125 | K146: 7 | L146: : | M146: 5
A147: =C147 -> 147 | B147: LHL č. | C147: 147 | D147: 3.liga | E147: Štíty | F147: : | G147: H.Čermná | H147: po | I147: 25.12. | J147: 0.75 | K147: 5 | L147: : | M147: 5
A148: =C148 -> 148 | B148: LHL č. | C148: 148 | D148: 1.B. | E148: Petrovice | F148: : | G148: Těchonín | H148: út | I148: 26.12. | J148: 0.75 | K148: 2 | L148: : | M148: 6
A149: =C149 -> 149 | B149: LHL č. | C149: 149 | D149: 1.A | E149: Lukavice | F149: : | G149: Soma | H149: st | I149: 27.12. | J149: 0.80208333 | K149: 4 | L149: : | M149: 22
A150: =C150 -> 150 | B150: LHL č. | C150: 150 | D150: 2.liga | E150: LDM | F150: : | G150: Slámožrouti | H150: st | I150: 27.12. | J150: 0.86458333 | K150: 3 | L150: : | M150: 1
A151: =C151 -> 151 | B151: LHL č. | C151: 151 | D151: 1.A | E151: Cyklo | F151: : | G151: Klášterec | H151: čt | I151: 28.12. | J151: 0.875 | K151: 7 | L151: : | M151: 5
A152: =C152 -> 152 | B152: LHL č. | C152: 152 | D152: 2.liga | E152: Flyers | F152: : | G152: Bobři | H152: pá | I152: 29.12. | J152: 0.8125 | K152: 1 | L152: : | M152: 0
A153: =C153 -> 153 | B153: LHL č. | C153: 153 | D153: 3.liga | E153: Rafani | F153: : | G153: Horní Třešňovec | H153: pá | I153: 29.12. | J153: 0.875 | K153: 3 | L153: : | M153: 1
A154: =C154 -> 154 | B154: LHL č. | C154: 154 | D154: 1.B. | E154: Islanders | F154: : | G154: Petrovice | H154: so | I154: 30.12. | J154: 0.76041667 | K154: 9 | L154: : | M154: 4
... A177: =C177 -> 177 | B177: LHL č. | C177: 177 | D177: 1.A | E177: Soma | F177: : | G177: Cyklo | H177: ne | I177: 14.1. | J177: 0.61458333 | K177: 14 | L177: : | M177: 1
A178: =C178 -> 178 | B178: LHL č. | C178: 178 | D178: 1.A | E178: Nekoř | F178: : | G178: HT Zábřeh | H178: ne | I178: 14.1. | J178: Wintr | K178: 6 | L178: : | M178: 1
A179: =C179 -> 179 | B179: LHL č. | C179: 179 | D179: 2.liga | E179: Flyers | F179: : | G179: Luková | H179: po | I179: 15.1. | J179: 0.82986111 | K179: 3 | L179: : | M179: 5
A180: =C180 -> 180 | B180: LHL č. | C180: 180 | D180: 2.liga | E180: Sloni | F180: : | G180: Bobři | H180: po | I180: 15.1. | J180: 0.88541667 | K180: 4 | L180: : | M180: 7
A181: =C181 -> 181 | B181: LHL č. | C181: 181 | D181: 3.liga | E181: H.Čermná | F181: : | G181: Sršni | H181: út | I181: 16.1. | J181: 0.84375 | K181: 2 | L181: : | M181: 6
A182: =C182 -> 182 | B182: LHL č. | C182: 182 | D182: 2.liga | E182: Snakes | F182: : | G182: Rájec | H182: st | I182: 17.1. | J182: 0.88541667 | K182: 1 | L182: : | M182: 7
A183: =C183 -> 183 | B183: LHL č. | C183: 183 | D183: 1.A | E183: HT Zábřeh | F183: : | G183: Klášterec | H183: čt | I183: 18.1. | J183: 0.86458333 | K183: 8 | L183: : | M183: 3
A184: =C184 -> 184 | B184: LHL č. | C184: 184 | D184: 1.B. | E184: Petrovice | F184: : | G184: Lazy Neckers | H184: pá | I184: 19.1. | J184: 0.84375 | K184: 4 | L184: : | M184: 8
A185: =C185 -> 185 | B185: LHL č. | C185: 185 | D185: 3.liga | E185: Rafani | F185: : | G185: Jedlí | H185: pá | I185: 19.1. | J185: 0.90625 | K185: 3 | L185: : | M185: 3
A186: =C186 -> 186 | B186: LHL č. | C186: 186 | D186: 3.liga | E186: Horní Třešňovec | F186: : | G186: OMB | H186: so | I186: 20.1. | J186: 0.80208333 | K186: 5 | L186: : | M186: 2
A187: =C187 -> 187 | B187: LHL č. | C187: 187 | D187: 1.A | E187: Cyklo | F187: : | G187: Tygři | H187: so | I187: 20.1. | J187: 0.86458333 | K187: 2 | L187: : | M187: 7
A188: =C188 -> 188 | B188: LHL č. | C188: 188 | D188: 2.liga | E188: Slámožrouti | F188: : | G188: Sloni | H188: ne | I188: 21.1. | J188: 0.47916667 | K188: 6 | L188: : | M188: 0
A189: =C189 -> 189 | B189: LHL č. | C189: 189 | D189: 1.A | E189: Bystřec | F189: : | G189: Soma | H189: ne | I189: 21.1. | J189: 0.54166667 | K189: 3 | L189: : | M189: 8
A190: =C190 -> 190 | B190: LHL č. | C190: 190 | D190: 1.B. | E190: Nuget | F190: : | G190: Udánky | H190: ne | I190: 21.1. | J190: 0.65625 | K190: 7 | L190: : | M190: 2
... A203: =C203 -> 203 | B203: LHL č. | C203: 203 | D203: 2.liga | E203: Snakes | F203: : | G203: Flyers | H203: út | I203: 30.1. | J203: 0.84375 | K203: 2 | L203: : | M203: 10
A204: =C204 -> 204 | B204: LHL č. | C204: 204 | D204: 7.liga | E204: H.Čermná | F204: : | G204: OMB | H204: st | I204: 31.1. | J204: 0.875 | K204: 8 | M204: 5
A205: =C205 -> 205 | B205: LHL č. | C205: 205 | D205: 1.A | E205: Klášterec | F205: : | G205: Soma | H205: čt | I205: 1.2. | J205: 0.86458333 | K205: 5 | L205: : | M205: 14
A206: =C206 -> 206 | B206: LHL č. | C206: 206 | D206: 1.B. | E206: Islanders | F206: : | G206: Nuget | H206: pá | I206: 2.2. | J206: 0.84375 | K206: 4 | L206: : | M206: 7
A207: =C207 -> 207 | B207: LHL č. | C207: 207 | D207: 3.liga | E207: Rafani | F207: : | G207: Štíty | H207: pá | I207: 2.2. | J207: 0.90625 | K207: 3 | L207: : | M207: 2
A208: =C208 -> 208 | B208: LHL č. | C208: 208 | D208: 1.B. | E208: Udánky | F208: : | G208: Petrovice | H208: so | I208: 3.2. | J208: 0.75 | K208: 6 | L208: : | M208: 2
A209: =C209 -> 209 | B209: LHL č. | C209: 209 | D209: 1.B. | E209: Těchonín | F209: : | G209: Heat Tech | H209: ne | I209: 4.2. | J209: 0.4375 | K209: 8 | L209: : | M209: 3
A210: =C210 -> 210 | B210: LHL č. | C210: 210 | D210: 1.B. | E210: Lazy Neckers | F210: : | G210: Verměřovice | H210: ne | I210: 4.2. | J210: 0.5 | K210: 9 | L210: : | M210: 7
A211: =C211 -> 211 | B211: LHL č. | C211: 211 | D211: 1.A | E211: HT Zábřeh | F211: : | G211: Cyklo | H211: ne | I211: 4.2. | J211: 0.86458333 | K211: 7 | L211: : | M211: 0
...

Sheet 1k
A1: 1 liga | B1: Soma | E1: Tygři | H1: Heat | K1: Klas | N1: Klášt. | Q1: Nuget | T1: Těch. | Z1: ZÁPASY | AA1: VÍTĚZSTVÍ | AB1: REMÍZY | AC1: PORÁŽKY | AD1: SKÓRE | AG1: BODY | AI1: POŘADÍ | AK1: =Z9+Z21+Z32+Z43-2 -> 103 | AO1: 1B | AQ1: 1A
A2: Soma | E2: 7 | F2: : | G2: 4 | H2: 5 | I2: : | J2: 0 | K2: 8 | L2: : | M2: 3 | N2: 13 | O2: : | P2: 1 | Q2: 5 | R2: : | S2: 2 | T2: 13 | U2: : | V2: 3 | Z2: =AA2+AB2+AC2 -> 6 | AA2: 6 | AD2: =+N2+Q2+T2+K2+H2+E2+B2 -> 51 | AE2: : | AF2: =V2+M2+J2+G2+D2+P2++S2 -> 13 | AG2: =AA2*2+AB2*1 -> 12 | AI2: 1 | AQ2: Soma
A3: Tygři | B3: 4 | C3: : | D3: 7 | H3: 8 | I3: : | J3: 4 | K3: 8 | L3: : | M3: 2 | N3: 4 | O3: : | P3: 3 | Q3: 2 | R3: : | S3: 8 | T3: 7 | U3: : | V3: 1 | Z3: =AA3+AB3+AC3 -> 6 | AA3: 4 | AC3: 2 | AD3: =+N3+Q3+T3+K3+H3+E3+B3 -> 33 | AE3: : | AF3: =V3+M3+J3+G3+D3+P3++S3 -> 25 | AG3: =AA3*2+AB3*1 -> 8 | AI3: 3 | AQ3: Tygři
A4: Heat t. | B4: 0 | C4: : | D4: 5 | E4: 4 | F4: : | G4: 8 | K4: 7 | L4: : | M4: 2 | N4: 13 | O4: : | P4: 4 | Q4: 1 | R4: : | S4: 5 | T4: 0 | U4: : | V4: 5 | Z4: =AA4+AB4+AC4 -> 6 | AA4: 2 | AC4: 4 | AD4: =+N4+Q4+T4+K4+H4+E4+B4 -> 25 | AE4: : | AF4: =V4+M4+J4+G4+D4+P4++S4 -> 29 | AG4: =AA4*2+AB4*1 -> 4 | AO4: Heat tech
A5: Klas | B5: 3 | C5: : | D5: 8 | E5: 2 | F5: : | G5: 8 | H5: 2 | I5: : | J5: 7 | N5: 5 | O5: : | P5: 3 | Q5: 0 | R5: : | S5: 8 | T5: 6 | U5: : | V5: 1 | Z5: =AA5+AB5+AC5 -> 6 | AA5: 2 | AC5: 4 | AD5: =+N5+Q5+T5+K5+H5+E5+B5 -> 18 | AE5: : | AF5: =V5+M5+J5+G5+D5+P5++S5 -> 35 | AG5: =AA5*2+AB5*1 -> 4 | AQ5: Klas
A6: Klášt. | B6: 1 | C6: : | D6: 13 | E6: 3 | F6: : | G6: 4 | H6: 4 | I6: : | J6: 13 | K6: 3 | L6: : | M6: 5 | Q6: 2 | R6: : | S6: 14 | T6: 3 | U6: : | V6: 4 | Z6: =AA6+AB6+AC6 -> 6 | AC6: 6 | AD6: =+N6+Q6+T6+K6+H6+E6+B6 -> 16 | AE6: : | AF6: =V6+M6+J6+G6+D6+P6++S6 -> 53 | AG6: =AA6*2+AB6*1 -> 0 | AI6: 7 | AQ6: Kláš.
A7: Nuget | B7: 2 | C7: : | D7: 5 | E7: 8 | F7: : | G7: 2 | H7: 5 | I7: : | J7: 1 | K7: 8 | L7: : | M7: 0 | N7: 14 | O7: : | P7: 2 | T7: 5 | U7: : | V7: 4 | Z7: =AA7+AB7+AC7 -> 6 | AA7: 5 | AC7: 1 | AD7: =+N7+Q7+T7+K7+H7+E7+B7 -> 42 | AE7: : | AF7: =V7+M7+J7+G7+D7+P7++S7 -> 14 | AG7: =AA7*2+AB7*1 -> 10 | AI7: 2 | AO7: Nuget
A8: Těch. | B8: 3 | C8: : | D8: 13 | E8: 1 | F8: : | G8: 7 | H8: 5 | I8: : | J8: 0 | K8: 1 | L8: : | M8: 6 | N8: 4 | O8: : | P8: 3 | Q8: 4 | R8: : | S8: 5 | Z8: =AA8+AB8+AC8 -> 6 | AA8: 2 | AC8: 4 | AD8: =+N8+Q8+T8+K8+H8+E8+B8 -> 18 | AE8: : | AF8: =V8+M8+J8+G8+D8+P8++S8 -> 34 | AG8: =AA8*2+AB8*1 -> 4 | AI8: 6 | AO8: Těchonín
Z9: =SUM(Z2:Z8)/2 -> 21 | AD9: =SUM(AD2:AD8) -> 203 | AF9: =SUM(AF2:AF8) -> 203
A12: 2.liga | B12: =A13 -> HT Zábřeh | E12: =A14 -> Cyk | H12: =A15 -> Lazy | K12: Island. | N12: Bystřec | Q12: Flyers | T12: Petrovice | W12: Bobři | Z12: ZÁPASY | AA12: VÍTĚZSTVÍ | AB12: REMÍZY | AC12: PORÁŽKY | AD12: SKÓRE | AG12: BODY | AI12: POŘADÍ
A13: HT Zábřeh | E13: 3 | F13: : | G13: 1 | H13: 2 | I13: : | J13: 3 | K13: 2 | L13: : | M13: 1 | N13: 7 | O13: : | P13: 4 | Q13: 8 | R13: : | S13: 2 | T13: 6 | U13: : | V13: 4 | W13: 6 | X13: : | Y13: 0 | Z13: =AA13+AB13+AC13 -> 7 | AA13: 6 | AC13: 1 | AD13: =B13+E13+H13+K13+N13+Q13+T13+W13 -> 34 | AE13: : | AF13: =D13+G13+J13+M13+P13+S13+V13+Y13 -> 15 | AG13: =AA13*2+AB13*1 -> 12 | AI13: 1 | AQ13: HT Zábřeh
A14: Cyk | B14: 1 | C14: : | D14: 3 | H14: 6 | I14: : | J14: 2 | K14: 1 | L14: : | M14: 2 | N14: 4 | O14: : | P14: 4 | Q14: 6 | R14: : | S14: 6 | T14: 4 | U14: : | V14: 2 | W14: 6 | X14: : | Y14: 7 | Z14: =AA14+AB14+AC14 -> 7 | AA14: 2 | AB14: 2 | AC14: 3 | AD14: =B14+E14+H14+K14+N14+Q14+T14+W14 -> 28 | AE14: : | AF14: =D14+G14+J14+M14+P14+S14+V14+Y14 -> 26 | AG14: =AA14*2+AB14*1 -> 6 | AI14: 5 | AQ14: Cyklo
A15: Lazy | B15: 3 | C15: : | D15: 2 | E15: 2 | F15: : | G15: 6 | K15: 4 | L15: : | M15: 5 | N15: 6 | O15: : | P15: 8 | Q15: 11 | R15: : | S15: 5 | T15: 6 | U15: : | V15: 2 | W15: 5 | X15: : | Y15: 2 | Z15: =AA15+AB15+AC15 -> 7 | AA15: 4 | AC15: 3 | AD15: =B15+E15+H15+K15+N15+Q15+T15+W15 -> 37 | AE15: : | AF15: =D15+G15+J15+M15+P15+S15+V15+Y15 -> 30 | AG15: =AA15*2+AB15*1 -> 8 | AI15: 3 | AO15: Lazy Neckers
A16: Islanders | B16: 1 | C16: : | D16: 2 | E16: 2 | F16: : | G16: 1 | H16: 5 | I16: : | J16: 4 | N16: 2 | O16: : | P16: 4 | Q16: 5 | R16: : | S16: 3 | T16: 5 | U16: : | V16: 5 | W16: 4 | X16: : | Y16: 2 | Z16: =AA16+AB16+AC16 -> 7 | AA16: 4 | AB16: 1 | AC16: 2 | AD16: =B16+E16+H16+K16+N16+Q16+T16+W16 -> 24 | AE16: : | AF16: =D16+G16+J16+M16+P16+S16+V16+Y16 -> 21 | AG16: =AA16*2+AB16*1 -> 9 | AI16: 2 | AO16: Islanders
A17: Bys | B17: 4 | C17: : | D17: 7 | E17: 4 | F17: : | G17: 4 | H17: 8 | I17: : | J17: 6 | K17: 4 | L17: : | M17: 2 | Q17: 2 | R17: : | S17: 3 | T17: 1 | U17: : | V17: 3 | W17: 11 | X17: : | Y17: 4 | Z17: =AA17+AB17+AC17 -> 7 | AA17: 3 | AB17: 1 | AC17: 3 | AD17: =B17+E17+H17+K17+N17+Q17+T17+W17 -> 34 | AE17: : | AF17: =D17+G17+J17+M17+P17+S17+V17+Y17 -> 29 | AG17: =AA17*2+AB17*1 -> 7 | AI17: 4 | AQ17: Bystřec
A18: Fly Třebovice | B18: 2 | C18: : | D18: 8 | E18: 6 | F18: : | G18: 6 | H18: 5 | I18: : | J18: 11 | K18: 3 | L18: : | M18: 5 | N18: 3 | O18: : | P18: 2 | T18: 2 | U18: : | V18: 2 | W18: 1 | X18: : | Y18: 1 | Z18: =AA18+AB18+AC18 -> 7 | AA18: 1 | AB18: 3 | AC18: 3 | AD18: =B18+E18+H18+K18+N18+Q18+T18+W18 -> 22 | AE18: : | AF18: =D18+G18+J18+M18+P18+S18+V18+Y18 -> 35 | AG18: =AA18*2+AB18*1 -> 5 | AQ18: Petrovice
A19: Pet | B19: 4 | C19: : | D19: 6 | E19: 2 | F19: : | G19: 4 | H19: 2 | I19: : | J19: 6 | K19: 5 | L19: : | M19: 5 | N19: 3 | O19: : | P19: 1 | Q19: 2 | R19: : | S19: 2 | W19: 4 | X19: : | Y19: 3 | Z19: =AA19+AB19+AC19 -> 7 | AA19: 2 | AB19: 2 | AC19: 3 | AD19: =B19+E19+H19+K19+N19+Q19+T19+W19 -> 22 | AE19: : | AF19: =D19+G19+J19+M19+P19+S19+V19+Y19 -> 27 | AG19: =AA19*2+AB19*1 -> 6 | AI19: 6 | AQ19: Bobři
A20: BOB | B20: 0 | C20: : | D20: 6 | E20: 7 | F20: : | G20: 6 | H20: 2 | I20: : | J20: 5 | K20: 2 | L20: : | M20: 4 | N20: 4 | O20: : | P20: 11 | Q20: 1 | R20: : | S20: 1 | T20: 3 | U20: : | V20: 4 | Z20: =AA20+AB20+AC20 -> 7 | AA20: 1 | AB20: 1 | AC20: 5 | AD20: =B20+E20+H20+K20+N20+Q20+T20+W20 -> 19 | AE20: : | AF20: =D20+G20+J20+M20+P20+S20+V20+Y20 -> 37 | AG20: =AA20*2+AB20*1 -> 3 | AQ20: Fly
Z21: =SUM(Z13:Z20)/2 -> 28 | AD21: =SUM(AD13:AD20) -> 220 | AF21: =SUM(AF13:AF20) -> 220
A23: 3.liga | B23: Raf | E23: Udánky | H23: LDM | K23: Sloni | N23: Verm. | Q23: Luková | T23: Sršni | W23: Lukavice | Z23: ZÁPASY | AA23: VÍTĚZSTVÍ | AB23: REMÍZY | AC23: PORÁŽKY | AD23: SKÓRE | AG23: BODY | AI23: POŘADÍ
A24: Raf | E24: 2 | F24: : | G24: 6 | H24: 1 | I24: : | J24: 5 | K24: 1 | L24: : | M24: 1 | N24: 3 | O24: : | P24: 4 | Q24: 8 | R24: : | S24: 6 | T24: 4 | U24: : | V24: 5 | W24: 5 | X24: : | Y24: 4 | Z24: =AA24+AB24+AC24 -> 7 | AA24: 2 | AB24: 1 | AC24: 4 | AD24: =B24+E24+H24+K24+N24+Q24+T24+W24 -> 24 | AE24: : | AF24: =D24+G24+J24+M24+P24+S24+V24+Y24 -> 31 | AG24: =AA24*2+AB24*1 -> 5 | AO24: Udánky
A25: Uda | B25: 6 | C25: : | D25: 2 | H25: 1 | I25: : | J25: 3 | K25: 5 | L25: : | M25: 3 | N25: 5 | O25: : | P25: 0 | Q25: 6 | R25: : | S25: 5 | T25: 7 | U25: : | V25: 3 | W25: 7 | X25: : | Y25: 2 | Z25: =AA25+AB25+AC25 -> 7 | AA25: 6 | AC25: 1 | AD25: =B25+E25+H25+K25+N25+Q25+T25+W25 -> 37 | AE25: : | AF25: =D25+G25+J25+M25+P25+S25+V25+Y25 -> 18 | AG25: =AA25*2+AB25*1 -> 12 | AO25: Verměř.
A26: LDM | B26: 5 | C26: : | D26: 1 | E26: 3 | F26: : | G26: 1 | K26: 6 | L26: : | M26: 6 | N26: 3 | O26: : | P26: 10 | Q26: 0 | R26: : | S26: 5 | T26: 6 | U26: : | V26: 2 | W26: 4 | X26: : | Y26: 6 | Z26: =AA26+AB26+AC26 -> 7 | AA26: 3 | AB26: 1 | AC26: 3 | AD26: =B26+E26+H26+K26+N26+Q26+T26+W26 -> 27 | AE26: : | AF26: =D26+G26+J26+M26+P26+S26+V26+Y26 -> 31 | AG26: =AA26*2+AB26*1 -> 7 | AO26: Lukavice
A27: Slo | B27: 1 | C27: : | D27: 1 | E27: 3 | F27: : | G27: 5 | H27: 6 | I27: : | J27: 6 | N27: 3 | O27: : | P27: 9 | Q27: 1 | R27: : | S27: 1 | T27: 6 | U27: : | V27: 2 | W27: 4 | X27: : | Y27: 10 | Z27: =AA27+AB27+AC27 -> 7 | AA27: 1 | AB27: 3 | AC27: 3 | AD27: =B27+E27+H27+K27+N27+Q27+T27+W27 -> 24 | AE27: : | AF27: =D27+G27+J27+M27+P27+S27+V27+Y27 -> 34 | AG27: =AA27*2+AB27*1 -> 5 | AO27: Sloni
A28: Verm | B28: 4 | C28: : | D28: 3 | E28: 0 | F28: : | G28: 5 | H28: 10 | I28: : | J28: 3 | K28: 9 | L28: : | M28: 3 | Q28: 4 | R28: : | S28: 9 | T28: 6 | U28: : | V28: 4 | W28: 5 | X28: : | Y28: 7 | Z28: =AA28+AB28+AC28 -> 7 | AA28: 4 | AC28: 3 | AD28: =B28+E28+H28+K28+N28+Q28+T28+W28 -> 38 | AE28: : | AF28: =D28+G28+J28+M28+P28+S28+V28+Y28 -> 34 | AG28: =AA28*2+AB28*1 -> 8 | AO28: LDM
A29: Luková | B29: 6 | C29: : | D29: 8 | E29: 5 | F29: : | G29: 6 | H29: 5 | I29: : | J29: 0 | K29: 1 | L29: : | M29: 1 | N29: 9 | O29: : | P29: 4 | T29: 5 | U29: : | V29: 5 | W29: 4 | X29: : | Y29: 5 | Z29: =AA29+AB29+AC29 -> 7 | AA29: 2 | AB29: 2 | AC29: 3 | AD29: =B29+E29+H29+K29+N29+Q29+T29+W29 -> 35 | AE29: : | AF29: =D29+G29+J29+M29+P29+S29+V29+Y29 -> 29 | AG29: =AA29*2+AB29*1 -> 6 | AO29: Luková
A30: Srš | B30: 5 | C30: : | D30: 4 | E30: 3 | F30: : | G30: 7 | H30: 2 | I30: : | J30: 6 | K30: 2 | L30: : | M30: 6 | N30: 4 | O30: : | P30: 6 | Q30: 5 | R30: : | S30: 5 | W30: 9 | X30: : | Y30: 1 | Z30: =AA30+AB30+AC30 -> 7 | AA30: 2 | AB30: 1 | AC30: 4 | AD30: =B30+E30+H30+K30+N30+Q30+T30+W30 -> 30 | AE30: : | AF30: =D30+G30+J30+M30+P30+S30+V30+Y30 -> 35 | AG30: =AA30*2+AB30*1 -> 5 | AO30: Rafani
A31: Lukavice | B31: 4 | C31: : | D31: 5 | E31: 2 | F31: : | G31: 7 | H31: 6 | I31: : | J31: 4 | K31: 10 | L31: : | M31: 4 | N31: 7 | O31: : | P31: 5 | Q31: 5 | R31: : | S31: 4 | T31: 1 | U31: : | V31: 9 | Z31: =AA31+AB31+AC31 -> 7 | AA31: 4 | AC31: 3 | AD31: =B31+E31+H31+K31+N31+Q31+T31+W31 -> 35 | AE31: : | AF31: =D31+G31+J31+M31+P31+S31+V31+Y31 -> 38 | AG31: =AA31*2+AB31*1 -> 8 | AO31: Sršni
Z32: =SUM(Z24:Z31)/2 -> 28 | AD32: =SUM(AD24:AD31) -> 250 | AF32: =SUM(AF24:AF31) -> 250
A34: 4.liga | B34: Slámož. | E34: H.Čermná | H34: H.Třeš | K34: Jedlí | N34: Snakes | Q34: OMB | T34: Štíty | W34: Rájec | Z34: ZÁPASY | AA34: VÍTĚZSTVÍ | AB34: REMÍZY | AC34: PORÁŽKY | AD34: SKÓRE | AG34: BODY | AI34: POŘADÍ
A35: Slámož | E35: 3 | F35: : | G35: 3 | H35: 5 | I35: : | J35: 1 | K35: 8 | L35: : | M35: 1 | N35: 2 | O35: : | P35: 3 | Q35: 10 | R35: : | S35: 0 | T35: 9 | U35: : | V35: 3 | W35: 9 | X35: : | Y35: 3 | Z35: =AA35+AB35+AC35 -> 7 | AA35: 5 | AB35: 1 | AC35: 1 | AD35: =B35+E35+H35+K35+N35+Q35+T35+W35 -> 46 | AE35: : | AF35: =D35+G35+J35+M35+P35+S35+V35+Y35 -> 14 | AG35: =AA35*2+AB35*1 -> 11 | AQ35: Rájec
A36: H.Čermná | B36: 3 | C36: : | D36: 3 | H36: 1 | I36: : | J36: 5 | K36: 1 | L36: : | M36: 3 | N36: 8 | O36: : | P36: 4 | Q36: 3 | R36: : | S36: 0 | T36: 5 | U36: : | V36: 4 | W36: 2 | X36: : | Y36: 5 | Z36: =AA36+AB36+AC36 -> 7 | AA36: 3 | AB36: 1 | AC36: 3 | AD36: =B36+E36+H36+K36+N36+Q36+T36+W36 -> 23 | AE36: : | AF36: =D36+G36+J36+M36+P36+S36+V36+Y36 -> 24 | AG36: =AA36*2+AB36*1 -> 7 | AQ36: Slámožrouti
A37: H.Třeš | B37: 1 | C37: : | D37: 5 | E37: 5 | F37: : | G37: 1 | K37: 2 | L37: : | M37: 6 | N37: 1 | O37: : | P37: 4 | Q37: 10 | R37: : | S37: 3 | T37: 5 | U37: : | V37: 0 | W37: 2 | X37: : | Y37: 6 | Z37: =AA37+AB37+AC37 -> 7 | AA37: 3 | AC37: 4 | AD37: =B37+E37+H37+K37+N37+Q37+T37+W37 -> 26 | AE37: : | AF37: =D37+G37+J37+M37+P37+S37+V37+Y37 -> 25 | AG37: =AA37*2+AB37*1 -> 6 | AQ37: Snakes
A38: Jedlí | B38: 1 | C38: : | D38: 8 | E38: 3 | F38: : | G38: 1 | H38: 6 | I38: : | J38: 2 | N38: 0 | O38: : | P38: 5 | Q38: 2 | R38: : | S38: 4 | T38: 5 | U38: : | V38: 6 | W38: 1 | X38: : | Y38: 3 | Z38: =AA38+AB38+AC38 -> 7 | AA38: 2 | AC38: 5 | AD38: =B38+E38+H38+K38+N38+Q38+T38+W38 -> 18 | AE38: : | AF38: =D38+G38+J38+M38+P38+S38+V38+Y38 -> 29 | AG38: =AA38*2+AB38*1 -> 4 | AQ38: H.Čermná
A39: Snakes | B39: 3 | C39: : | D39: 2 | E39: 4 | F39: : | G39: 8 | H39: 4 | I39: : | J39: 1 | K39: 5 | L39: : | M39: 0 | Q39: 5 | R39: : | S39: 1 | T39: 6 | U39: : | V39: 9 | W39: 2 | X39: : | Y39: 11 | Z39: =AA39+AB39+AC39 -> 7 | AA39: 4 | AC39: 3 | AD39: =B39+E39+H39+K39+N39+Q39+T39+W39 -> 29 | AE39: : | AF39: =D39+G39+J39+M39+P39+S39+V39+Y39 -> 32 | AG39: =AA39*2+AB39*1 -> 8 | AQ39: H.Třeš.
A40: OMB | B40: 0 | C40: : | D40: 10 | E40: 0 | F40: : | G40: 3 | H40: 3 | I40: : | J40: 10 | K40: 4 | L40: : | M40: 2 | N40: 1 | O40: : | P40: 5 | T40: 4 | U40: : | V40: 2 | W40: 1 | X40: : | Y40: 4 | Z40: =AA40+AB40+AC40 -> 7 | AA40: 2 | AC40: 5 | AD40: =B40+E40+H40+K40+N40+Q40+T40+W40 -> 13 | AE40: : | AF40: =D40+G40+J40+M40+P40+S40+V40+Y40 -> 36 | AG40: =AA40*2+AB40*1 -> 4 | AQ40: OMB
A41: Štíty | B41: 3 | C41: : | D41: 9 | E41: 4 | F41: : | G41: 5 | H41: 0 | I41: : | J41: 5 | K41: 6 | L41: : | M41: 5 | N41: 9 | O41: : | P41: 6 | Q41: 2 | R41: : | S41: 4 | W41: 2 | X41: : | Y41: 7 | Z41: =AA41+AB41+AC41 -> 7 | AA41: 2 | AC41: 5 | AD41: =B41+E41+H41+K41+N41+Q41+T41+W41 -> 26 | AE41: : | AF41: =D41+G41+J41+M41+P41+S41+V41+Y41 -> 41 | AG41: =AA41*2+AB41*1 -> 4 | AQ41: Štíty
A42: SK Rájec | B42: 3 | C42: : | D42: 9 | E42: 5 | F42: : | G42: 2 | H42: 6 | I42: : | J42: 2 | K42: 3 | L42: : | M42: 1 | N42: 11 | O42: : | P42: 2 | Q42: 4 | R42: : | S42: 1 | T42: 7 | U42: : | V42: 2 | Z42: =AA42+AB42+AC42 -> 7 | AA42: 6 | AC42: 1 | AD42: =B42+E42+H42+K42+N42+Q42+T42+W42 -> 39 | AE42: : | AF42: =D42+G42+J42+M42+P42+S42+V42+Y42 -> 19 | AG42: =AA42*2+AB42*1 -> 12 | AQ42: Jedlí
Z43: =SUM(Z35:Z42)/2 -> 28 | AD43: =SUM(AD35:AD42) -> 220 | AF43: =SUM(AF35:AF42) -> 220

Sheet 2k
A1: 1A.liga | B1: Soma | E1: Tyg | H1: Nek | K1: Kláš | N1: HT Zábř. | Q1: Bystřec | T1: Cyklo | W1: Lukavice | Z1: ZÁPASY | AA1: VÍTĚZSTVÍ | AB1: REMÍZY | AC1: PORÁŽKY | AD1: SKÓRE | AG1: BODY | AI1: POŘADÍ | AK1: =Z10+Z21+Z32+105+Z44 -> 210
A2: Soma | E2: 8 | F2: : | G2: 4 | H2: 10 | I2: : | J2: 3 | K2: 14 | L2: : | M2: 5 | N2: 12 | O2: : | P2: 1 | Q2: 8 | R2: : | S2: 3 | T2: 14 | U2: : | V2: 1 | W2: 22 | X2: : | Y2: 4 | Z2: =AA2+AB2+AC2 -> 7 | AA2: 7 | AD2: =B2+E2+H2+K2+N2+Q2+T2+W2 -> 88 | AE2: : | AF2: =D2+G2+J2+M2+P2+S2+V2+Y2 -> 21 | AG2: =AA2*2+AB2*1 -> 14 | AI2: 1
A3: Tygři | B3: 4 | C3: : | D3: 8 | H3: 11 | I3: : | J3: 0 | K3: 16 | L3: : | M3: 0 | N3: 11 | O3: : | P3: 5 | Q3: 8 | R3: : | S3: 1 | T3: 7 | U3: : | V3: 2 | W3: 14 | X3: : | Y3: 2 | Z3: =AA3+AB3+AC3 -> 7 | AA3: 6 | AC3: 1 | AD3: =B3+E3+H3+K3+N3+Q3+T3+W3 -> 71 | AE3: : | AF3: =D3+G3+J3+M3+P3+S3+V3+Y3 -> 18 | AG3: =AA3*2+AB3*1 -> 12 | AI3: 2
A4: Nek | B4: 3 | C4: : | D4: 10 | E4: 0 | F4: : | G4: 11 | K4: 3 | L4: : | M4: 4 | N4: 6 | O4: : | P4: 1 | Q4: 4 | R4: : | S4: 4 | T4: 4 | U4: : | V4: 2 | W4: 13 | X4: : | Y4: 1 | Z4: =AA4+AB4+AC4 -> 7 | AA4: 3 | AB4: 1 | AC4: 3 | AD4: =B4+E4+H4+K4+N4+Q4+T4+W4 -> 33 | AE4: : | AF4: =D4+G4+J4+M4+P4+S4+V4+Y4 -> 33 | AG4: =AA4*2+AB4*1 -> 7 | AI4: 4
A5: Klášterec | B5: 5 | C5: : | D5: 14 | E5: 0 | F5: : | G5: 16 | H5: 4 | I5: : | J5: 3 | N5: 3 | O5: : | P5: 8 | Q5: 9 | R5: : | S5: 3 | T5: 5 | U5: : | V5: 7 | W5: 7 | X5: : | Y5: 2 | Z5: =AA5+AB5+AC5 -> 7 | AA5: 3 | AC5: 4 | AD5: =B5+E5+H5+K5+N5+Q5+T5+W5 -> 33 | AE5: : | AF5: =D5+G5+J5+M5+P5+S5+V5+Y5 -> 53 | AG5: =AA5*2+AB5*1 -> 6 | AI5: 5
A6: HT Zábřeh | B6: 1 | C6: : | D6: 12 | E6: 5 | F6: : | G6: 11 | H6: 1 | I6: : | J6: 6 | K6: 8 | L6: : | M6: 3 | Q6: 4 | R6: : | S6: 0 | T6: 7 | U6: : | V6: 0 | W6: 5 | X6: : | Y6: 3 | Z6: =AA6+AB6+AC6 -> 7 | AA6: 4 | AC6: 3 | AD6: =B6+E6+H6+K6+N6+Q6+T6+W6 -> 31 | AE6: : | AF6: =D6+G6+J6+M6+P6+S6+V6+Y6 -> 35 | AG6: =AA6*2+AB6*1 -> 8 | AI6: 3
A7: Bys | B7: 3 | C7: : | D7: 8 | E7: 1 | F7: : | G7: 8 | H7: 4 | I7: : | J7: 4 | K7: 3 | L7: : | M7: 9 | N7: 0 | O7: : | P7: 4 | T7: 15 | U7: : | V7: 2 | W7: 9 | X7: : | Y7: 8 | Z7: =AA7+AB7+AC7 -> 7 | AA7: 2 | AB7: 1 | AC7: 4 | AD7: =B7+E7+H7+K7+N7+Q7+T7+W7 -> 35 | AE7: : | AF7: =D7+G7+J7+M7+P7+S7+V7+Y7 -> 43 | AG7: =AA7*2+AB7*1 -> 5 | AI7: 6
A8: Cyk | B8: 1 | C8: : | D8: 14 | E8: 2 | F8: : | G8: 7 | H8: 2 | I8: : | J8: 4 | K8: 7 | L8: : | M8: 5 | N8: 0 | O8: : | P8: 7 | Q8: 2 | R8: : | S8: 15 | W8: 6 | X8: : | Y8: 1 | Z8: =AA8+AB8+AC8 -> 7 | AA8: 2 | AC8: 5 | AD8: =B8+E8+H8+K8+N8+Q8+T8+W8 -> 20 | AE8: : | AF8: =D8+G8+J8+M8+P8+S8+V8+Y8 -> 53 | AG8: =AA8*2+AB8*1 -> 4 | AI8: 7
A9: Lukavice | B9: 4 | C9: : | D9: 22 | E9: 2 | F9: : | G9: 14 | H9: 1 | I9: : | J9: 13 | K9: 2 | L9: : | M9: 7 | N9: 3 | O9: : | P9: 5 | Q9: 8 | R9: : | S9: 9 | T9: 1 | U9: : | V9: 6 | Z9: =AA9+AB9+AC9 -> 7 | AC9: 7 | AD9: =B9+E9+H9+K9+N9+Q9+T9+W9 -> 21 | AE9: : | AF9: =D9+G9+J9+M9+P9+S9+V9+Y9 -> 76 | AG9: =AA9*2+AB9*1 -> 0 | AI9: 8
Z10: =SUM(Z2:Z9)/2 -> 28 | AD10: =SUM(AD2:AD9) -> 332 | AF10: =SUM(AF2:AF9) -> 332
A12: 1B.liga | B12: Nuget | E12: Heat tech | H12: Těch | K12: Islanders | N12: Udánky | Q12: Lazy | T12: Verměř. | W12: Petrovice | Z12: ZÁPASY | AA12: VÍTĚZSTVÍ | AB12: REMÍZY | AC12: PORÁŽKY | AD12: SKÓRE | AG12: BODY | AI12: POŘADÍ
A13: Nuget | E13: 8 | F13: : | G13: 5 | H13: 5 | I13: : | J13: 1 | K13: 7 | L13: : | M13: 4 | N13: 7 | O13: : | P13: 2 | Q13: 7 | R13: : | S13: 2 | T13: 9 | U13: : | V13: 3 | W13: 6 | X13: : | Y13: 3 | Z13: =AA13+AB13+AC13 -> 7 | AA13: 7 | AD13: =B13+E13+H13+K13+N13+Q13+T13+W13 -> 49 | AE13: : | AF13: =D13+G13+J13+M13+P13+S13+V13+Y13 -> 20 | AG13: =AA13*2+AB13*1 -> 14 | AI13: 1
A14: Heat | B14: 5 | C14: : | D14: 8 | H14: 3 | I14: : | J14: 8 | K14: 10 | L14: : | M14: 3 | N14: 11 | O14: : | P14: 2 | Q14: 4 | R14: : | S14: 6 | T14: 10 | U14: : | V14: 2 | W14: 11 | X14: : | Y14: 7 | Z14: =AA14+AB14+AC14 -> 7 | AA14: 4 | AC14: 3 | AD14: =B14+E14+H14+K14+N14+Q14+T14+W14 -> 54 | AE14: : | AF14: =D14+G14+J14+M14+P14+S14+V14+Y14 -> 36 | AG14: =AA14*2+AB14*1 -> 8 | AI14: 4
A15: Těch | B15: 1 | C15: : | D15: 5 | E15: 8 | F15: : | G15: 3 | K15: 6 | L15: : | M15: 2 | N15: 4 | O15: : | P15: 3 | Q15: 7 | R15: : | S15: 4 | T15: 4 | U15: : | V15: 4 | W15: 6 | X15: : | Y15: 2 | Z15: =AA15+AB15+AC15 -> 7 | AA15: 5 | AB15: 1 | AC15: 1 | AD15: =B15+E15+H15+K15+N15+Q15+T15+W15 -> 36 | AE15: : | AF15: =D15+G15+J15+M15+P15+S15+V15+Y15 -> 23 | AG15: =AA15*2+AB15*1 -> 11 | AI15: 2
A16: Islanders | B16: 4 | C16: : | D16: 7 | E16: 3 | F16: : | G16: 10 | H16: 2 | I16: : | J16: 6 | N16: 7 | O16: : | P16: 4 | Q16: 3 | R16: : | S16: 7 | T16: 6 | U16: : | V16: 2 | W16: 9 | X16: : | Y16: 4 | Z16: =AA16+AB16+AC16 -> 7 | AA16: 3 | AC16: 4 | AD16: =B16+E16+H16+K16+N16+Q16+T16+W16 -> 34 | AE16: : | AF16: =D16+G16+J16+M16+P16+S16+V16+Y16 -> 40 | AG16: =AA16*2+AB16*1 -> 6 | AI16: 5
A17: Udánky | B17: 2 | C17: : | D17: 7 | E17: 2 | F17: : | G17: 11 | H17: 3 | I17: : | J17: 4 | K17: 4 | L17: : | M17: 7 | Q17: 2 | R17: : | S17: 12 | T17: 1 | U17: : | V17: 4 | W17: 6 | X17: : | Y17: 2 | Z17: =AA17+AB17+AC17 -> 7 | AA17: 1 | AC17: 6 | AD17: =B17+E17+H17+K17+N17+Q17+T17+W17 -> 20 | AE17: : | AF17: =D17+G17+J17+M17+P17+S17+V17+Y17 -> 47 | AG17: =AA17*2+AB17*1 -> 2 | AI17: 7
A18: Lazy | B18: 2 | C18: : | D18: 7 | E18: 6 | F18: : | G18: 4 | H18: 4 | I18: : | J18: 7 | K18: 7 | L18: : | M18: 3 | N18: 12 | O18: : | P18: 2 | T18: 9 | U18: : | V18: 7 | W18: 8 | X18: : | Y18: 4 | Z18: =AA18+AB18+AC18 -> 7 | AA18: 5 | AC18: 2 | AD18: =B18+E18+H18+K18+N18+Q18+T18+W18 -> 48 | AE18: : | AF18: =D18+G18+J18+M18+P18+S18+V18+Y18 -> 34 | AG18: =AA18*2+AB18*1 -> 10 | AI18: 3
A19: Verm | B19: 3 | C19: : | D19: 9 | E19: 2 | F19: : | G19: 10 | H19: 4 | I19: : | J19: 4 | K19: 2 | L19: : | M19: 6 | N19: 4 | O19: : | P19: 1 | Q19: 7 | R19: : | S19: 9 | W19: 2 | X19: : | Y19: 6 | Z19: =AA19+AB19+AC19 -> 7 | AA19: 1 | AB19: 1 | AC19: 5 | AD19: =B19+E19+H19+K19+N19+Q19+T19+W19 -> 24 | AE19: : | AF19: =D19+G19+J19+M19+P19+S19+V19+Y19 -> 45 | AG19: =AA19*2+AB19*1 -> 3 | AI19: 6
A20: Pet | B20: 3 | C20: : | D20: 6 | E20: 7 | F20: : | G20: 11 | H20: 2 | I20: : | J20: 6 | K20: 4 | L20: : | M20: 9 | N20: 2 | O20: : | P20: 6 | Q20: 4 | R20: : | S20: 8 | T20: 6 | U20: : | V20: 2 | Z20: =AA20+AB20+AC20 -> 7 | AA20: 1 | AC20: 6 | AD20: =B20+E20+H20+K20+N20+Q20+T20+W20 -> 28 | AE20: : | AF20: =D20+G20+J20+M20+P20+S20+V20+Y20 -> 48 | AG20: =AA20*2+AB20*1 -> 2 | AI20: 8
Z21: =SUM(Z13:Z20)/2 -> 28 | AD21: =SUM(AD13:AD20) -> 293 | AF21: =SUM(AF13:AF20) -> 293
A23: 2.liga | B23: Slámož. | E23: Rájec | H23: BOB | K23: Sloni | N23: LDM | Q23: Flyers | T23: Snakes | W23: Luková | Z23: ZÁPASY | AA23: VÍTĚZSTVÍ | AB23: REMÍZY | AC23: PORÁŽKY | AD23: SKÓRE | AG23: BODY | AI23: POŘADÍ
A24: Slámož | E24: 8 | F24: : | G24: 3 | H24: 2 | I24: : | J24: 5 | K24: 6 | L24: : | M24: 0 | N24: 1 | O24: : | P24: 3 | Q24: 2 | R24: : | S24: 6 | T24: 1 | U24: : | V24: 0 | W24: 6 | X24: : | Y24: 2 | Z24: =AA24+AB24+AC24 -> 7 | AA24: 4 | AC24: 3 | AD24: =B24+E24+H24+K24+N24+Q24+T24+W24 -> 26 | AE24: : | AF24: =D24+G24+J24+M24+P24+S24+V24+Y24 -> 19 | AG24: =AA24*2+AB24*1 -> 8 | AI24: 4
A25: SK Rájec | B25: 3 | C25: : | D25: 8 | H25: 3 | I25: : | J25: 1 | K25: 1 | L25: : | M25: 7 | N25: 13 | O25: : | P25: 3 | Q25: 4 | R25: : | S25: 4 | T25: 7 | U25: : | V25: 1 | W25: 2 | X25: : | Y25: 0 | Z25: =AA25+AB25+AC25 -> 7 | AA25: 4 | AB25: 1 | AC25: 2 | AD25: =B25+E25+H25+K25+N25+Q25+T25+W25 -> 33 | AE25: : | AF25: =D25+G25+J25+M25+P25+S25+V25+Y25 -> 24 | AG25: =AA25*2+AB25*1 -> 9 | AI25: 3
A26: BOB | B26: 5 | C26: : | D26: 2 | E26: 1 | F26: : | G26: 3 | K26: 7 | L26: : | M26: 4 | N26: 5 | O26: : | P26: 3 | Q26: 0 | R26: : | S26: 1 | T26: 5 | U26: : | V26: 0 | W26: 2 | X26: : | Y26: 1 | Z26: =AA26+AB26+AC26 -> 7 | AA26: 5 | AC26: 2 | AD26: =B26+E26+H26+K26+N26+Q26+T26+W26 -> 25 | AE26: : | AF26: =D26+G26+J26+M26+P26+S26+V26+Y26 -> 14 | AG26: =AA26*2+AB26*1 -> 10 | AI26: 2
A27: Slo | B27: 0 | C27: : | D27: 6 | E27: 7 | F27: : | G27: 1 | H27: 4 | I27: : | J27: 7 | N27: 7 | O27: : | P27: 4 | Q27: 2 | R27: : | S27: 6 | T27: 6 | U27: : | V27: 2 | W27: 0 | X27: : | Y27: 5 | Z27: =AA27+AB27+AC27 -> 7 | AA27: 3 | AC27: 4 | AD27: =B27+E27+H27+K27+N27+Q27+T27+W27 -> 26 | AE27: : | AF27: =D27+G27+J27+M27+P27+S27+V27+Y27 -> 31 | AG27: =AA27*2+AB27*1 -> 6 | AI27: 6
A28: LDM | B28: 3 | C28: : | D28: 1 | E28: 3 | F28: : | G28: 13 | H28: 3 | I28: : | J28: 5 | K28: 4 | L28: : | M28: 7 | Q28: 2 | R28: : | S28: 3 | T28: 9 | U28: : | V28: 2 | W28: 4 | X28: : | Y28: 8 | Z28: =AA28+AB28+AC28 -> 7 | AA28: 2 | AC28: 5 | AD28: =B28+E28+H28+K28+N28+Q28+T28+W28 -> 28 | AE28: : | AF28: =D28+G28+J28+M28+P28+S28+V28+Y28 -> 39 | AG28: =AA28*2+AB28*1 -> 4 | AI28: 7
A29: Flyers Třebovice | B29: 6 | C29: : | D29: 2 | E29: 4 | F29: : | G29: 4 | H29: 1 | I29: : | J29: 0 | K29: 6 | L29: : | M29: 2 | N29: 3 | O29: : | P29: 2 | T29: 10 | U29: : | V29: 2 | W29: 3 | X29: : | Y29: 5 | Z29: =AA29+AB29+AC29 -> 7 | AA29: 5 | AB29: 1 | AC29: 1 | AD29: =B29+E29+H29+K29+N29+Q29+T29+W29 -> 33 | AE29: : | AF29: =D29+G29+J29+M29+P29+S29+V29+Y29 -> 17 | AG29: =AA29*2+AB29*1 -> 11 | AI29: 1
A30: Snakes | B30: 0 | C30: : | D30: 1 | E30: 1 | F30: : | G30: 7 | H30: 0 | I30: : | J30: 5 | K30: 2 | L30: : | M30: 6 | N30: 2 | O30: : | P30: 9 | Q30: 2 | R30: : | S30: 10 | W30: 3 | X30: : | Y30: 5 | Z30: =AA30+AB30+AC30 -> 7 | AC30: 7 | AD30: =B30+E30+H30+K30+N30+Q30+T30+W30 -> 10 | AE30: : | AF30: =D30+G30+J30+M30+P30+S30+V30+Y30 -> 43 | AG30: =AA30*2+AB30*1 -> 0 | AI30: 8
A31: Luková | B31: 2 | C31: : | D31: 6 | E31: 0 | F31: : | G31: 2 | H31: 1 | I31: : | J31: 2 | K31: 5 | L31: : | M31: 0 | N31: 8 | O31: : | P31: 4 | Q31: 5 | R31: : | S31: 3 | T31: 5 | U31: : | V31: 3 | Z31: =AA31+AB31+AC31 -> 7 | AA31: 4 | AC31: 3 | AD31: =B31+E31+H31+K31+N31+Q31+T31+W31 -> 26 | AE31: : | AF31: =D31+G31+J31+M31+P31+S31+V31+Y31 -> 20 | AG31: =AA31*2+AB31*1 -> 8 | AI31: 5
Z32: =SUM(Z24:Z31)/2 -> 28 | AD32: =SUM(AD24:AD31) -> 207 | AF32: =SUM(AF24:AF31) -> 207
A36: 3 liga | B36: Raf | E36: Jedlí | H36: OMB | K36: Štíty | N36: Sršni | Q36: H.Třeš | T36: H.Čermná | Z36: ZÁPASY | AA36: VÍTĚZSTVÍ | AB36: REMÍZY | AC36: PORÁŽKY | AD36: SKÓRE | AG36: BODY | AI36: POŘADÍ | AK36: =Z44+Z32+Z21+Z10+105 -> 210
A37: Raf | E37: 3 | F37: : | G37: 3 | H37: 4 | I37: : | J37: 0 | K37: 3 | L37: : | M37: 2 | N37: 5 | O37: : | P37: 7 | Q37: 3 | R37: : | S37: 1 | T37: 2 | U37: : | V37: 3 | Z37: =AA37+AB37+AC37 -> 6 | AA37: 3 | AB37: 1 | AC37: 2 | AD37: =+N37+Q37+T37+K37+H37+E37+B37 -> 20 | AE37: : | AF37: =V37+M37+J37+G37+D37+P37++S37 -> 16 | AG37: =AA37*2+AB37*1 -> 7 | AI37: 3
A38: JEDLI | B38: 3 | C38: : | D38: 3 | H38: 11 | I38: : | J38: 1 | K38: 4 | L38: : | M38: 8 | N38: 5 | O38: : | P38: 4 | Q38: 6 | R38: : | S38: 3 | T38: 2 | U38: : | V38: 2 | Z38: =AA38+AB38+AC38 -> 6 | AA38: 3 | AB38: 2 | AC38: 1 | AD38: =+N38+Q38+T38+K38+H38+E38+B38 -> 31 | AE38: : | AF38: =V38+M38+J38+G38+D38+P38++S38 -> 21 | AG38: =AA38*2+AB38*1 -> 8 | AI38: 1
A39: OMB | B39: 0 | C39: : | D39: 4 | E39: 1 | F39: : | G39: 11 | K39: 2 | L39: : | M39: 11 | N39: 6 | O39: : | P39: 5 | Q39: 2 | R39: : | S39: 5 | T39: 1 | U39: : | V39: 2 | Z39: =AA39+AB39+AC39 -> 6 | AA39: 1 | AC39: 5 | AD39: =+N39+Q39+T39+K39+H39+E39+B39 -> 12 | AE39: : | AF39: =V39+M39+J39+G39+D39+P39++S39 -> 38 | AG39: =AA39*2+AB39*1 -> 2 | AI39: 7
A40: Štíty | B40: 2 | C40: : | D40: 3 | E40: 8 | F40: : | G40: 4 | H40: 11 | I40: : | J40: 2 | N40: 5 | O40: : | P40: 5 | Q40: 1 | R40: : | S40: 8 | T40: 5 | U40: : | V40: 5 | Z40: =AA40+AB40+AC40 -> 6 | AA40: 2 | AB40: 2 | AC40: 2 | AD40: =+N40+Q40+T40+K40+H40+E40+B40 -> 32 | AE40: : | AF40: =V40+M40+J40+G40+D40+P40++S40 -> 27 | AG40: =AA40*2+AB40*1 -> 6 | AI40: 6
A41: Srš | B41: 7 | C41: : | D41: 5 | E41: 4 | F41: : | G41: 5 | H41: 5 | I41: : | J41: 6 | K41: 5 | L41: : | M41: 5 | Q41: 8 | R41: : | S41: 3 | T41: 6 | U41: : | V41: 2 | Z41: =AA41+AB41+AC41 -> 6 | AA41: 3 | AB41: 1 | AC41: 2 | AD41: =+N41+Q41+T41+K41+H41+E41+B41 -> 35 | AE41: : | AF41: =V41+M41+J41+G41+D41+P41++S41 -> 26 | AG41: =AA41*2+AB41*1 -> 7 | AI41: 2
A42: H.Třeš | B42: 1 | C42: : | D42: 3 | E42: 3 | F42: : | G42: 6 | H42: 5 | I42: : | J42: 2 | K42: 8 | L42: : | M42: 1 | N42: 3 | O42: : | P42: 8 | T42: 7 | U42: : | V42: 4 | Z42: =AA42+AB42+AC42 -> 6 | AA42: 3 | AC42: 3 | AD42: =+N42+Q42+T42+K42+H42+E42+B42 -> 27 | AE42: : | AF42: =V42+M42+J42+G42+D42+P42++S42 -> 24 | AG42: =AA42*2+AB42*1 -> 6 | AI42: 4
A43: H.Čermná | B43: 3 | C43: : | D43: 2 | E43: 2 | F43: : | G43: 2 | H43: 2 | I43: : | J43: 1 | K43: 5 | L43: : | M43: 5 | N43: 2 | O43: : | P43: 6 | Q43: 4 | R43: : | S43: 7 | Z43: =AA43+AB43+AC43 -> 6 | AA43: 2 | AB43: 2 | AC43: 2 | AD43: =+N43+Q43+T43+K43+H43+E43+B43 -> 18 | AE43: : | AF43: =V43+M43+J43+G43+D43+P43++S43 -> 23 | AG43: =AA43*2+AB43*1 -> 6 | AI43: 5
Z44: =SUM(Z37:Z43)/2 -> 21 | AD44: =SUM(AD37:AD43) -> 175 | AF44: =SUM(AF37:AF43) -> 175
A78: A1
A79: 1.1. | B79: 6 | D79: 7 | E79: 6 | H79: =B79+D79+E79 -> 19 | AK79: Soma | AL79: 15650
A80: 1.3. | B80: 6 | D80: 7 | E80: 6 | H80: =B80+D80+E80 -> 19 | AK80: Tygři | AL80: 15650
A81: 1.5. | B81: 6 | D81: 7 | E81: 6 | H81: =B81+D81+E81 -> 19 | AK81: Heat t. | AL81: 15650
A82: 1.7. | B82: 6 | D82: 7 | E82: 6 | H82: =B82+D82+E82 -> 19 | AK82: Klas | AL82: 15650
A83: 2.2. | B83: 7 | D83: 7 | E83: 6 | H83: =B83+D83+E83 -> 20 | AK83: Klášt. | AL83: 15650
A84: 2.4. | B84: 7 | D84: 7 | E84: 6 | H84: =B84+D84+E84 -> 20 | AK84: Nuget | AL84: 15650
A85: 2.6. | B85: 7 | D85: 7 | E85: 6 | H85: =B85+D85+E85 -> 20 | AK85: Těch. | AL85: 15650
A86: 3.2. | B86: 7 | D86: 7 | E86: 6 | H86: =B86+D86+E86 -> 20
AK89: 2.liga
AK90: HT Zábřeh | AL90: 17500
A91: A2 | AK91: Cyk | AL91: 17500
A92: 1.2. | B92: 6 | D92: 7 | E92: 6 | H92: =B92+D92+E92 -> 19 | AK92: Lazy | AL92: 17500
A93: 1.4. | B93: 6 | D93: 7 | E93: 6 | H93: =B93+D93+E93 -> 19 | AK93: Islanders | AL93: 17500
A94: 1.6. | B94: 6 | D94: 7 | E94: 6 | H94: =B94+D94+E94 -> 19 | AK94: Bys | AL94: 17500
A95: 2.1. | B95: 7 | D95: 7 | E95: 6 | H95: =B95+D95+E95 -> 20 | AK95: Fly Třebovice | AL95: 17500
A96: 2.3. | B96: 7 | D96: 7 | E96: 6 | H96: =B96+D96+E96 -> 20 | AK96: Pet | AL96: 17500
A97: 2.5. | B97: 7 | D97: 7 | E97: 6 | H97: =B97+D97+E97 -> 20 | AK97: BOB | AL97: 17500
A98: 3.1. | B98: 7 | D98: 7 | E98: 6 | H98: =B98+D98+E98 -> 20
A99: 3.3. | B99: 7 | D99: 7 | E99: 6 | H99: =B99+D99+E99 -> 20
AK100: 3.liga
AK101: Raf | AL101: 15650
A102: B | AK102: Uda | AL102: 17500
A103: 2.7. | B103: 7 | D103: 7 | E103: 6 | H103: =B103+D103+E103 -> 20 | AK103: LDM
A104: 2.8. | B104: 7 | D104: 7 | E104: 6 | H104: =B104+D104+E104 -> 20 | AK104: Slo
A105: 3.4. | B105: 7 | D105: 7 | E105: 6 | H105: =B105+D105+E105 -> 20 | AK105: Verm
A106: 3.5. | B106: 7 | D106: 7 | E106: 6 | H106: =B106+D106+E106 -> 20 | AK106: Luková
A107: 3.6. | B107: 7 | D107: 7 | E107: 6 | H107: =B107+D107+E107 -> 20 | AK107: Srš
A108: 4.1. | B108: 7 | D108: 7 | E108: 6 | H108: =B108+D108+E108 -> 20 | AK108: Lukavice
A109: 4.2. | B109: 7 | D109: 7 | E109: 6 | H109: =B109+D109+E109 -> 20
A110: 4.3. | B110: 7 | D110: 7 | E110: 6 | H110: =B110+D110+E110 -> 20
AK111: 4.liga
AK112: Slámož | AL112: 17500
A113: C | AK113: H.Čermná
A114: 3.7. | B114: 7 | D114: 6 | E114: 6 | H114: =B114+D114+E114 -> 19 | AK114: H.Třeš
A115: 3.8. | B115: 7 | D115: 6 | E115: 6 | H115: =B115+D115+E115 -> 19 | AK115: JEDLI | AL115: 15650
A116: 4.4. | B116: 7 | D116: 6 | E116: 6 | H116: =B116+D116+E116 -> 19 | AK116: Snakes
A117: 4.5. | B117: 7 | D117: 6 | E117: 6 | H117: =B117+D117+E117 -> 19 | AK117: OMB | AL117: 15650
A118: 4.6. | B118: 7 | D118: 6 | E118: 6 | H118: =B118+D118+E118 -> 19 | AK118: Štíty | AL118: 15650
A119: 4.7. | B119: 7 | D119: 6 | E119: 6 | H119: =B119+D119+E119 -> 19 | AK119: SK Rájec | AL119: 17500
A120: 4.8. | B120: 7 | D120: 6 | E120: 6 | H120: =B120+D120+E120 -> 19
H122: =SUM(H79:H121) -> 606

Sheet 3k
A2: 1.liga | B2: Soma | E2: Tygři | H2: Nuget | K2: Těchonín | P2: ZÁPASY | Q2: VÍTĚZSTVÍ | R2: REMÍZY | S2: PORÁŽKY | T2: SKÓRE | W2: BODY | Y2: POŘADÍ
A3: Soma | E3: 11 | G3: 2 | H3: 7 | J3: 3 | K3: 10 | L3: : | M3: 6 | P3: =Q3+R3+S3 -> 6 | Q3: 6 | T3: =B3+E3+H3+K3+B4+E4+H4+K4 -> 56 | U3: : | V3: =D3+J3+M3+M4+J4+G4+D4+G3 -> 27 | W3: =Q3*2+R3*1 -> 12 | Y3: 1
E4: 11 | G4: 7 | H4: 10 | J4: 5 | K4: 7 | L4: : | M4: 4
A5: Tygři | B5: 2 | C5: : | D5: 11 | H5: 7 | J5: 4 | K5: 4 | L5: : | M5: 1 | P5: =Q5+R5+S5 -> 6 | Q5: 4 | S5: 2 | T5: =B5+E5+H5+K5+B6+E6+H6+K6 -> 35 | U5: : | V5: =D5+J5+M5+M6+J6+G6+D6+G5 -> 33 | W5: =Q5*2+R5*1 -> 8 | Y5: 2
B6: 7 | C6: : | D6: 11 | H6: 8 | J6: 3 | K6: 7 | L6: : | M6: 3
A7: Nuget | B7: 3 | C7: : | D7: 7 | E7: 4 | G7: 7 | K7: 8 | L7: : | M7: 1 | P7: =Q7+R7+S7 -> 6 | Q7: 2 | S7: 4 | T7: =B7+E7+H7+K7+B8+E8+H8+K8 -> 34 | U7: : | V7: =D7+J7+M7+M8+J8+G8+D8+G7 -> 35 | W7: =Q7*2+R7*1 -> 4 | Y7: 3
B8: 5 | C8: : | D8: 10 | E8: 3 | G8: 8 | K8: 11 | L8: : | M8: 2
A9: Těchonín | B9: 6 | C9: : | D9: 10 | E9: 1 | G9: 4 | H9: 1 | J9: 8 | P9: =Q9+R9+S9 -> 5 | S9: 5 | T9: =B9+E9+H9+K9+B10+E10+H10+K10 -> 17 | U9: : | V9: =D9+J9+M9+M10+J10+G10+D10+G9 -> 47 | W9: =Q9*2+R9*1 -> 0 | Y9: 4
B10: 4 | C10: : | D10: 7 | E10: 3 | G10: 7 | H10: 2 | J10: 11
A13: 2.liga | B13: HT Zábřeh | E13: Nekoř | H13: Lazy | K13: Heat tech | P13: ZÁPASY | Q13: VÍTĚZSTVÍ | R13: REMÍZY | S13: PORÁŽKY | T13: SKÓRE | W13: BODY | Y13: POŘADÍ
A14: HT Zábřeh | E14: 5 | G14: 2 | H14: 3 | J14: 3 | K14: 5 | M14: 4 | P14: =Q14+R14+S14 -> 6 | Q14: 2 | R14: 1 | S14: 3 | T14: =B14+E14+H14+K14+B15+E15+H15+K15 -> 22 | U14: : | V14: =M14+J14+G14+D14+D15+G15+J15+M15 -> 23 | W14: =Q14*2+R14*1 -> 5 | Y14: 3
E15: 3 | G15: 4 | H15: 4 | J15: 7 | K15: 2 | M15: 3
A16: Nekoř | B16: 2 | D16: 5 | H16: 2 | J16: 3 | K16: 3 | M16: 7 | P16: =Q16+R16+S16 -> 6 | Q16: 2 | S16: 4 | T16: =B16+E16+H16+K16+B17+E17+H17+K17 -> 25 | U16: : | V16: =M16+J16+G16+D16+D17+G17+J17+M17 -> 23 | W16: =Q16*2+R16*1 -> 4 | Y16: 4
B17: 4 | D17: 3 | H17: 11 | J17: 1 | K17: 3 | M17: 4
A18: Lazy N. | B18: 3 | D18: 3 | E18: 3 | G18: 2 | K18: 4 | M18: 5 | P18: =Q18+R18+S18 -> 6 | Q18: 2 | R18: 1 | S18: 3 | T18: =B18+E18+H18+K18+B19+E19+H19+K19 -> 21 | U18: : | V18: =M18+J18+G18+D18+D19+G19+J19+M19 -> 34 | W18: =Q18*2+R18*1 -> 5 | Y18: 2
B19: 7 | D19: 4 | E19: 1 | G19: 11 | K19: 3 | M19: 9
A20: Heat tech | B20: 4 | D20: 5 | E20: 7 | G20: 3 | H20: 5 | J20: 4 | P20: =Q20+R20+S20 -> 6 | Q20: 5 | S20: 1 | T20: =B20+E20+H20+K20+B21+E21+H21+K21 -> 32 | U20: : | V20: =M20+J20+G20+D20+D21+G21+J21+M21 -> 20 | W20: =Q20*2+R20*1 -> 10 | Y20: 1
B21: 3 | D21: 2 | E21: 4 | G21: 3 | H21: 9 | J21: 3
A24: 3.liga | B24: Bystřec | E24: Klášterec | H24: Islanders | K24: Verměřovice | P24: ZÁPASY | Q24: VÍTĚZSTVÍ | R24: REMÍZY | S24: PORÁŽKY | T24: SKÓRE | W24: BODY | Y24: POŘADÍ
A25: Bystřec | E25: 2 | G25: 3 | H25: 2 | J25: 5 | K25: 5 | M25: 5 | P25: =Q25+R25+S25 -> 6 | Q25: 1 | R25: 1 | S25: 4 | T25: =K25+H25+E25+B25+K26+H26+E26+B26 -> 21 | U25: : | V25: =M25+J25+G25+D25+M26+J26+G26+D26 -> 27 | W25: =Q25*2+R25*1 -> 3 | Y25: 4
E26: 3 | G26: 5 | H26: 7 | J26: 5 | K26: 2 | M26: 4
A27: Klášterec | B27: 3 | D27: 2 | H27: 2 | J27: 4 | K27: 4 | M27: 4 | P27: =Q27+R27+S27 -> 6 | Q27: 3 | R27: 1 | S27: 2 | T27: =K27+H27+E27+B27+K28+H28+E28+B28 -> 22 | U27: : | V27: =M27+J27+G27+D27+M28+J28+G28+D28 -> 23 | W27: =Q27*2+R27*1 -> 7 | Y27: 2
B28: 5 | D28: 3 | H28: 3 | J28: 6 | K28: 5 | M28: 4
A29: Islanders | B29: 5 | D29: 2 | E29: 4 | G29: 2 | K29: 6 | M29: 2 | P29: =Q29+R29+S29 -> 6 | Q29: 5 | S29: 1 | T29: =K29+H29+E29+B29+K30+H30+E30+B30 -> 35 | U29: : | V29: =M29+J29+G29+D29+M30+J30+G30+D30 -> 22 | W29: =Q29*2+R29*1 -> 10 | Y29: 1
B30: 5 | D30: 7 | E30: 6 | G30: 3 | K30: 9 | M30: 6
A31: Verměřov. | B31: 5 | D31: 5 | E31: 4 | G31: 4 | H31: 2 | J31: 6 | P31: =Q31+R31+S31 -> 6 | Q31: 1 | R31: 2 | S31: 3 | T31: =K31+H31+E31+B31+K32+H32+E32+B32 -> 25 | U31: : | V31: =M31+J31+G31+D31+M32+J32+G32+D32 -> 31 | W31: =Q31*2+R31*1 -> 4 | Y31: 3
B32: 4 | D32: 2 | E32: 4 | G32: 5 | H32: 6 | J32: 9
A35: 4.liga | B35: Cyklo | E35: Udánky | H35: Flyers | K35: Bobři | P35: ZÁPASY | Q35: VÍTĚZSTVÍ | R35: REMÍZY | S35: PORÁŽKY | T35: SKÓRE | W35: BODY | Y35: POŘADÍ
A36: Cyklo | E36: 3 | F36: : | G36: 0 | H36: 2 | I36: : | J36: 3 | K36: 4 | L36: . | M36: 3 | P36: =Q36+R36+S36 -> 6 | Q36: 3 | S36: 3 | T36: =K36+H36+E36+B36+B37+E37+H37+K37 -> 20 | U36: : | V36: =M36+J36+G36+D36+D37+G37+J37+M37 -> 21 | W36: =Q36*2+R36*1 -> 6 | Y36: 3
E37: 7 | F37: : | G37: 4 | H37: 1 | I37: : | J37: 4 | K37: 3 | L37: : | M37: 7
A38: Udánky | B38: 0 | C38: : | D38: 3 | H38: 3 | I38: : | J38: 2 | K38: 7 | L38: : | M38: 3 | P38: =Q38+R38+S38 -> 6 | Q38: 2 | S38: 4 | T38: =K38+H38+E38+B38+B39+E39+H39+K39 -> 22 | U38: : | V38: =M38+J38+G38+D38+D39+G39+J39+M39 -> 29 | W38: =Q38*2+R38*1 -> 4 | Y38: 4
B39: 4 | C39: : | D39: 7 | H39: 3 | I39: : | J39: 8 | K39: 5 | L39: : | M39: 6
A40: Flyers | B40: 3 | C40: : | D40: 2 | E40: 2 | F40: : | G40: 3 | K40: 0 | L40: : | M40: 6 | P40: =Q40+R40+S40 -> 6 | Q40: 3 | R40: 1 | S40: 2 | T40: =K40+H40+E40+B40+B41+E41+H41+K41 -> 20 | U40: : | V40: =M40+J40+G40+D40+D41+G41+J41+M41 -> 18 | W40: =Q40*2+R40*1 -> 7 | Y40: 2
B41: 4 | C41: . | D41: 1 | E41: 8 | F41: . | G41: 3 | K41: 3 | L41: : | M41: 3
A42: Bobři | B42: 3 | C42: : | D42: 4 | E42: 3 | F42: : | G42: 7 | H42: 6 | I42: . | J42: 0 | P42: =Q42+R42+S42 -> 6 | Q42: 3 | R42: 1 | S42: 2 | T42: =K42+H42+E42+B42+B43+E43+H43+K43 -> 28 | U42: : | V42: =M42+J42+G42+D42+D43+G43+J43+M43 -> 22 | W42: =Q42*2+R42*1 -> 7 | Y42: 1
B43: 7 | C43: : | D43: 3 | E43: 6 | F43: : | G43: 5 | H43: 3 | I43: : | J43: 3
A45: 5.liga | B45: Lukavice | E45: Petrovice | H45: Rájec | K45: Slámožrouti | P45: ZÁPASY | Q45: VÍTĚZSTVÍ | R45: REMÍZY | S45: PORÁŽKY | T45: SKÓRE | W45: BODY | Y45: POŘADÍ
A46: Lukavice | E46: 4 | G46: 9 | H46: 1 | J46: 10 | K46: 0 | L46: . | M46: 6 | P46: =Q46+R46+S46 -> 6 | Q46: 2 | S46: 4 | T46: =K46+H46+E46+B46+B47+E47+H47+K47 -> 18 | U46: : | V46: =M46+J46+G46+D46+D47+G47+J47+M47 -> 36 | W46: =Q46*2+R46*1 -> 4 | Y46: 4
E47: 5 | G47: 6 | H47: 3 | J47: 1 | K47: 5 | L47: : | M47: 4
A48: Petrovice | B48: 9 | D48: 4 | H48: 3 | J48: 3 | K48: 7 | L48: : | M48: 6 | P48: =Q48+R48+S48 -> 6 | Q48: 3 | R48: 3 | T48: =K48+H48+E48+B48+B49+E49+H49+K49 -> 32 | U48: : | V48: =M48+J48+G48+D48+D49+G49+J49+M49 -> 25 | W48: =Q48*2+R48*1 -> 9 | Y48: 1
B49: 6 | D49: 5 | H49: 4 | J49: 4 | K49: 3 | L49: : | M49: 3
A50: Rájec | B50: 10 | D50: 1 | E50: 3 | G50: 3 | K50: 6 | L50: : | M50: 1 | P50: =Q50+R50+S50 -> 6 | Q50: 2 | R50: 2 | S50: 2 | T50: =K50+H50+E50+B50+B51+E51+H51+K51 -> 27 | U50: : | V50: =M50+J50+G50+D50+D51+G51+J51+M51 -> 16 | W50: =Q50*2+R50*1 -> 6 | Y50: 2
B51: 1 | D51: 3 | E51: 4 | G51: 4 | K51: 3 | L51: : | M51: 4
A52: Slámožr. | B52: 6 | D52: 0 | E52: 6 | G52: 7 | H52: 1 | J52: 6 | P52: =Q52+R52+S52 -> 6 | Q52: 2 | R52: 1 | S52: 3 | T52: =K52+H52+E52+B52+B53+E53+H53+K53 -> 24 | U52: : | V52: =M52+J52+G52+D52+D53+G53+J53+M53 -> 24 | W52: =Q52*2+R52*1 -> 5 | Y52: 3
B53: 4 | D53: 5 | E53: 3 | G53: 3 | H53: 4 | J53: 3
A56: 6.liga | B56: Luková | E56: Sloni | H56: Jedlí | K56: Sršni | P56: ZÁPASY | Q56: VÍTĚZSTVÍ | R56: REMÍZY | S56: PORÁŽKY | T56: SKÓRE | W56: BODY | Y56: POŘADÍ
A57: Luková | E57: 6 | F57: : | G57: 6 | H57: 3 | I57: : | J57: 2 | K57: 7 | L57: . | M57: 1 | P57: =Q57+R57+S57 -> 6 | Q57: 4 | R57: 1 | S57: 1 | T57: =B57+E57+H57+K57+K58+H58+E58+B58 -> 27 | U57: : | V57: =J58+G58+D58+D57+G57+J57+M58+M57 -> 18 | W57: =Q57*2+R57*1 -> 9 | Y57: 1
E58: 2 | F58: : | G58: 3 | H58: 3 | J58: 1 | K58: 6 | L58: : | M58: 5
A59: Sloni | B59: 6 | C59: : | D59: 6 | H59: 7 | J59: 2 | K59: 3 | L59: : | M59: 5 | P59: =Q59+R59+S59 -> 6 | Q59: 3 | R59: 1 | S59: 2 | T59: =B59+E59+H59+K59+K60+H60+E60+B60 -> 31 | U59: : | V59: =J60+G60+D60+D59+G59+J59+M60+M59 -> 29 | W59: =Q59*2+R59*1 -> 7 | Y59: 2
B60: 3 | C60: . | D60: 2 | H60: 4 | J60: 9 | K60: 8 | L60: : | M60: 5
A61: Jedlí | B61: 2 | C61: : | D61: 3 | E61: 2 | F61: : | G61: 7 | K61: 4 | L61: : | M61: 2 | P61: =Q61+R61+S61 -> 6 | Q61: 2 | S61: 4 | T61: =B61+E61+H61+K61+K62+H62+E62+B62 -> 19 | U61: : | V61: =J62+G62+D62+D61+G61+J61+M62+M61 -> 24 | W61: =Q61*2+R61*1 -> 4 | Y61: 4
B62: 1 | C62: : | D62: 3 | E62: 9 | F62: : | G62: 4 | K62: 1 | L62: : | M62: 5
A63: Sršni | B63: 1 | C63: : | D63: 7 | E63: 5 | F63: : | G63: 3 | H63: 2 | J63: 4 | P63: =Q63+R63+S63 -> 6 | Q63: 2 | S63: 4 | T63: =B63+E63+H63+K63+K64+H64+E64+B64 -> 23 | U63: : | V63: =J64+G64+D64+D63+G63+J63+M64+M63 -> 29 | W63: =Q63*2+R63*1 -> 4 | Y63: 3
B64: 5 | C64: : | D64: 6 | E64: 5 | F64: : | G64: 8 | H64: 5 | J64: 1

Sheet 3k.7
A2: 7. liga | B2: =A3 -> LDM | E2: =A4 -> Snakes | H2: =A5 -> Štíty | K2: =A6 -> Rafani | N2: =A7 -> H.Třeš. | Q2: H.Čermná | T2: =A9 -> OMB | Z2: ZÁPASY | AA2: VÍTĚZSTVÍ | AB2: REMÍZY | AC2: PORÁŽKY | AD2: SKÓRE | AG2: BODY | AI2: POŘADÍ | AK2: =Z10+Z22+Z33+Z44 -> 21
A3: LDM | E3: 3 | F3: : | G3: 7 | H3: 0 | I3: : | J3: 5 | K3: 7 | L3: : | M3: 5 | N3: 6 | O3: : | P3: 6 | Q3: 0 | R3: : | S3: 6 | T3: 3 | U3: : | V3: 1 | Z3: =AA3+AB3+AC3 -> 6 | AA3: 2 | AB3: 1 | AC3: 3 | AD3: =+N3+Q3+T3+K3+H3+E3+B3 -> 19 | AE3: : | AF3: =V3+M3+J3+G3+D3+P3++S3 -> 30 | AG3: =AA3*2+AB3*1 -> 5 | AI3: 6
A4: Snakes | B4: 7 | C4: : | D4: 3 | H4: 6 | I4: : | J4: 3 | K4: 3 | L4: : | M4: 7 | N4: 1 | O4: : | P4: 6 | Q4: 3 | R4: : | S4: 1 | T4: 6 | U4: : | V4: 1 | Z4: =AA4+AB4+AC4 -> 6 | AA4: 4 | AC4: 2 | AD4: =+N4+Q4+T4+K4+H4+E4+B4 -> 26 | AE4: : | AF4: =V4+M4+J4+G4+D4+P4++S4 -> 21 | AG4: =AA4*2+AB4*1 -> 8 | AI4: 1
A5: Štíty | B5: 5 | C5: : | D5: 0 | E5: 3 | F5: : | G5: 6 | K5: 0 | L5: : | M5: 5 | N5: 4 | O5: : | P5: 4 | Q5: 5 | R5: : | S5: 1 | T5: 15 | U5: : | V5: 6 | Z5: =AA5+AB5+AC5 -> 6 | AA5: 3 | AB5: 1 | AC5: 2 | AD5: =+N5+Q5+T5+K5+H5+E5+B5 -> 32 | AE5: : | AF5: =V5+M5+J5+G5+D5+P5++S5 -> 22 | AG5: =AA5*2+AB5*1 -> 7 | AI5: 3
A6: Rafani | B6: 5 | C6: : | D6: 7 | E6: 7 | F6: : | G6: 3 | H6: 5 | I6: : | J6: 0 | N6: 6 | O6: : | P6: 4 | Q6: 3 | R6: : | S6: 3 | T6: 0 | U6: : | V6: 5 | Z6: =AA6+AB6+AC6 -> 6 | AA6: 3 | AB6: 1 | AC6: 2 | AD6: =+N6+Q6+T6+K6+H6+E6+B6 -> 26 | AE6: : | AF6: =V6+M6+J6+G6+D6+P6++S6 -> 22 | AG6: =AA6*2+AB6*1 -> 7 | AI6: 2
A7: H.Třeš. | B7: 6 | C7: : | D7: 6 | E7: 6 | F7: : | G7: 1 | H7: 4 | I7: : | J7: 4 | K7: 4 | L7: : | M7: 6 | Q7: 1 | R7: : | S7: 1 | T7: 2 | U7: : | V7: 5 | Z7: =AA7+AB7+AC7 -> 6 | AA7: 1 | AB7: 3 | AC7: 2 | AD7: =+N7+Q7+T7+K7+H7+E7+B7 -> 23 | AE7: : | AF7: =V7+M7+J7+G7+D7+P7++S7 -> 23 | AG7: =AA7*2+AB7*1 -> 5 | AI7: 5
A8: H.Čermná | B8: 6 | C8: : | D8: 0 | E8: 1 | F8: : | G8: 3 | H8: 1 | I8: : | J8: 5 | K8: 3 | L8: : | M8: 3 | N8: 1 | O8: : | P8: 1 | T8: 8 | U8: : | V8: 5 | Z8: =AA8+AB8+AC8 -> 6 | AA8: 2 | AB8: 2 | AC8: 2 | AD8: =+N8+Q8+T8+K8+H8+E8+B8 -> 20 | AE8: : | AF8: =V8+M8+J8+G8+D8+P8++S8 -> 17 | AG8: =AA8*2+AB8*1 -> 6 | AI8: 4
A9: OMB | B9: 1 | C9: : | D9: 3 | E9: 1 | F9: : | G9: 6 | H9: 6 | I9: : | J9: 15 | K9: 5 | L9: : | M9: 0 | N9: 5 | O9: : | P9: 2 | Q9: 5 | R9: : | S9: 8 | Z9: =AA9+AB9+AC9 -> 6 | AA9: 2 | AC9: 4 | AD9: =+N9+Q9+T9+K9+H9+E9+B9 -> 23 | AE9: : | AF9: =V9+M9+J9+G9+D9+P9++S9 -> 34 | AG9: =AA9*2+AB9*1 -> 4 | AI9: 7
Z10: =SUM(Z3:Z9)/2 -> 21 | AD10: =SUM(AD3:AD9) -> 169 | AF10: =SUM(AF3:AF9) -> 169

Sheet Statis.
C1: =(H38+H65+H88+H125+H166+H194+H232+H260+H298+H336+H370+H413+H444+H478+H510+H549+H583+H611+H656+H693+H730+H756+H783+H813+H851+H886+H916+H947+H978+H1014+H1042)/2 -> 303
A2: SOMA | B2: 1 | R2: G | S2: ó | T2: l | U2: y | AO2: a | AP2: s | AQ2: i | AR2: s | AS2: t | AT2: e | AU2: n | AV2: c | AW2: e | BG2: T | BH2: r | BI2: e | BJ2: s | BK2: t | BL2: y
B3: Příjmení | C3: Jméno | D3: Narozen | E3: typ hráče | F3: Tým | G3: průměr | H3: Zá | I3: Gó. | J3: As. | K3: Body | L3: Tr. | O3: 1 | P3: 2 | Q3: 3 | R3: 4 | S3: 5 | T3: 6 | U3: 7 | V3: 8 | W3: 9 | X3: 10 | Y3: 11 | Z3: 12 | AA3: 13 | AB3: 14 | AC3: 15 | AD3: 16 | AE3: 17 | AF3: 18 | AG3: 19 | AH3: 20 | AJ3: 1 | AK3: 2 | AL3: 3 | AM3: 4 | AN3: 5 | AO3: 6 | AP3: 7 | AQ3: 8 | AR3: 9 | AS3: 10 | AT3: 11 | AU3: 12 | AV3: 13 | AW3: 14 | AX3: 15 | AY3: 16 | AZ3: 17 | BA3: 18 | BB3: 19 | BC3: 20 | BE3: 1 | BF3: 2 | BG3: 3 | BH3: 4 | BI3: 5 | BJ3: 6 | BK3: 7 | BL3: 8 | BM3: 9 | BN3: 10 | BO3: 11 | BP3: 12 | BQ3: 13 | BR3: 14 | BS3: 15 | BT3: 16 | BU3: 17 | BV3: 18 | BW3: 19 | BX3: 20
A4: =SOM!B18 -> 2 | B4: =SOM!C18 -> Sonntag | C4: =SOM!D18 -> Lukáš | D4: =SOM!E18 -> 820112 | E4: =SOM!F18 -> JH | F4: =SOM!G18 -> SOM | G4: =K4/H4 -> #DIV/0! | H4: =COUNT(O4:AH4) -> 0 | I4: =SUM(O4+P4+Q4+R4+S4+T4+V4+U4+W4+X4+Y4+Z4+AA4+AB4+AC4+AD4+AE4+AF4+AG4+AH4) -> 0 | J4: =AJ4+AK4+AL4+AM4+AN4+AO4+AP4+AQ4+AR4+AS4+AT4+AU4+AV4+AW4+AX4+AY4+AZ4+BA4+BB4+BC4 -> 0 | K4: =I4+J4 -> 0 | L4: =BE4+BF4+BG4+BH4+BI4+BJ4+BK4+BL4+BM4+BN4+BO4+BP4+BR4+BQ4+BS4+BT4+BU4+BV4+BW4+BX4 -> 0
A5: =SOM!B19 -> 5 | B5: =SOM!C19 -> Zeman | C5: =SOM!D19 -> Břetislav | D5: =SOM!E19 -> 750522 | E5: =SOM!F19 -> JH | F5: =SOM!G19 -> SOM | G5: =K5/H5 -> 0.57142857 | H5: =COUNT(O5:AH5) -> 14 | I5: =SUM(O5+P5+Q5+R5+S5+T5+V5+U5+W5+X5+Y5+Z5+AA5+AB5+AC5+AD5+AE5+AF5+AG5+AH5) -> 3 | J5: =AJ5+AK5+AL5+AM5+AN5+AO5+AP5+AQ5+AR5+AS5+AT5+AU5+AV5+AW5+AX5+AY5+AZ5+BA5+BB5+BC5 -> 5 | K5: =I5+J5 -> 8 | L5: =BE5+BF5+BG5+BH5+BI5+BJ5+BK5+BL5+BM5+BN5+BO5+BP5+BR5+BQ5+BS5+BT5+BU5+BV5+BW5+BX5 -> 0 | Q5: 0 | R5: 0 | T5: 0 | U5: 0 | V5: 1 | X5: 1 | Y5: 0 | Z5: 1 | AA5: 0 | AB5: 0 | AC5: 0 | AE5: 0 | AF5: 0 | AG5: 0 | AL5: 1 | AM5: 1 | AO5: 0 | AP5: 1 | AQ5: 1 | AS5: 0 | AT5: 0 | AU5: 0 | AV5: 0 | AW5: 0 | AX5: 0 | AZ5: 1 | BA5: 0 | BB5: 0
A6: =SOM!B20 -> 6 | B6: =SOM!C20 -> Kobza | C6: =SOM!D20 -> Jan | D6: =SOM!E20 -> 941105 | E6: =SOM!F20 -> JH | F6: =SOM!G20 -> SOM | G6: =K6/H6 -> 3.9444444 | H6: =COUNT(O6:AH6) -> 18 | I6: =SUM(O6+P6+Q6+R6+S6+T6+V6+U6+W6+X6+Y6+Z6+AA6+AB6+AC6+AD6+AE6+AF6+AG6+AH6) -> 33 | J6: =AJ6+AK6+AL6+AM6+AN6+AO6+AP6+AQ6+AR6+AS6+AT6+AU6+AV6+AW6+AX6+AY6+AZ6+BA6+BB6+BC6 -> 38 | K6: =I6+J6 -> 71 | L6: =BE6+BF6+BG6+BH6+BI6+BJ6+BK6+BL6+BM6+BN6+BO6+BP6+BR6+BQ6+BS6+BT6+BU6+BV6+BW6+BX6 -> 0 | O6: 3 | P6: 1 | Q6: 1 | R6: 2 | T6: 4 | U6: 2 | V6: 1 | W6: 1 | X6: 3 | Y6: 1 | Z6: 1 | AA6: 3 | AB6: 2 | AC6: 4 | AD6: 0 | AE6: 2 | AF6: 0 | AG6: 2 | AJ6: 4 | AK6: 0 | AL6: 0 | AM6: 1 | AO6: 1 | AP6: 2 | AQ6: 0 | AR6: 6 | AS6: 1 | AT6: 5 | AU6: 3 | AV6: 3 | AW6: 2 | AX6: 2 | AY6: 3 | AZ6: 2 | BA6: 1 | BB6: 2
A7: =SOM!B21 -> 7 | B7: =SOM!C21 -> Verner | C7: =SOM!D21 -> Ladislav | D7: =SOM!E21 -> 570219 | E7: =SOM!F21 -> JH | F7: =SOM!G21 -> SOM | G7: =K7/H7 -> #DIV/0! | H7: =COUNT(O7:AH7) -> 0 | I7: =SUM(O7+P7+Q7+R7+S7+T7+V7+U7+W7+X7+Y7+Z7+AA7+AB7+AC7+AD7+AE7+AF7+AG7+AH7) -> 0 | J7: =AJ7+AK7+AL7+AM7+AN7+AO7+AP7+AQ7+AR7+AS7+AT7+AU7+AV7+AW7+AX7+AY7+AZ7+BA7+BB7+BC7 -> 0 | K7: =I7+J7 -> 0 | L7: =BE7+BF7+BG7+BH7+BI7+BJ7+BK7+BL7+BM7+BN7+BO7+BP7+BR7+BQ7+BS7+BT7+BU7+BV7+BW7+BX7 -> 0
A8: =SOM!B22 -> 8 | B8: =SOM!C22 -> Gereš | C8: =SOM!D22 -> Stanislav | D8: =SOM!E22 -> 781004 | E8: =SOM!F22 -> JH | F8: =SOM!G22 -> SOM | G8: =K8/H8 -> #DIV/0! | H8: =COUNT(O8:AH8) -> 0 | I8: =SUM(O8+P8+Q8+R8+S8+T8+V8+U8+W8+X8+Y8+Z8+AA8+AB8+AC8+AD8+AE8+AF8+AG8+AH8) -> 0 | J8: =AJ8+AK8+AL8+AM8+AN8+AO8+AP8+AQ8+AR8+AS8+AT8+AU8+AV8+AW8+AX8+AY8+AZ8+BA8+BB8+BC8 -> 0 | K8: =I8+J8 -> 0 | L8: =BE8+BF8+BG8+BH8+BI8+BJ8+BK8+BL8+BM8+BN8+BO8+BP8+BR8+BQ8+BS8+BT8+BU8+BV8+BW8+BX8 -> 0
A9: =SOM!B23 -> 9 | B9: =SOM!C23 -> Holinka | C9: =SOM!D23 -> Radek | D9: =SOM!E23 -> 691201 | E9: =SOM!F23 -> JH | F9: =SOM!G23 -> SOM | G9: =K9/H9 -> 1.8333333 | H9: =COUNT(O9:AH9) -> 6 | I9: =SUM(O9+P9+Q9+R9+S9+T9+V9+U9+W9+X9+Y9+Z9+AA9+AB9+AC9+AD9+AE9+AF9+AG9+AH9) -> 4 | J9: =AJ9+AK9+AL9+AM9+AN9+AO9+AP9+AQ9+AR9+AS9+AT9+AU9+AV9+AW9+AX9+AY9+AZ9+BA9+BB9+BC9 -> 7 | K9: =I9+J9 -> 11 | L9: =BE9+BF9+BG9+BH9+BI9+BJ9+BK9+BL9+BM9+BN9+BO9+BP9+BR9+BQ9+BS9+BT9+BU9+BV9+BW9+BX9 -> 0 | O9: 0 | U9: 2 | Y9: 2 | Z9: 0 | AB9: 0 | AD9: 0 | AJ9: 2 | AP9: 1 | AT9: 1 | AU9: 2 | AW9: 1 | AY9: 0
A10: =SOM!B24 -> 10 | B10: =SOM!C24 -> Horváth | C10: =SOM!D24 -> Miroslav | D10: =SOM!E24 -> 930503 | E10: =SOM!F24 -> JH | F10: =SOM!G24 -> SOM | G10: =K10/H10 -> 0 | H10: =COUNT(O10:AH10) -> 1 | I10: =SUM(O10+P10+Q10+R10+S10+T10+V10+U10+W10+X10+Y10+Z10+AA10+AB10+AC10+AD10+AE10+AF10+AG10+AH10) -> 0 | J10: =AJ10+AK10+AL10+AM10+AN10+AO10+AP10+AQ10+AR10+AS10+AT10+AU10+AV10+AW10+AX10+AY10+AZ10+BA10+BB10+BC10 -> 0 | K10: =I10+J10 -> 0 | L10: =BE10+BF10+BG10+BH10+BI10+BJ10+BK10+BL10+BM10+BN10+BO10+BP10+BR10+BQ10+BS10+BT10+BU10+BV10+BW10+BX10 -> 0 | R10: 0 | AM10: 0
A11: =SOM!B25 -> 15 | B11: =SOM!C25 -> Havlík | C11: =SOM!D25 -> Josef | D11: =SOM!E25 -> 890816 | E11: =SOM!F25 -> JH | F11: =SOM!G25 -> SOM | G11: =K11/H11 -> 1.6 | H11: =COUNT(O11:AH11) -> 15 | I11: =SUM(O11+P11+Q11+R11+S11+T11+V11+U11+W11+X11+Y11+Z11+AA11+AB11+AC11+AD11+AE11+AF11+AG11+AH11) -> 14 | J11: =AJ11+AK11+AL11+AM11+AN11+AO11+AP11+AQ11+AR11+AS11+AT11+AU11+AV11+AW11+AX11+AY11+AZ11+BA11+BB11+BC11 -> 10 | K11: =I11+J11 -> 24 | L11: =BE11+BF11+BG11+BH11+BI11+BJ11+BK11+BL11+BM11+BN11+BO11+BP11+BR11+BQ11+BS11+BT11+BU11+BV11+BW11+BX11 -> 0 | O11: 1 | P11: 0 | Q11: 0 | R11: 1 | T11: 2 | U11: 1 | W11: 1 | X11: 1 | Y11: 2 | AA11: 0 | AC11: 0 | AD11: 1 | AE11: 0 | AF11: 4 | AG11: 0 | AJ11: 1 | AK11: 0 | AL11: 2 | AM11: 0 | AO11: 0 | AP11: 0 | AR11: 1 | AS11: 0 | AT11: 0 | AV11: 1 | AX11: 0 | AY11: 1 | AZ11: 0 | BA11: 0 | BB11: 4
A12: =SOM!B26 -> 17 | B12: =SOM!C26 -> Skoumal | C12: =SOM!D26 -> Kamil | D12: =SOM!E26 -> 710618 | E12: =SOM!F26 -> JH | F12: =SOM!G26 -> SOM | G12: =K12/H12 -> #DIV/0! | H12: =COUNT(O12:AH12) -> 0 | I12: =SUM(O12+P12+Q12+R12+S12+T12+V12+U12+W12+X12+Y12+Z12+AA12+AB12+AC12+AD12+AE12+AF12+AG12+AH12) -> 0 | J12: =AJ12+AK12+AL12+AM12+AN12+AO12+AP12+AQ12+AR12+AS12+AT12+AU12+AV12+AW12+AX12+AY12+AZ12+BA12+BB12+BC12 -> 0 | K12: =I12+J12 -> 0 | L12: =BE12+BF12+BG12+BH12+BI12+BJ12+BK12+BL12+BM12+BN12+BO12+BP12+BR12+BQ12+BS12+BT12+BU12+BV12+BW12+BX12 -> 0
A13: =SOM!B27 -> 20 | B13: =SOM!C27 -> Alka | C13: =SOM!D27 -> Radek | D13: =SOM!E27 -> 860528 | E13: =SOM!F27 -> UOH | F13: =SOM!G27 -> SOM | G13: =K13/H13 -> 1.3076923 | H13: =COUNT(O13:AH13) -> 13 | I13: =SUM(O13+P13+Q13+R13+S13+T13+V13+U13+W13+X13+Y13+Z13+AA13+AB13+AC13+AD13+AE13+AF13+AG13+AH13) -> 9 | J13: =AJ13+AK13+AL13+AM13+AN13+AO13+AP13+AQ13+AR13+AS13+AT13+AU13+AV13+AW13+AX13+AY13+AZ13+BA13+BB13+BC13 -> 8 | K13: =I13+J13 -> 17 | L13: =BE13+BF13+BG13+BH13+BI13+BJ13+BK13+BL13+BM13+BN13+BO13+BP13+BR13+BQ13+BS13+BT13+BU13+BV13+BW13+BX13 -> 0 | O13: 1 | P13: 0 | Q13: 0 | T13: 0 | V13: 0 | W13: 1 | X13: 2 | Y13: 2 | AA13: 1 | AB13: 1 | AC13: 0 | AE13: 0 | AF13: 1 | AJ13: 2 | AK13: 1 | AL13: 0 | AO13: 0 | AQ13: 1 | AR13: 1 | AS13: 0 | AT13: 2 | AV13: 0 | AW13: 1 | AX13: 0 | AZ13: 0 | BA13: 0
A14: =SOM!B28 -> 22 | B14: =SOM!C28 -> Kocian | C14: =SOM!D28 -> David | D14: =SOM!E28 -> 850704 | E14: UOH | F14: =SOM!G28 -> SOM | G14: =K14/H14 -> 4 | H14: =COUNT(O14:AH14) -> 17 | I14: =SUM(O14+P14+Q14+R14+S14+T14+V14+U14+W14+X14+Y14+Z14+AA14+AB14+AC14+AD14+AE14+AF14+AG14+AH14) -> 35 | J14: =AJ14+AK14+AL14+AM14+AN14+AO14+AP14+AQ14+AR14+AS14+AT14+AU14+AV14+AW14+AX14+AY14+AZ14+BA14+BB14+BC14 -> 33 | K14: =I14+J14 -> 68 | L14: =BE14+BF14+BG14+BH14+BI14+BJ14+BK14+BL14+BM14+BN14+BO14+BP14+BR14+BQ14+BS14+BT14+BU14+BV14+BW14+BX14 -> 0 | P14: 2 | Q14: 2 | R14: 1 | T14: 2 | U14: 2 | V14: 2 | W14: 9 | X14: 1 | Y14: 4 | Z14: 2 | AA14: 4 | AB14: 1 | AC14: 1 | AD14: 0 | AE14: 1 | AF14: 0 | AG14: 1 | AK14: 0 | AL14: 0 | AM14: 1 | AO14: 0 | AP14: 2 | AQ14: 1 | AR14: 5 | AS14: 6 | AT14: 3 | AU14: 2 | AV14: 1 | AW14: 3 | AX14: 3 | AY14: 2 | AZ14: 0 | BA14: 3 | BB14: 1
A15: =SOM!B29 -> 23 | B15: =SOM!C29 -> Kovář | C15: =SOM!D29 -> Jakub | D15: =SOM!E29 -> 930212 | E15: =SOM!F29 -> JH | F15: =SOM!G29 -> SOM | G15: =K15/H15 -> 0.8 | H15: =COUNT(O15:AH15) -> 10 | I15: =SUM(O15+P15+Q15+R15+S15+T15+V15+U15+W15+X15+Y15+Z15+AA15+AB15+AC15+AD15+AE15+AF15+AG15+AH15) -> 5 | J15: =AJ15+AK15+AL15+AM15+AN15+AO15+AP15+AQ15+AR15+AS15+AT15+AU15+AV15+AW15+AX15+AY15+AZ15+BA15+BB15+BC15 -> 3 | K15: =I15+J15 -> 8 | L15: =BE15+BF15+BG15+BH15+BI15+BJ15+BK15+BL15+BM15+BN15+BO15+BP15+BR15+BQ15+BS15+BT15+BU15+BV15+BW15+BX15 -> 0 | P15: 0 | R15: 1 | T15: 0 | U15: 1 | V15: 0 | Z15: 1 | AA15: 2 | AB15: 0 | AC15: 0 | AD15: 0 | AK15: 0 | AM15: 0 | AO15: 0 | AP15: 0 | AQ15: 0 | AU15: 2 | AV15: 0 | AW15: 0 | AX15: 1 | AY15: 0
A16: =SOM!B30 -> 24 | B16: =SOM!C30 -> Kilčický | C16: =SOM!D30 -> Michal | D16: =SOM!E30 -> 801227 | E16: =SOM!F30 -> UOH | F16: =SOM!G30 -> SOM | G16: =K16/H16 -> 3.3333333 | H16: =COUNT(O16:AH16) -> 6 | I16: =SUM(O16+P16+Q16+R16+S16+T16+V16+U16+W16+X16+Y16+Z16+AA16+AB16+AC16+AD16+AE16+AF16+AG16+AH16) -> 8 | J16: =AJ16+AK16+AL16+AM16+AN16+AO16+AP16+AQ16+AR16+AS16+AT16+AU16+AV16+AW16+AX16+AY16+AZ16+BA16+BB16+BC16 -> 12 | K16: =I16+J16 -> 20 | L16: =BE16+BF16+BG16+BH16+BI16+BJ16+BK16+BL16+BM16+BN16+BO16+BP16+BR16+BQ16+BS16+BT16+BU16+BV16+BW16+BX16 -> 0 | O16: 2 | P16: 1 | R16: 0 | T16: 0 | W16: 3 | X16: 2 | AJ16: 2 | AK16: 0 | AM16: 2 | AO16: 1 | AR16: 5 | AS16: 2
A17: =SOM!B31 -> 33 | B17: =SOM!C31 -> Kaupe | C17: =SOM!D31 -> Petr | D17: =SOM!E31 -> 680922 | E17: =SOM!F31 -> JH | F17: =SOM!G31 -> SOM | G17: =K17/H17 -> #DIV/0! | H17: =COUNT(O17:AH17) -> 0 | I17: =SUM(O17+P17+Q17+R17+S17+T17+V17+U17+W17+X17+Y17+Z17+AA17+AB17+AC17+AD17+AE17+AF17+AG17+AH17) -> 0 | J17: =AJ17+AK17+AL17+AM17+AN17+AO17+AP17+AQ17+AR17+AS17+AT17+AU17+AV17+AW17+AX17+AY17+AZ17+BA17+BB17+BC17 -> 0 | K17: =I17+J17 -> 0 | L17: =BE17+BF17+BG17+BH17+BI17+BJ17+BK17+BL17+BM17+BN17+BO17+BP17+BR17+BQ17+BS17+BT17+BU17+BV17+BW17+BX17 -> 0
A18: =SOM!B32 -> 37 | B18: =SOM!C32 -> Zeman | C18: =SOM!D32 -> Lukáš | D18: =SOM!E32 -> ….000129 | E18: =SOM!F32 -> JH | F18: =SOM!G32 -> SOM | G18: =K18/H18 -> 1.25 | H18: =COUNT(O18:AH18) -> 16 | I18: =SUM(O18+P18+Q18+R18+S18+T18+V18+U18+W18+X18+Y18+Z18+AA18+AB18+AC18+AD18+AE18+AF18+AG18+AH18) -> 17 | J18: =AJ18+AK18+AL18+AM18+AN18+AO18+AP18+AQ18+AR18+AS18+AT18+AU18+AV18+AW18+AX18+AY18+AZ18+BA18+BB18+BC18 -> 3 | K18: =I18+J18 -> 20 | L18: =BE18+BF18+BG18+BH18+BI18+BJ18+BK18+BL18+BM18+BN18+BO18+BP18+BR18+BQ18+BS18+BT18+BU18+BV18+BW18+BX18 -> 0 | O18: 2 | P18: 0 | Q18: 5 | U18: 1 | V18: 0 | W18: 1 | X18: 0 | Y18: 1 | Z18: 1 | AA18: 0 | AB18: 1 | AC18: 1 | AD18: 0 | AE18: 2 | AF18: 0 | AG18: 2 | AJ18: 0 | AK18: 0 | AL18: 1 | AP18: 0 | AQ18: 0 | AR18: 1 | AS18: 0 | AT18: 0 | AU18: 0 | AV18: 0 | AW18: 0 | AX18: 0 | AY18: 0 | AZ18: 0 | BA18: 1 | BB18: 0
A19: =SOM!B33 -> 48 | B19: =SOM!C33 -> Holinka | C19: =SOM!D33 -> Jan | D19: =SOM!E33 -> 920807 | E19: =SOM!F33 -> JH | F19: =SOM!G33 -> SOM | G19: =K19/H19 -> #DIV/0! | H19: =COUNT(O19:AH19) -> 0 | I19: =SUM(O19+P19+Q19+R19+S19+T19+V19+U19+W19+X19+Y19+Z19+AA19+AB19+AC19+AD19+AE19+AF19+AG19+AH19) -> 0 | J19: =AJ19+AK19+AL19+AM19+AN19+AO19+AP19+AQ19+AR19+AS19+AT19+AU19+AV19+AW19+AX19+AY19+AZ19+BA19+BB19+BC19 -> 0 | K19: =I19+J19 -> 0 | L19: =BE19+BF19+BG19+BH19+BI19+BJ19+BK19+BL19+BM19+BN19+BO19+BP19+BR19+BQ19+BS19+BT19+BU19+BV19+BW19+BX19 -> 0
A20: =SOM!B34 -> 67 | B20: =SOM!C34 -> Rozbroj | C20: =SOM!D34 -> Jiří | D20: =SOM!E34 -> 980520 | E20: =SOM!F34 -> JH | F20: =SOM!G34 -> SOM | G20: =K20/H20 -> 0.8 | H20: =COUNT(O20:AH20) -> 10 | I20: =SUM(O20+P20+Q20+R20+S20+T20+V20+U20+W20+X20+Y20+Z20+AA20+AB20+AC20+AD20+AE20+AF20+AG20+AH20) -> 3 | J20: =AJ20+AK20+AL20+AM20+AN20+AO20+AP20+AQ20+AR20+AS20+AT20+AU20+AV20+AW20+AX20+AY20+AZ20+BA20+BB20+BC20 -> 5 | K20: =I20+J20 -> 8 | L20: =BE20+BF20+BG20+BH20+BI20+BJ20+BK20+BL20+BM20+BN20+BO20+BP20+BR20+BQ20+BS20+BT20+BU20+BV20+BW20+BX20 -> 0 | Q20: 0 | R20: 0 | T20: 0 | W20: 1 | X20: 0 | Z20: 1 | AD20: 1 | AE20: 0 | AF20: 0 | AG20: 0 | AL20: 2 | AM20: 0 | AO20: 0 | AR20: 0 | AS20: 0 | AU20: 0 | AY20: 1 | AZ20: 0 | BA20: 1 | BB20: 1
A21: =SOM!B35 -> 89 | B21: =SOM!C35 -> Peška | C21: =SOM!D35 -> Michal | D21: =SOM!E35 -> 890618 | E21: =SOM!F35 -> JH | F21: =SOM!G35 -> SOM | G21: =K21/H21 -> 2.2142857 | H21: =COUNT(O21:AH21) -> 14 | I21: =SUM(O21+P21+Q21+R21+S21+T21+V21+U21+W21+X21+Y21+Z21+AA21+AB21+AC21+AD21+AE21+AF21+AG21+AH21) -> 16 | J21: =AJ21+AK21+AL21+AM21+AN21+AO21+AP21+AQ21+AR21+AS21+AT21+AU21+AV21+AW21+AX21+AY21+AZ21+BA21+BB21+BC21 -> 15 | K21: =I21+J21 -> 31 | L21: =BE21+BF21+BG21+BH21+BI21+BJ21+BK21+BL21+BM21+BN21+BO21+BP21+BR21+BQ21+BS21+BT21+BU21+BV21+BW21+BX21 -> 0 | O21: 1 | P21: 0 | Q21: 5 | R21: 1 | U21: 1 | V21: 2 | Y21: 1 | AA21: 0 | AB21: 1 | AC21: 0 | AD21: 1 | AE21: 0 | AF21: 2 | AG21: 1 | AJ21: 0 | AK21: 0 | AL21: 0 | AM21: 1 | AP21: 1 | AQ21: 3 | AT21: 0 | AV21: 2 | AW21: 2 | AX21: 1 | AY21: 1 | AZ21: 1 | BA21: 2 | BB21: 1
A22: =SOM!B36 -> 94 | B22: =SOM!C36 -> Bařica | C22: =SOM!D36 -> Dušan | D22: =SOM!E36 -> 750826 | E22: =SOM!F36 -> JH | F22: =SOM!G36 -> SOM | G22: =K22/H22 -> 3.2666667 | H22: =COUNT(O22:AH22) -> 15 | I22: =SUM(O22+P22+Q22+R22+S22+T22+V22+U22+W22+X22+Y22+Z22+AA22+AB22+AC22+AD22+AE22+AF22+AG22+AH22) -> 13 | J22: =AJ22+AK22+AL22+AM22+AN22+AO22+AP22+AQ22+AR22+AS22+AT22+AU22+AV22+AW22+AX22+AY22+AZ22+BA22+BB22+BC22 -> 36 | K22: =I22+J22 -> 49 | L22: =BE22+BF22+BG22+BH22+BI22+BJ22+BK22+BL22+BM22+BN22+BO22+BP22+BR22+BQ22+BS22+BT22+BU22+BV22+BW22+BX22 -> 0 | O22: 2 | P22: 0 | Q22: 0 | T22: 0 | U22: 2 | V22: 0 | X22: 0 | Y22: 1 | AA22: 1 | AB22: 3 | AC22: 0 | AD22: 3 | AE22: 0 | AF22: 1 | AG22: 0 | AJ22: 4 | AK22: 3 | AL22: 5 | AO22: 3 | AP22: 2 | AQ22: 2 | AS22: 2 | AT22: 4 | AV22: 2 | AW22: 1 | AX22: 0 | AY22: 2 | AZ22: 1 | BA22: 3 | BB22: 2
A23: =SOM!B37 -> 0 | B23: =SOM!C37 -> Čajánek | C23: =SOM!D37 -> Petr | D23: =SOM!E37 -> 750818 | E23: =SOM!F37 -> JH | F23: =SOM!G37 -> SOM | G23: =K23/H23 -> #DIV/0! | H23: =COUNT(O23:AH23) -> 0 | I23: =SUM(O23+P23+Q23+R23+S23+T23+V23+U23+W23+X23+Y23+Z23+AA23+AB23+AC23+AD23+AE23+AF23+AG23+AH23) -> 0 | J23: =AJ23+AK23+AL23+AM23+AN23+AO23+AP23+AQ23+AR23+AS23+AT23+AU23+AV23+AW23+AX23+AY23+AZ23+BA23+BB23+BC23 -> 0 | K23: =I23+J23 -> 0 | L23: =BE23+BF23+BG23+BH23+BI23+BJ23+BK23+BL23+BM23+BN23+BO23+BP23+BR23+BQ23+BS23+BT23+BU23+BV23+BW23+BX23 -> 0
A24: =SOM!B38 -> 0 | B24: =SOM!C38 -> Hroch | C24: =SOM!D38 -> Daniel | D24: =SOM!E38 -> 0 | E24: =SOM!F38 -> NR | F24: =SOM!G38 -> SOM | G24: =K24/H24 -> 3.9230769 | H24: =COUNT(O24:AH24) -> 13 | I24: =SUM(O24+P24+Q24+R24+S24+T24+V24+U24+W24+X24+Y24+Z24+AA24+AB24+AC24+AD24+AE24+AF24+AG24+AH24) -> 22 | J24: =AJ24+AK24+AL24+AM24+AN24+AO24+AP24+AQ24+AR24+AS24+AT24+AU24+AV24+AW24+AX24+AY24+AZ24+BA24+BB24+BC24 -> 29 | K24: =I24+J24 -> 51 | L24: =BE24+BF24+BG24+BH24+BI24+BJ24+BK24+BL24+BM24+BN24+BO24+BP24+BR24+BQ24+BS24+BT24+BU24+BV24+BW24+BX24 -> 0 | P24: 1 | Q24: 0 | R24: 1 | T24: 0 | U24: 0 | V24: 2 | AA24: 3 | AB24: 2 | AC24: 1 | AD24: 4 | AE24: 2 | AF24: 3 | AG24: 3 | AK24: 1 | AL24: 2 | AM24: 3 | AO24: 5 | AP24: 4 | AQ24: 2 | AV24: 4 | AW24: 2 | AX24: 1 | AY24: 2 | AZ24: 0 | BA24: 1 | BB24: 2
A25: =SOM!B39 -> 0 | B25: =SOM!C39 -> Patsch | C25: =SOM!D39 -> Ondřej | D25: =SOM!E39 -> 0 | E25: =SOM!F39 -> NR | F25: =SOM!G39 -> SOM | G25: =K25/H25 -> #DIV/0! | H25: =COUNT(O25:AH25) -> 0 | I25: =SUM(O25+P25+Q25+R25+S25+T25+V25+U25+W25+X25+Y25+Z25+AA25+AB25+AC25+AD25+AE25+AF25+AG25+AH25) -> 0 | J25: =AJ25+AK25+AL25+AM25+AN25+AO25+AP25+AQ25+AR25+AS25+AT25+AU25+AV25+AW25+AX25+AY25+AZ25+BA25+BB25+BC25 -> 0 | K25: =I25+J25 -> 0 | L25: =BE25+BF25+BG25+BH25+BI25+BJ25+BK25+BL25+BM25+BN25+BO25+BP25+BR25+BQ25+BS25+BT25+BU25+BV25+BW25+BX25 -> 0
A26: =SOM!B40 -> 0 | B26: =SOM!C40 -> Skoumal | C26: =SOM!D40 -> Michal | D26: =SOM!E40 -> 910618 | E26: =SOM!F40 -> NR | F26: =SOM!G40 -> SOM | G26: =K26/H26 -> #DIV/0! | H26: =COUNT(O26:AH26) -> 0 | I26: =SUM(O26+P26+Q26+R26+S26+T26+V26+U26+W26+X26+Y26+Z26+AA26+AB26+AC26+AD26+AE26+AF26+AG26+AH26) -> 0 | J26: =AJ26+AK26+AL26+AM26+AN26+AO26+AP26+AQ26+AR26+AS26+AT26+AU26+AV26+AW26+AX26+AY26+AZ26+BA26+BB26+BC26 -> 0 | K26: =I26+J26 -> 0 | L26: =BE26+BF26+BG26+BH26+BI26+BJ26+BK26+BL26+BM26+BN26+BO26+BP26+BR26+BQ26+BS26+BT26+BU26+BV26+BW26+BX26 -> 0
A27: =SOM!B41 -> 0 | B27: =SOM!C41 -> Langr | C27: =SOM!D41 -> Tomáš | D27: =SOM!E41 -> 940531 | E27: =SOM!F41 -> NR | F27: =SOM!G41 -> SOM | G27: =K27/H27 -> 7 | H27: =COUNT(O27:AH27) -> 1 | I27: =SUM(O27+P27+Q27+R27+S27+T27+V27+U27+W27+X27+Y27+Z27+AA27+AB27+AC27+AD27+AE27+AF27+AG27+AH27) -> 5 | J27: =AJ27+AK27+AL27+AM27+AN27+AO27+AP27+AQ27+AR27+AS27+AT27+AU27+AV27+AW27+AX27+AY27+AZ27+BA27+BB27+BC27 -> 2 | K27: =I27+J27 -> 7 | L27: =BE27+BF27+BG27+BH27+BI27+BJ27+BK27+BL27+BM27+BN27+BO27+BP27+BR27+BQ27+BS27+BT27+BU27+BV27+BW27+BX27 -> 0 | W27: 5 | AR27: 2
A28: =SOM!B42 -> 0 | B28: =SOM!C42 -> Stejskal | C28: =SOM!D42 -> David | D28: =SOM!E42 -> 0 | E28: =SOM!F42 -> NR | F28: =SOM!G42 -> SOM | G28: =K28/H28 -> #DIV/0! | H28: =COUNT(O28:AH28) -> 0 | I28: =SUM(O28+P28+Q28+R28+S28+T28+V28+U28+W28+X28+Y28+Z28+AA28+AB28+AC28+AD28+AE28+AF28+AG28+AH28) -> 0 | J28: =AJ28+AK28+AL28+AM28+AN28+AO28+AP28+AQ28+AR28+AS28+AT28+AU28+AV28+AW28+AX28+AY28+AZ28+BA28+BB28+BC28 -> 0 | K28: =I28+J28 -> 0 | L28: =BE28+BF28+BG28+BH28+BI28+BJ28+BK28+BL28+BM28+BN28+BO28+BP28+BR28+BQ28+BS28+BT28+BU28+BV28+BW28+BX28 -> 0
A29: =SOM!B43 -> 0 | B29: =SOM!C43 -> Smolík | C29: =SOM!D43 -> Zdeněk | D29: =SOM!E43 -> 0 | E29: =SOM!F43 -> HS | F29: =SOM!G43 -> SOM | G29: =K29/H29 -> 2 | H29: =COUNT(O29:AH29) -> 1 | I29: =SUM(O29+P29+Q29+R29+S29+T29+V29+U29+W29+X29+Y29+Z29+AA29+AB29+AC29+AD29+AE29+AF29+AG29+AH29) -> 1 | J29: =AJ29+AK29+AL29+AM29+AN29+AO29+AP29+AQ29+AR29+AS29+AT29+AU29+AV29+AW29+AX29+AY29+AZ29+BA29+BB29+BC29 -> 1 | K29: =I29+J29 -> 2 | L29: =BE29+BF29+BG29+BH29+BI29+BJ29+BK29+BL29+BM29+BN29+BO29+BP29+BR29+BQ29+BS29+BT29+BU29+BV29+BW29+BX29 -> 0 | Z29: 1 | AU29: 1
A30: =SOM!B44 -> 0 | B30: =SOM!C44 -> Hašek | C30: =SOM!D44 -> Stanislav | D30: =SOM!E44 -> 0 | E30: =SOM!F44 -> HS | F30: =SOM!H44 -> 0 | G30: =K30/H30 -> #DIV/0! | O30: 1 | Z30: 0 | AJ30: 0 | AU30: 0
A31: =SOM!B45 -> 0 | B31: =SOM!C45 -> Sedlačík | C31: =SOM!D45 -> David | D31: =SOM!E45 -> 0 | E31: =SOM!F45 -> 0 | F31: =SOM!H45 -> 0 | O31: 0 | U31: 0 | Y31: 0 | Z31: 0 | AD31: 0 | AJ31: 1 | AP31: 1 | AU31: 0 | AY31: 0
A32: =SOM!B46 -> 0 | B32: =SOM!C46 -> 0 | C32: =SOM!D46 -> 0 | D32: =SOM!E46 -> 0 | E32: =SOM!F46 -> 0 | F32: =SOM!H46 -> 0
A33: =SOM!B47 -> 0 | B33: =SOM!C47 -> 0 | C33: =SOM!D47 -> 0 | D33: =SOM!E47 -> 0 | E33: =SOM!F47 -> 0 | F33: =SOM!H47 -> 0 | G33: =K33/H33 -> #DIV/0! | H33: =COUNT(O33:AH33) -> 0 | I33: =SUM(O33+P33+Q33+R33+S33+T33+V33+U33+W33+X33+Y33+Z33+AA33+AB33+AC33+AD33+AE33+AF33+AG33+AH33) -> 0 | J33: =AJ33+AK33+AL33+AM33+AN33+AO33+AP33+AQ33+AR33+AS33+AT33+AU33+AV33+AW33+AX33+AY33+AZ33+BA33+BB33+BC33 -> 0 | K33: =I33+J33 -> 0 | L33: =BE33+BF33+BG33+BH33+BI33+BJ33+BK33+BL33+BM33+BN33+BO33+BP33+BR33+BQ33+BS33+BT33+BU33+BV33+BW33+BX33 -> 0
A34: =SOM!A52 -> 0 | B34: Dvořák | C34: Tomáš | F34: golSom | G34: =K34/H34 -> 3.3333333 | H34: =COUNT(O34:AH34) -> 3 | I34: =SUM(O34+P34+Q34+R34+S34+T34+V34+U34+W34+X34+Y34+Z34+AA34+AB34+AC34+AD34+AE34+AF34+AG34+AH34) -> 10 | J34: =AJ34+AK34+AL34+AM34+AN34+AO34+AP34+AQ34+AR34+AS34+AT34+AU34+AV34+AW34+AX34+AY34+AZ34+BA34+BB34+BC34 -> 0 | K34: =I34+J34 -> 10 | L34: =BE34+BF34+BG34+BH34+BI34+BJ34+BK34+BL34+BM34+BN34+BO34+BP34+BR34+BQ34+BS34+BT34+BU34+BV34+BW34+BX34 -> 0 | P34: 2 | Q34: 3 | AA34: 5
A35: =SOM!A53 -> 0 | B35: Misiorz | C35: Petr | F35: golSom | G35: =K35/H35 -> 3.3846154 | H35: =COUNT(O35:AH35) -> 13 | I35: =SUM(O35+P35+Q35+R35+S35+T35+V35+U35+W35+X35+Y35+Z35+AA35+AB35+AC35+AD35+AE35+AF35+AG35+AH35) -> 44 | J35: =AJ35+AK35+AL35+AM35+AN35+AO35+AP35+AQ35+AR35+AS35+AT35+AU35+AV35+AW35+AX35+AY35+AZ35+BA35+BB35+BC35 -> 0 | K35: =I35+J35 -> 44 | L35: =BE35+BF35+BG35+BH35+BI35+BJ35+BK35+BL35+BM35+BN35+BO35+BP35+BR35+BQ35+BS35+BT35+BU35+BV35+BW35+BX35 -> 0 | O35: 1 | T35: 3 | U35: 1 | V35: 4 | W35: 4 | X35: 3 | Y35: 1 | AB35: 2 | AC35: 3 | AD35: 6 | AE35: 4 | AF35: 7 | AG35: 5
A36: =SOM!A54 -> 0 | B36: Kaňák | C36: Martin | F36: golSom | G36: =K36/H36 -> 4 | H36: =COUNT(O36:AH36) -> 1 | I36: =SUM(O36+P36+Q36+R36+S36+T36+V36+U36+W36+X36+Y36+Z36+AA36+AB36+AC36+AD36+AE36+AF36+AG36+AH36) -> 4 | J36: =AJ36+AK36+AL36+AM36+AN36+AO36+AP36+AQ36+AR36+AS36+AT36+AU36+AV36+AW36+AX36+AY36+AZ36+BA36+BB36+BC36 -> 0 | K36: =I36+J36 -> 4 | L36: =BE36+BF36+BG36+BH36+BI36+BJ36+BK36+BL36+BM36+BN36+BO36+BP36+BR36+BQ36+BS36+BT36+BU36+BV36+BW36+BX36 -> 0 | R36: 4
B37: Koutarik | F37: golSom | G37: =K37/H37 -> 3 | H37: =COUNT(O37:AH37) -> 1 | I37: =SUM(O37+P37+Q37+R37+S37+T37+V37+U37+W37+X37+Y37+Z37+AA37+AB37+AC37+AD37+AE37+AF37+AG37+AH37) -> 3 | J37: =AJ37+AK37+AL37+AM37+AN37+AO37+AP37+AQ37+AR37+AS37+AT37+AU37+AV37+AW37+AX37+AY37+AZ37+BA37+BB37+BC37 -> 0 | K37: =I37+J37 -> 3 | L37: =BE37+BF37+BG37+BH37+BI37+BJ37+BK37+BL37+BM37+BN37+BO37+BP37+BR37+BQ37+BS37+BT37+BU37+BV37+BW37+BX37 -> 0 | Z37: 3
B38: trestné min | F38: tresSom | G38: =K38/H38 -> 2.4210526 | H38: =COUNT(O38:AH38) -> 19 | I38: =SUM(O38+P38+Q38+R38+S38+T38+V38+U38+W38+X38+Y38+Z38+AA38+AB38+AC38+AD38+AE38+AF38+AG38+AH38) -> 46 | J38: =AJ38+AK38+AL38+AM38+AN38+AO38+AP38+AQ38+AR38+AS38+AT38+AU38+AV38+AW38+AX38+AY38+AZ38+BA38+BB38+BC38 -> 0 | K38: =I38+J38 -> 46 | L38: =BE38+BF38+BG38+BH38+BI38+BJ38+BK38+BL38+BM38+BN38+BO38+BP38+BR38+BQ38+BS38+BT38+BU38+BV38+BW38+BX38 -> 0 | O38: 2 | P38: 8 | Q38: 0 | R38: 10 | S38: 0 | T38: 2 | U38: 0 | V38: 6 | W38: 0 | X38: 0 | Y38: 0 | Z38: 0 | AA38: 2 | AB38: 2 | AC38: 2 | AD38: 2 | AE38: 2 | AF38: 6 | AG38: 2
A39: Tyg | B39: 2 | R39: G | S39: ó | T39: l | U39: y | AO39: a | AP39: s | AQ39: i | AR39: s | AS39: t | AT39: e | AU39: n | AV39: c | AW39: e | BG39: T | BH39: r | BI39: e | BJ39: s | BK39: t | BL39: y
B40: Příjmení | C40: Jméno | D40: Narozen | E40: typ hráče | F40: Tým | G40: průměr | H40: Zá | I40: Gó. | J40: As. | K40: Body | L40: Tr. | O40: 1 | P40: 2 | Q40: 3 | R40: 4 | S40: 5 | T40: 6 | U40: 7 | V40: 8 | W40: 9 | X40: 10 | Y40: 11 | Z40: 12 | AA40: 13 | AB40: 14 | AC40: 15 | AD40: 16 | AE40: 17 | AF40: 18 | AG40: 19 | AH40: 20 | AJ40: 1 | AK40: 2 | AL40: 3 | AM40: 4 | AN40: 5 | AO40: 6 | AP40: 7 | AQ40: 8 | AR40: 9 | AS40: 10 | AT40: 11 | AU40: 12 | AV40: 13 | AW40: 14 | AX40: 15 | AY40: 16 | AZ40: 17 | BA40: 18 | BB40: 19 | BC40: 20 | BE40: 1 | BF40: 2 | BG40: 3 | BH40: 4 | BI40: 5 | BJ40: 6 | BK40: 7 | BL40: 8 | BM40: 9 | BN40: 10 | BO40: 11 | BP40: 12 | BQ40: 13 | BR40: 14 | BS40: 15 | BT40: 16 | BU40: 17 | BV40: 18 | BW40: 19 | BX40: 20
A41: =Tyg!B18 -> 32 | B41: =Tyg!C18 -> Andrle | C41: =Tyg!D18 -> René | D41: =Tyg!E18 -> 740401 | E41: =Tyg!F18 -> JH | F41: Tyg | G41: =K41/H41 -> 2 | H41: =COUNT(O41:AH41) -> 7 | I41: =SUM(O41+P41+Q41+R41+S41+T41+V41+U41+W41+X41+Y41+Z41+AA41+AB41+AC41+AD41+AE41+AF41+AG41+AH41) -> 6 | J41: =AJ41+AK41+AL41+AM41+AN41+AO41+AP41+AQ41+AR41+AS41+AT41+AU41+AV41+AW41+AX41+AY41+AZ41+BA41+BB41+BC41 -> 8 | K41: =I41+J41 -> 14 | L41: =BE41+BF41+BG41+BH41+BI41+BJ41+BK41+BL41+BM41+BN41+BO41+BP41+BR41+BQ41+BS41+BT41+BU41+BV41+BW41+BX41 -> 0 | Q41: 0 | R41: 3 | S41: 0 | T41: 0 | W41: 0 | Z41: 2 | AE41: 1 | AL41: 1 | AM41: 0 | AN41: 2 | AO41: 0 | AR41: 2 | AU41: 1 | AZ41: 2
A42: =Tyg!B19 -> 33 | B42: =Tyg!C19 -> Dvořák | C42: =Tyg!D19 -> Ondřej | D42: =Tyg!E19 -> 910622 | E42: =Tyg!F19 -> UOH | F42: Tyg | G42: =K42/H42 -> 3.2666667 | H42: =COUNT(O42:AH42) -> 15 | I42: =SUM(O42+P42+Q42+R42+S42+T42+V42+U42+W42+X42+Y42+Z42+AA42+AB42+AC42+AD42+AE42+AF42+AG42+AH42) -> 24 | J42: =AJ42+AK42+AL42+AM42+AN42+AO42+AP42+AQ42+AR42+AS42+AT42+AU42+AV42+AW42+AX42+AY42+AZ42+BA42+BB42+BC42 -> 25 | K42: =I42+J42 -> 49 | L42: =BE42+BF42+BG42+BH42+BI42+BJ42+BK42+BL42+BM42+BN42+BO42+BP42+BR42+BQ42+BS42+BT42+BU42+BV42+BW42+BX42 -> 25 | O42: 1 | P42: 3 | Q42: 0 | T42: 1 | U42: 2 | V42: 6 | W42: 0 | X42: 2 | Y42: 2 | Z42: 0 | AA42: 2 | AB42: 1 | AD42: 2 | AF42: 1 | AG42: 1 | AJ42: 1 | AK42: 2 | AL42: 1 | AO42: 0 | AP42: 2 | AQ42: 5 | AR42: 0 | AS42: 3 | AT42: 3 | AU42: 1 | AV42: 2 | AW42: 0 | AY42: 2 | BA42: 1 | BB42: 2 | BG42: 25
A43: =Tyg!B20 -> 34 | B43: =Tyg!C20 -> Budina | C43: =Tyg!D20 -> Michal | D43: =Tyg!E20 -> 780504 | E43: =Tyg!F20 -> JH | F43: Tyg | G43: =K43/H43 -> 1.4444444 | H43: =COUNT(O43:AH43) -> 9 | I43: =SUM(O43+P43+Q43+R43+S43+T43+V43+U43+W43+X43+Y43+Z43+AA43+AB43+AC43+AD43+AE43+AF43+AG43+AH43) -> 7 | J43: =AJ43+AK43+AL43+AM43+AN43+AO43+AP43+AQ43+AR43+AS43+AT43+AU43+AV43+AW43+AX43+AY43+AZ43+BA43+BB43+BC43 -> 6 | K43: =I43+J43 -> 13 | L43: =BE43+BF43+BG43+BH43+BI43+BJ43+BK43+BL43+BM43+BN43+BO43+BP43+BR43+BQ43+BS43+BT43+BU43+BV43+BW43+BX43 -> 0 | O43: 1 | P43: 2 | Q43: 0 | S43: 0 | T43: 1 | U43: 2 | AA43: 1 | AB43: 0 | AD43: 0 | AJ43: 0 | AK43: 0 | AL43: 0 | AN43: 0 | AO43: 0 | AP43: 5 | AV43: 1 | AW43: 0 | AY43: 0
A44: =Tyg!B21 -> 35 | B44: =Tyg!C21 -> Morkes | C44: =Tyg!D21 -> Radek | D44: =Tyg!E21 -> 790312 | E44: =Tyg!F21 -> JH | F44: Tyg | G44: =K44/H44 -> 1 | H44: =COUNT(O44:AH44) -> 13 | I44: =SUM(O44+P44+Q44+R44+S44+T44+V44+U44+W44+X44+Y44+Z44+AA44+AB44+AC44+AD44+AE44+AF44+AG44+AH44) -> 5 | J44: =AJ44+AK44+AL44+AM44+AN44+AO44+AP44+AQ44+AR44+AS44+AT44+AU44+AV44+AW44+AX44+AY44+AZ44+BA44+BB44+BC44 -> 8 | K44: =I44+J44 -> 13 | L44: =BE44+BF44+BG44+BH44+BI44+BJ44+BK44+BL44+BM44+BN44+BO44+BP44+BR44+BQ44+BS44+BT44+BU44+BV44+BW44+BX44 -> 0 | P44: 0 | Q44: 1 | T44: 0 | U44: 2 | V44: 0 | W44: 0 | X44: 0 | Y44: 1 | AB44: 0 | AC44: 1 | AD44: 0 | AE44: 0 | AG44: 0 | AK44: 1 | AL44: 1 | AO44: 1 | AP44: 3 | AQ44: 0 | AR44: 0 | AS44: 0 | AT44: 0 | AW44: 1 | AX44: 0 | AY44: 1 | AZ44: 0 | BB44: 0
A45: =Tyg!B22 -> 37 | B45: =Tyg!C22 -> Kalhaus | C45: =Tyg!D22 -> Robin | D45: =Tyg!E22 -> 930718 | E45: =Tyg!F22 -> JH | F45: Tyg | G45: =K45/H45 -> 1.6428571 | H45: =COUNT(O45:AH45) -> 14 | I45: =SUM(O45+P45+Q45+R45+S45+T45+V45+U45+W45+X45+Y45+Z45+AA45+AB45+AC45+AD45+AE45+AF45+AG45+AH45) -> 12 | J45: =AJ45+AK45+AL45+AM45+AN45+AO45+AP45+AQ45+AR45+AS45+AT45+AU45+AV45+AW45+AX45+AY45+AZ45+BA45+BB45+BC45 -> 11 | K45: =I45+J45 -> 23 | L45: =BE45+BF45+BG45+BH45+BI45+BJ45+BK45+BL45+BM45+BN45+BO45+BP45+BR45+BQ45+BS45+BT45+BU45+BV45+BW45+BX45 -> 0 | O45: 0 | P45: 1 | R45: 1 | T45: 1 | U45: 0 | V45: 1 | W45: 0 | X45: 1 | Y45: 2 | AB45: 1 | AC45: 1 | AD45: 0 | AF45: 0 | AG45: 3 | AJ45: 3 | AK45: 0 | AM45: 1 | AO45: 0 | AP45: 0 | AQ45: 0 | AR45: 2 | AS45: 0 | AT45: 3 | AW45: 0 | AX45: 0 | AY45: 1 | BA45: 0 | BB45: 1
A46: =Tyg!B23 -> 38 | B46: =Tyg!C23 -> Koutský | C46: =Tyg!D23 -> Jan | D46: =Tyg!E23 -> 941221 | E46: =Tyg!F23 -> JH | F46: Tyg | G46: =K46/H46 -> 0.71428571 | H46: =COUNT(O46:AH46) -> 7 | I46: =SUM(O46+P46+Q46+R46+S46+T46+V46+U46+W46+X46+Y46+Z46+AA46+AB46+AC46+AD46+AE46+AF46+AG46+AH46) -> 3 | J46: =AJ46+AK46+AL46+AM46+AN46+AO46+AP46+AQ46+AR46+AS46+AT46+AU46+AV46+AW46+AX46+AY46+AZ46+BA46+BB46+BC46 -> 2 | K46: =I46+J46 -> 5 | L46: =BE46+BF46+BG46+BH46+BI46+BJ46+BK46+BL46+BM46+BN46+BO46+BP46+BR46+BQ46+BS46+BT46+BU46+BV46+BW46+BX46 -> 0 | O46: 0 | R46: 1 | X46: 0 | Y46: 2 | Z46: 0 | AB46: 0 | AC46: 0 | AJ46: 0 | AM46: 1 | AS46: 0 | AT46: 1 | AU46: 0 | AW46: 0 | AX46: 0
A47: =Tyg!B24 -> 39 | B47: =Tyg!C24 -> Šauer | C47: =Tyg!D24 -> Michal | D47: =Tyg!E24 -> 860807 | E47: =Tyg!F24 -> JH | F47: Tyg | G47: =K47/H47 -> 0.76923077 | H47: =COUNT(O47:AH47) -> 13 | I47: =SUM(O47+P47+Q47+R47+S47+T47+V47+U47+W47+X47+Y47+Z47+AA47+AB47+AC47+AD47+AE47+AF47+AG47+AH47) -> 3 | J47: =AJ47+AK47+AL47+AM47+AN47+AO47+AP47+AQ47+AR47+AS47+AT47+AU47+AV47+AW47+AX47+AY47+AZ47+BA47+BB47+BC47 -> 7 | K47: =I47+J47 -> 10 | L47: =BE47+BF47+BG47+BH47+BI47+BJ47+BK47+BL47+BM47+BN47+BO47+BP47+BR47+BQ47+BS47+BT47+BU47+BV47+BW47+BX47 -> 0 | O47: 0 | P47: 0 | R47: 0 | S47: 0 | Y47: 0 | Z47: 0 | AA47: 1 | AB47: 0 | AC47: 0 | AD47: 1 | AE47: 1 | AF47: 0 | AG47: 0 | AJ47: 0 | AK47: 2 | AM47: 0 | AN47: 0 | AT47: 1 | AU47: 0 | AV47: 1 | AW47: 1 | AX47: 1 | AY47: 0 | AZ47: 0 | BA47: 0 | BB47: 1
A48: =Tyg!B25 -> 40 | B48: =Tyg!C25 -> Pilavka | C48: =Tyg!D25 -> Rostislav | D48: =Tyg!E25 -> 790228 | E48: =Tyg!F25 -> JH | F48: Tyg | G48: =K48/H48 -> 3.8333333 | H48: =COUNT(O48:AH48) -> 12 | I48: =SUM(O48+P48+Q48+R48+S48+T48+V48+U48+W48+X48+Y48+Z48+AA48+AB48+AC48+AD48+AE48+AF48+AG48+AH48) -> 23 | J48: =AJ48+AK48+AL48+AM48+AN48+AO48+AP48+AQ48+AR48+AS48+AT48+AU48+AV48+AW48+AX48+AY48+AZ48+BA48+BB48+BC48 -> 23 | K48: =I48+J48 -> 46 | L48: =BE48+BF48+BG48+BH48+BI48+BJ48+BK48+BL48+BM48+BN48+BO48+BP48+BR48+BQ48+BS48+BT48+BU48+BV48+BW48+BX48 -> 0 | O48: 2 | P48: 1 | Q48: 2 | S48: 1 | V48: 5 | W48: 2 | X48: 3 | Z48: 1 | AA48: 2 | AB48: 0 | AD48: 2 | AF48: 2 | AJ48: 3 | AK48: 2 | AL48: 0 | AN48: 0 | AQ48: 5 | AR48: 1 | AS48: 3 | AU48: 2 | AV48: 4 | AW48: 0 | AY48: 2 | BA48: 1
A49: =Tyg!B26 -> 41 | B49: =Tyg!C26 -> Maršík | C49: =Tyg!D26 -> Jan | D49: =Tyg!E26 -> 790813 | E49: =Tyg!F26 -> JH | F49: Tyg | G49: =K49/H49 -> 1.4 | H49: =COUNT(O49:AH49) -> 5 | I49: =SUM(O49+P49+Q49+R49+S49+T49+V49+U49+W49+X49+Y49+Z49+AA49+AB49+AC49+AD49+AE49+AF49+AG49+AH49) -> 3 | J49: =AJ49+AK49+AL49+AM49+AN49+AO49+AP49+AQ49+AR49+AS49+AT49+AU49+AV49+AW49+AX49+AY49+AZ49+BA49+BB49+BC49 -> 4 | K49: =I49+J49 -> 7 | L49: =BE49+BF49+BG49+BH49+BI49+BJ49+BK49+BL49+BM49+BN49+BO49+BP49+BR49+BQ49+BS49+BT49+BU49+BV49+BW49+BX49 -> 0 | O49: 0 | V49: 1 | Y49: 1 | Z49: 1 | AC49: 0 | AJ49: 0 | AQ49: 1 | AT49: 0 | AU49: 2 | AX49: 1
A50: =Tyg!B27 -> 42 | B50: =Tyg!C27 -> Pánek | C50: =Tyg!D27 -> Luboš | D50: =Tyg!E27 -> 761216 | E50: =Tyg!F27 -> JH | F50: Tyg | G50: =K50/H50 -> 0.66666667 | H50: =COUNT(O50:AH50) -> 9 | I50: =SUM(O50+P50+Q50+R50+S50+T50+V50+U50+W50+X50+Y50+Z50+AA50+AB50+AC50+AD50+AE50+AF50+AG50+AH50) -> 3 | J50: =AJ50+AK50+AL50+AM50+AN50+AO50+AP50+AQ50+AR50+AS50+AT50+AU50+AV50+AW50+AX50+AY50+AZ50+BA50+BB50+BC50 -> 3 | K50: =I50+J50 -> 6 | L50: =BE50+BF50+BG50+BH50+BI50+BJ50+BK50+BL50+BM50+BN50+BO50+BP50+BR50+BQ50+BS50+BT50+BU50+BV50+BW50+BX50 -> 0 | O50: 0 | P50: 0 | Q50: 1 | R50: 1 | S50: 0 | U50: 0 | AE50: 0 | AF50: 1 | AG50: 0 | AJ50: 1 | AK50: 0 | AL50: 1 | AM50: 0 | AN50: 0 | AP50: 0 | AZ50: 1 | BA50: 0 | BB50: 0
A51: =Tyg!B28 -> 77 | B51: =Tyg!C28 -> Vogel | C51: =Tyg!D28 -> Jiří | D51: =Tyg!E28 -> 760614 | E51: =Tyg!F28 -> JH | F51: Tyg | G51: =K51/H51 -> 0.66666667 | H51: =COUNT(O51:AH51) -> 9 | I51: =SUM(O51+P51+Q51+R51+S51+T51+V51+U51+W51+X51+Y51+Z51+AA51+AB51+AC51+AD51+AE51+AF51+AG51+AH51) -> 3 | J51: =AJ51+AK51+AL51+AM51+AN51+AO51+AP51+AQ51+AR51+AS51+AT51+AU51+AV51+AW51+AX51+AY51+AZ51+BA51+BB51+BC51 -> 3 | K51: =I51+J51 -> 6 | L51: =BE51+BF51+BG51+BH51+BI51+BJ51+BK51+BL51+BM51+BN51+BO51+BP51+BR51+BQ51+BS51+BT51+BU51+BV51+BW51+BX51 -> 0 | P51: 0 | U51: 0 | V51: 0 | Y51: 0 | AA51: 3 | AC51: 0 | AE51: 0 | AF51: 0 | AG51: 0 | AK51: 0 | AP51: 0 | AQ51: 1 | AT51: 1 | AV51: 0 | AX51: 0 | AZ51: 1 | BA51: 0 | BB51: 0
A52: =Tyg!B29 -> 88 | B52: =Tyg!C29 -> Vičar | C52: =Tyg!D29 -> Milan | D52: =Tyg!E29 -> 681218 | E52: =Tyg!F29 -> JH | F52: Tyg | G52: =K52/H52 -> 0.66666667 | H52: =COUNT(O52:AH52) -> 15 | I52: =SUM(O52+P52+Q52+R52+S52+T52+V52+U52+W52+X52+Y52+Z52+AA52+AB52+AC52+AD52+AE52+AF52+AG52+AH52) -> 2 | J52: =AJ52+AK52+AL52+AM52+AN52+AO52+AP52+AQ52+AR52+AS52+AT52+AU52+AV52+AW52+AX52+AY52+AZ52+BA52+BB52+BC52 -> 8 | K52: =I52+J52 -> 10 | L52: =BE52+BF52+BG52+BH52+BI52+BJ52+BK52+BL52+BM52+BN52+BO52+BP52+BR52+BQ52+BS52+BT52+BU52+BV52+BW52+BX52 -> 0 | O52: 0 | P52: 0 | Q52: 0 | S52: 0 | T52: 0 | U52: 2 | W52: 0 | Y52: 0 | Z52: 0 | AA52: 0 | AB52: 0 | AD52: 0 | AE52: 0 | AF52: 0 | AG52: 0 | AJ52: 0 | AK52: 2 | AL52: 0 | AN52: 0 | AO52: 0 | AP52: 0 | AR52: 0 | AT52: 1 | AU52: 1 | AV52: 2 | AW52: 0 | AY52: 0 | AZ52: 0 | BA52: 1 | BB52: 1
A53: =Tyg!B30 -> 0 | B53: =Tyg!C30 -> Boháček | C53: =Tyg!D30 -> Jan | D53: =Tyg!E30 -> 931108 | E53: =Tyg!F30 -> JH | F53: Tyg | G53: =K53/H53 -> 2.1666667 | H53: =COUNT(O53:AH53) -> 6 | I53: =SUM(O53+P53+Q53+R53+S53+T53+V53+U53+W53+X53+Y53+Z53+AA53+AB53+AC53+AD53+AE53+AF53+AG53+AH53) -> 7 | J53: =AJ53+AK53+AL53+AM53+AN53+AO53+AP53+AQ53+AR53+AS53+AT53+AU53+AV53+AW53+AX53+AY53+AZ53+BA53+BB53+BC53 -> 6 | K53: =I53+J53 -> 13 | L53: =BE53+BF53+BG53+BH53+BI53+BJ53+BK53+BL53+BM53+BN53+BO53+BP53+BR53+BQ53+BS53+BT53+BU53+BV53+BW53+BX53 -> 0 | O53: 2 | R53: 1 | T53: 1 | X53: 0 | AE53: 1 | AF53: 2 | AJ53: 0 | AM53: 2 | AO53: 1 | AS53: 1 | AZ53: 0 | BA53: 2
A54: =Tyg!B31 -> 0 | B54: =Tyg!C31 -> Musil | C54: =Tyg!D31 -> Lukáš | D54: =Tyg!E31 -> 831027 | E54: =Tyg!F31 -> JH | F54: Tyg | G54: =K54/H54 -> 2.0625 | H54: =COUNT(O54:AH54) -> 16 | I54: =SUM(O54+P54+Q54+R54+S54+T54+V54+U54+W54+X54+Y54+Z54+AA54+AB54+AC54+AD54+AE54+AF54+AG54+AH54) -> 20 | J54: =AJ54+AK54+AL54+AM54+AN54+AO54+AP54+AQ54+AR54+AS54+AT54+AU54+AV54+AW54+AX54+AY54+AZ54+BA54+BB54+BC54 -> 13 | K54: =I54+J54 -> 33 | L54: =BE54+BF54+BG54+BH54+BI54+BJ54+BK54+BL54+BM54+BN54+BO54+BP54+BR54+BQ54+BS54+BT54+BU54+BV54+BW54+BX54 -> 0 | O54: 0 | P54: 1 | R54: 1 | S54: 0 | U54: 1 | V54: 3 | W54: 1 | X54: 2 | Y54: 0 | Z54: 1 | AA54: 2 | AC54: 2 | AD54: 1 | AE54: 2 | AF54: 1 | AG54: 2 | AJ54: 0 | AK54: 0 | AM54: 1 | AN54: 0 | AP54: 1 | AQ54: 2 | AR54: 0 | AS54: 2 | AT54: 2 | AU54: 0 | AV54: 1 | AX54: 1 | AY54: 0 | AZ54: 1 | BA54: 2 | BB54: 0
A55: =Tyg!B32 -> 0 | B55: =Tyg!C32 -> Vomočil | C55: =Tyg!D32 -> David | D55: =Tyg!E32 -> 901114 | E55: =Tyg!F32 -> JH | F55: Tyg | G55: =K55/H55 -> 0.83333333 | H55: =COUNT(O55:AH55) -> 6 | I55: =SUM(O55+P55+Q55+R55+S55+T55+V55+U55+W55+X55+Y55+Z55+AA55+AB55+AC55+AD55+AE55+AF55+AG55+AH55) -> 4 | J55: =AJ55+AK55+AL55+AM55+AN55+AO55+AP55+AQ55+AR55+AS55+AT55+AU55+AV55+AW55+AX55+AY55+AZ55+BA55+BB55+BC55 -> 1 | K55: =I55+J55 -> 5 | L55: =BE55+BF55+BG55+BH55+BI55+BJ55+BK55+BL55+BM55+BN55+BO55+BP55+BR55+BQ55+BS55+BT55+BU55+BV55+BW55+BX55 -> 0 | Q55: 0 | S55: 0 | Y55: 0 | Z55: 2 | AC55: 0 | AE55: 2 | AL55: 0 | AN55: 0 | AT55: 0 | AU55: 1 | AX55: 0 | AZ55: 0
A56: =Tyg!B33 -> 0 | B56: =Tyg!C33 -> Kršňák | C56: =Tyg!D33 -> David | D56: =Tyg!E33 -> 930518 | E56: =Tyg!F33 -> JH | F56: Tyg | G56: =K56/H56 -> 0.92307692 | H56: =COUNT(O56:AH56) -> 13 | I56: =SUM(O56+P56+Q56+R56+S56+T56+V56+U56+W56+X56+Y56+Z56+AA56+AB56+AC56+AD56+AE56+AF56+AG56+AH56) -> 5 | J56: =AJ56+AK56+AL56+AM56+AN56+AO56+AP56+AQ56+AR56+AS56+AT56+AU56+AV56+AW56+AX56+AY56+AZ56+BA56+BB56+BC56 -> 7 | K56: =I56+J56 -> 12 | L56: =BE56+BF56+BG56+BH56+BI56+BJ56+BK56+BL56+BM56+BN56+BO56+BP56+BR56+BQ56+BS56+BT56+BU56+BV56+BW56+BX56 -> 0 | P56: 0 | S56: 1 | T56: 0 | U56: 0 | V56: 0 | W56: 0 | X56: 1 | Z56: 0 | AA56: 1 | AB56: 0 | AD56: 0 | AF56: 1 | AG56: 1 | AK56: 1 | AN56: 0 | AO56: 0 | AP56: 0 | AQ56: 1 | AR56: 0 | AS56: 2 | AU56: 1 | AV56: 0 | AW56: 0 | AY56: 1 | BA56: 0 | BB56: 1
A57: =Tyg!B34 -> 0 | B57: =Tyg!C34 -> Zeman | C57: =Tyg!D34 -> Vítek | D57: =Tyg!E34 -> 970629 | E57: =Tyg!F34 -> N | F57: Tyg | G57: =K57/H57 -> 0 | H57: =COUNT(O57:AH57) -> 3 | I57: =SUM(O57+P57+Q57+R57+S57+T57+V57+U57+W57+X57+Y57+Z57+AA57+AB57+AC57+AD57+AE57+AF57+AG57+AH57) -> 0 | J57: =AJ57+AK57+AL57+AM57+AN57+AO57+AP57+AQ57+AR57+AS57+AT57+AU57+AV57+AW57+AX57+AY57+AZ57+BA57+BB57+BC57 -> 0 | K57: =I57+J57 -> 0 | L57: =BE57+BF57+BG57+BH57+BI57+BJ57+BK57+BL57+BM57+BN57+BO57+BP57+BR57+BQ57+BS57+BT57+BU57+BV57+BW57+BX57 -> 0 | Q57: 0 | R57: 0 | AG57: 0 | AL57: 0 | AM57: 0 | BB57: 0
A58: =Tyg!B35 -> 0 | B58: =Tyg!C35 -> Kudrna | C58: =Tyg!D35 -> Ondřej | D58: =Tyg!E35 -> 0 | E58: =Tyg!F35 -> N | F58: Tyg | G58: =K58/H58 -> 0.27272727 | H58: =COUNT(O58:AH58) -> 11 | I58: =SUM(O58+P58+Q58+R58+S58+T58+V58+U58+W58+X58+Y58+Z58+AA58+AB58+AC58+AD58+AE58+AF58+AG58+AH58) -> 2 | J58: =AJ58+AK58+AL58+AM58+AN58+AO58+AP58+AQ58+AR58+AS58+AT58+AU58+AV58+AW58+AX58+AY58+AZ58+BA58+BB58+BC58 -> 1 | K58: =I58+J58 -> 3 | L58: =BE58+BF58+BG58+BH58+BI58+BJ58+BK58+BL58+BM58+BN58+BO58+BP58+BR58+BQ58+BS58+BT58+BU58+BV58+BW58+BX58 -> 0 | R58: 0 | S58: 0 | T58: 0 | U58: 0 | V58: 0 | X58: 1 | AA58: 1 | AB58: 0 | AC58: 0 | AD58: 0 | AF58: 0 | AM58: 0 | AN58: 0 | AO58: 0 | AP58: 1 | AQ58: 0 | AS58: 0 | AV58: 0 | AW58: 0 | AX58: 0 | AY58: 0 | BA58: 0
A59: =Tyg!B36 -> 0 | B59: =Tyg!C36 -> Vičar | C59: =Tyg!D36 -> Šimon | D59: =Tyg!E36 -> 0 | E59: =Tyg!F36 -> HUOH | F59: hTyg | G59: =K59/H59 -> 0.90909091 | H59: =COUNT(O59:AH59) -> 11 | I59: =SUM(O59+P59+Q59+R59+S59+T59+V59+U59+W59+X59+Y59+Z59+AA59+AB59+AC59+AD59+AE59+AF59+AG59+AH59) -> 5 | J59: =AJ59+AK59+AL59+AM59+AN59+AO59+AP59+AQ59+AR59+AS59+AT59+AU59+AV59+AW59+AX59+AY59+AZ59+BA59+BB59+BC59 -> 5 | K59: =I59+J59 -> 10 | L59: =BE59+BF59+BG59+BH59+BI59+BJ59+BK59+BL59+BM59+BN59+BO59+BP59+BR59+BQ59+BS59+BT59+BU59+BV59+BW59+BX59 -> 0 | Q59: 0 | R59: 0 | T59: 0 | U59: 2 | V59: 0 | W59: 1 | AA59: 1 | AC59: 0 | AD59: 1 | AE59: 0 | AG59: 0 | AL59: 0 | AM59: 1 | AO59: 0 | AP59: 1 | AQ59: 0 | AR59: 1 | AV59: 1 | AX59: 0 | AY59: 0 | AZ59: 1 | BB59: 0
A60: =Tyg!B37 -> 0 | B60: =Tyg!C37 -> Cik | C60: =Tyg!D37 -> Lukáš | D60: =Tyg!E37 -> 0 | E60: =Tyg!F37 -> 0 | F60: Tyg | G60: =K60/H60 -> 1 | H60: =COUNT(O60:AH60) -> 1 | I60: =SUM(O60+P60+Q60+R60+S60+T60+V60+U60+W60+X60+Y60+Z60+AA60+AB60+AC60+AD60+AE60+AF60+AG60+AH60) -> 0 | J60: =AJ60+AK60+AL60+AM60+AN60+AO60+AP60+AQ60+AR60+AS60+AT60+AU60+AV60+AW60+AX60+AY60+AZ60+BA60+BB60+BC60 -> 1 | K60: =I60+J60 -> 1 | L60: =BE60+BF60+BG60+BH60+BI60+BJ60+BK60+BL60+BM60+BN60+BO60+BP60+BR60+BQ60+BS60+BT60+BU60+BV60+BW60+BX60 -> 0 | AB60: 0 | AW60: 1
B61: =Tyg!C38 -> Ondráček | C61: =Tyg!D38 -> Radek | D61: =Tyg!E38 -> 0 | E61: =Tyg!F38 -> 0 | F61: Tyg | W61: 0 | X61: 1 | AR61: 0 | AS61: 3
B62: Dvořák | C62: Tomáš | F62: golTyg | G62: =K62/H62 -> 2.8333333 | H62: =COUNT(O62:AH62) -> 6 | I62: =SUM(O62+P62+Q62+R62+S62+T62+V62+U62+W62+X62+Y62+Z62+AA62+AB62+AC62+AD62+AE62+AF62+AG62+AH62) -> 17 | J62: =AJ62+AK62+AL62+AM62+AN62+AO62+AP62+AQ62+AR62+AS62+AT62+AU62+AV62+AW62+AX62+AY62+AZ62+BA62+BB62+BC62 -> 0 | K62: =I62+J62 -> 17 | L62: =BE62+BF62+BG62+BH62+BI62+BJ62+BK62+BL62+BM62+BN62+BO62+BP62+BR62+BQ62+BS62+BT62+BU62+BV62+BW62+BX62 -> 0 | O62: 1 | Q62: 7 | S62: 8 | U62: 0 | V62: 0 | Y62: 1
B63: Jansa | C63: Tomáš | F63: golTyg | G63: =K63/H63 -> 1 | H63: =COUNT(O63:AH63) -> 1 | I63: =SUM(O63+P63+Q63+R63+S63+T63+V63+U63+W63+X63+Y63+Z63+AA63+AB63+AC63+AD63+AE63+AF63+AG63+AH63) -> 1 | J63: =AJ63+AK63+AL63+AM63+AN63+AO63+AP63+AQ63+AR63+AS63+AT63+AU63+AV63+AW63+AX63+AY63+AZ63+BA63+BB63+BC63 -> 0 | K63: =I63+J63 -> 1 | L63: =BE63+BF63+BG63+BH63+BI63+BJ63+BK63+BL63+BM63+BN63+BO63+BP63+BR63+BQ63+BS63+BT63+BU63+BV63+BW63+BX63 -> 0 | AC63: 1
B64: Přikryl | C64: Vojtěch | F64: golTyg | G64: =K64/H64 -> 4.8181818 | H64: =COUNT(O64:AH64) -> 11 | I64: =SUM(O64+P64+Q64+R64+S64+T64+V64+U64+W64+X64+Y64+Z64+AA64+AB64+AC64+AD64+AE64+AF64+AG64+AH64) -> 53 | J64: =AJ64+AK64+AL64+AM64+AN64+AO64+AP64+AQ64+AR64+AS64+AT64+AU64+AV64+AW64+AX64+AY64+AZ64+BA64+BB64+BC64 -> 0 | K64: =I64+J64 -> 53 | L64: =BE64+BF64+BG64+BH64+BI64+BJ64+BK64+BL64+BM64+BN64+BO64+BP64+BR64+BQ64+BS64+BT64+BU64+BV64+BW64+BX64 -> 0 | P64: 4 | R64: 2 | T64: 3 | W64: 8 | Z64: 2 | AA64: 2 | AB64: 11 | AD64: 4 | AE64: 3 | AF64: 3 | AG64: 11
B65: trestné min | F65: tresTyg | G65: =K65/H65 -> 4.5263158 | H65: =COUNT(O65:AH65) -> 19 | I65: =SUM(O65+P65+Q65+R65+S65+T65+V65+U65+W65+X65+Y65+Z65+AA65+AB65+AC65+AD65+AE65+AF65+AG65+AH65) -> 86 | J65: =AJ65+AK65+AL65+AM65+AN65+AO65+AP65+AQ65+AR65+AS65+AT65+AU65+AV65+AW65+AX65+AY65+AZ65+BA65+BB65+BC65 -> 0 | K65: =I65+J65 -> 86 | L65: =BE65+BF65+BG65+BH65+BI65+BJ65+BK65+BL65+BM65+BN65+BO65+BP65+BR65+BQ65+BS65+BT65+BU65+BV65+BW65+BX65 -> 0 | O65: 4 | P65: 0 | Q65: 33 | R65: 2 | S65: 2 | T65: 0 | U65: 4 | V65: 4 | W65: 4 | X65: 5 | Y65: 2 | Z65: 4 | AA65: 0 | AB65: 2 | AC65: 0 | AD65: 4 | AE65: 4 | AF65: 4 | AG65: 8
A66: NUG | B66: 3 | R66: G | S66: ó | T66: l | U66: y | AG66: 8 | AO66: a | AP66: s | AQ66: i | AR66: s | AS66: t | AT66: e | AU66: n | AV66: c | AW66: e | BG66: T | BH66: r | BI66: e | BJ66: s | BK66: t | BL66: y
B67: Příjmení | C67: Jméno | D67: Narozen | E67: typ hráče | F67: Tým | G67: průměr | H67: Zá | I67: Gó. | J67: As. | K67: Body | L67: Tr. | O67: 1 | P67: 2 | Q67: 3 | R67: 4 | S67: 5 | T67: 6 | U67: 7 | V67: 8 | W67: 9 | X67: 10 | Y67: 11 | Z67: 12 | AA67: 13 | AB67: 14 | AC67: 15 | AD67: 16 | AE67: 17 | AF67: 18 | AG67: 19 | AH67: 20 | AJ67: 1 | AK67: 2 | AL67: 3 | AM67: 4 | AN67: 5 | AO67: 6 | AP67: 7 | AQ67: 8 | AR67: 9 | AS67: 10 | AT67: 11 | AU67: 12 | AV67: 13 | AW67: 14 | AX67: 15 | AY67: 16 | AZ67: 17 | BA67: 18 | BB67: 19 | BC67: 20 | BE67: 1 | BF67: 2 | BG67: 3 | BH67: 4 | BI67: 5 | BJ67: 6 | BK67: 7 | BL67: 8 | BM67: 9 | BN67: 10 | BO67: 11 | BP67: 12 | BQ67: 13 | BR67: 14 | BS67: 15 | BT67: 16 | BU67: 17 | BV67: 18 | BW67: 19 | BX67: 20
A68: =NUG!A17 -> 44 | B68: =NUG!B17 -> Mazák | C68: =NUG!C17 -> Roman | D68: =NUG!D17 -> 700305 | E68: =NUG!E17 -> JH | F68: Nug | G68: =K68/H68 -> 0.25 | H68: =COUNT(O68:AH68) -> 12 | I68: =SUM(O68+P68+Q68+R68+S68+T68+V68+U68+W68+X68+Y68+Z68+AA68+AB68+AC68+AD68+AE68+AF68+AG68+AH68) -> 1 | J68: =AJ68+AK68+AL68+AM68+AN68+AO68+AP68+AQ68+AR68+AS68+AT68+AU68+AV68+AW68+AX68+AY68+AZ68+BA68+BB68+BC68 -> 2 | K68: =I68+J68 -> 3 | L68: =BE68+BF68+BG68+BH68+BI68+BJ68+BK68+BL68+BM68+BN68+BO68+BP68+BR68+BQ68+BS68+BT68+BU68+BV68+BW68+BX68 -> 0 | O68: 0 | P68: 0 | Q68: 0 | R68: 0 | T68: 0 | U68: 1 | V68: 0 | X68: 0 | Y68: 0 | AB68: 0 | AE68: 0 | AF68: 0 | AJ68: 1 | AK68: 0 | AL68: 0 | AM68: 0 | AO68: 0 | AP68: 0 | AQ68: 0 | AS68: 0 | AT68: 1 | AW68: 0 | AZ68: 0 | BA68: 0
A69: =NUG!A18 -> 12 | B69: =NUG!B18 -> Budina | C69: =NUG!C18 -> Roman | D69: =NUG!D18 -> 750513 | E69: =NUG!E18 -> JH | F69: Nug | G69: =K69/H69 -> 1.125 | H69: =COUNT(O69:AH69) -> 8 | I69: =SUM(O69+P69+Q69+R69+S69+T69+V69+U69+W69+X69+Y69+Z69+AA69+AB69+AC69+AD69+AE69+AF69+AG69+AH69) -> 3 | J69: =AJ69+AK69+AL69+AM69+AN69+AO69+AP69+AQ69+AR69+AS69+AT69+AU69+AV69+AW69+AX69+AY69+AZ69+BA69+BB69+BC69 -> 6 | K69: =I69+J69 -> 9 | L69: =BE69+BF69+BG69+BH69+BI69+BJ69+BK69+BL69+BM69+BN69+BO69+BP69+BR69+BQ69+BS69+BT69+BU69+BV69+BW69+BX69 -> 0 | O69: 0 | Q69: 0 | S69: 2 | T69: 0 | Z69: 0 | AC69: 1 | AD69: 0 | AG69: 0 | AJ69: 0 | AL69: 0 | AN69: 3 | AO69: 1 | AU69: 2 | AX69: 0 | AY69: 0 | BB69: 0
A70: =NUG!A19 -> 14 | B70: =NUG!B19 -> Valenta | C70: =NUG!C19 -> Radek | D70: =NUG!D19 -> 821210 | E70: =NUG!E19 -> JH | F70: Nug | G70: =K70/H70 -> 1.3 | H70: =COUNT(O70:AH70) -> 10 | I70: =SUM(O70+P70+Q70+R70+S70+T70+V70+U70+W70+X70+Y70+Z70+AA70+AB70+AC70+AD70+AE70+AF70+AG70+AH70) -> 10 | J70: =AJ70+AK70+AL70+AM70+AN70+AO70+AP70+AQ70+AR70+AS70+AT70+AU70+AV70+AW70+AX70+AY70+AZ70+BA70+BB70+BC70 -> 3 | K70: =I70+J70 -> 13 | L70: =BE70+BF70+BG70+BH70+BI70+BJ70+BK70+BL70+BM70+BN70+BO70+BP70+BR70+BQ70+BS70+BT70+BU70+BV70+BW70+BX70 -> 0 | O70: 0 | P70: 2 | Q70: 0 | R70: 2 | S70: 1 | T70: 0 | U70: 2 | W70: 2 | Y70: 1 | AG70: 0 | AJ70: 0 | AK70: 0 | AL70: 0 | AM70: 0 | AN70: 1 | AO70: 1 | AP70: 0 | AR70: 0 | AT70: 0 | BB70: 1
A71: =NUG!A20 -> 15 | B71: =NUG!B20 -> Kulhaj | C71: =NUG!C20 -> Miloš | D71: =NUG!D20 | E71: =NUG!E20 -> JH | F71: Nug | G71: =K71/H71 -> 1 | H71: =COUNT(O71:AH71) -> 2 | I71: =SUM(O71+P71+Q71+R71+S71+T71+V71+U71+W71+X71+Y71+Z71+AA71+AB71+AC71+AD71+AE71+AF71+AG71+AH71) -> 2 | J71: =AJ71+AK71+AL71+AM71+AN71+AO71+AP71+AQ71+AR71+AS71+AT71+AU71+AV71+AW71+AX71+AY71+AZ71+BA71+BB71+BC71 -> 0 | K71: =I71+J71 -> 2 | L71: =BE71+BF71+BG71+BH71+BI71+BJ71+BK71+BL71+BM71+BN71+BO71+BP71+BR71+BQ71+BS71+BT71+BU71+BV71+BW71+BX71 -> 0 | P71: 1 | T71: 1 | AK71: 0 | AO71: 0
A72: =NUG!A21 -> 16 | B72: =NUG!B21 -> Pavlus | C72: =NUG!C21 -> Roman | D72: =NUG!D21 -> 781022 | E72: =NUG!E21 -> JH | F72: Nug | G72: =K72/H72 -> #DIV/0! | H72: =COUNT(O72:AH72) -> 0 | I72: =SUM(O72+P72+Q72+R72+S72+T72+V72+U72+W72+X72+Y72+Z72+AA72+AB72+AC72+AD72+AE72+AF72+AG72+AH72) -> 0 | J72: =AJ72+AK72+AL72+AM72+AN72+AO72+AP72+AQ72+AR72+AS72+AT72+AU72+AV72+AW72+AX72+AY72+AZ72+BA72+BB72+BC72 -> 0 | K72: =I72+J72 -> 0 | L72: =BE72+BF72+BG72+BH72+BI72+BJ72+BK72+BL72+BM72+BN72+BO72+BP72+BR72+BQ72+BS72+BT72+BU72+BV72+BW72+BX72 -> 0
A73: =NUG!A22 -> 17 | B73: =NUG!B22 -> Pazourek | C73: =NUG!C22 -> Kamil | D73: =NUG!D22 -> 790216 | E73: =NUG!E22 -> JH | F73: Nug | G73: =K73/H73 -> 1.0588235 | H73: =COUNT(O73:AH73) -> 17 | I73: =SUM(O73+P73+Q73+R73+S73+T73+V73+U73+W73+X73+Y73+Z73+AA73+AB73+AC73+AD73+AE73+AF73+AG73+AH73) -> 8 | J73: =AJ73+AK73+AL73+AM73+AN73+AO73+AP73+AQ73+AR73+AS73+AT73+AU73+AV73+AW73+AX73+AY73+AZ73+BA73+BB73+BC73 -> 10 | K73: =I73+J73 -> 18 | L73: =BE73+BF73+BG73+BH73+BI73+BJ73+BK73+BL73+BM73+BN73+BO73+BP73+BR73+BQ73+BS73+BT73+BU73+BV73+BW73+BX73 -> 0 | O73: 0 | P73: 1 | Q73: 0 | R73: 0 | S73: 0 | T73: 0 | U73: 2 | V73: 0 | W73: 0 | Z73: 0 | AA73: 0 | AB73: 1 | AC73: 3 | AD73: 0 | AE73: 0 | AF73: 0 | AG73: 1 | AJ73: 1 | AK73: 1 | AL73: 0 | AM73: 0 | AN73: 1 | AO73: 1 | AP73: 0 | AQ73: 1 | AR73: 0 | AU73: 0 | AV73: 0 | AW73: 0 | AX73: 1 | AY73: 2 | AZ73: 0 | BA73: 1 | BB73: 1
A74: =NUG!A23 -> 18 | B74: =NUG!B23 -> Pazourek | C74: =NUG!C23 -> Lukáš | D74: =NUG!D23 -> 830402 | E74: =NUG!E23 -> JH | F74: Nug | G74: =K74/H74 -> 0.61111111 | H74: =COUNT(O74:AH74) -> 18 | I74: =SUM(O74+P74+Q74+R74+S74+T74+V74+U74+W74+X74+Y74+Z74+AA74+AB74+AC74+AD74+AE74+AF74+AG74+AH74) -> 1 | J74: =AJ74+AK74+AL74+AM74+AN74+AO74+AP74+AQ74+AR74+AS74+AT74+AU74+AV74+AW74+AX74+AY74+AZ74+BA74+BB74+BC74 -> 10 | K74: =I74+J74 -> 11 | L74: =BE74+BF74+BG74+BH74+BI74+BJ74+BK74+BL74+BM74+BN74+BO74+BP74+BR74+BQ74+BS74+BT74+BU74+BV74+BW74+BX74 -> 0 | O74: 0 | P74: 0 | Q74: 0 | S74: 1 | T74: 0 | U74: 0 | V74: 0 | W74: 0 | X74: 0 | Y74: 0 | Z74: 0 | AA74: 0 | AB74: 0 | AC74: 0 | AD74: 0 | AE74: 0 | AF74: 0 | AG74: 0 | AJ74: 0 | AK74: 0 | AL74: 0 | AN74: 0 | AO74: 3 | AP74: 0 | AQ74: 1 | AR74: 0 | AS74: 3 | AT74: 0 | AU74: 0 | AV74: 1 | AW74: 0 | AX74: 1 | AY74: 0 | AZ74: 0 | BA74: 0 | BB74: 1
A75: =NUG!A24 -> 7 | B75: =NUG!B24 -> Malý | C75: =NUG!C24 -> Martin | D75: =NUG!D24 -> 940504 | E75: =NUG!E24 -> NR | F75: Nug | G75: =K75/H75 -> 2.1666667 | H75: =COUNT(O75:AH75) -> 18 | I75: =SUM(O75+P75+Q75+R75+S75+T75+V75+U75+W75+X75+Y75+Z75+AA75+AB75+AC75+AD75+AE75+AF75+AG75+AH75) -> 23 | J75: =AJ75+AK75+AL75+AM75+AN75+AO75+AP75+AQ75+AR75+AS75+AT75+AU75+AV75+AW75+AX75+AY75+AZ75+BA75+BB75+BC75 -> 16 | K75: =I75+J75 -> 39 | L75: =BE75+BF75+BG75+BH75+BI75+BJ75+BK75+BL75+BM75+BN75+BO75+BP75+BR75+BQ75+BS75+BT75+BU75+BV75+BW75+BX75 -> 0 | O75: 0 | P75: 2 | Q75: 0 | R75: 0 | S75: 3 | T75: 1 | U75: 2 | V75: 1 | X75: 2 | Y75: 2 | Z75: 2 | AA75: 1 | AB75: 0 | AC75: 0 | AD75: 2 | AE75: 2 | AF75: 0 | AG75: 3 | AJ75: 0 | AK75: 2 | AL75: 0 | AM75: 2 | AN75: 4 | AO75: 1 | AP75: 0 | AQ75: 0 | AS75: 0 | AT75: 0 | AU75: 1 | AV75: 1 | AW75: 1 | AX75: 2 | AY75: 0 | AZ75: 1 | BA75: 1 | BB75: 0
A76: =NUG!A25 -> 6 | B76: =NUG!B25 -> Daněk | C76: =NUG!C25 -> Petr | D76: =NUG!D25 -> 840529 | E76: =NUG!E25 -> JH | F76: Nug | G76: =K76/H76 -> 0.61111111 | H76: =COUNT(O76:AH76) -> 18 | I76: =SUM(O76+P76+Q76+R76+S76+T76+V76+U76+W76+X76+Y76+Z76+AA76+AB76+AC76+AD76+AE76+AF76+AG76+AH76) -> 6 | J76: =AJ76+AK76+AL76+AM76+AN76+AO76+AP76+AQ76+AR76+AS76+AT76+AU76+AV76+AW76+AX76+AY76+AZ76+BA76+BB76+BC76 -> 5 | K76: =I76+J76 -> 11 | L76: =BE76+BF76+BG76+BH76+BI76+BJ76+BK76+BL76+BM76+BN76+BO76+BP76+BR76+BQ76+BS76+BT76+BU76+BV76+BW76+BX76 -> 0 | O76: 0 | P76: 0 | Q76: 0 | R76: 0 | S76: 1 | U76: 0 | V76: 2 | W76: 1 | X76: 1 | Y76: 0 | Z76: 0 | AA76: 0 | AB76: 0 | AC76: 0 | AD76: 0 | AE76: 0 | AF76: 0 | AG76: 1 | AJ76: 0 | AK76: 0 | AL76: 0 | AM76: 0 | AN76: 1 | AP76: 1 | AQ76: 1 | AR76: 0 | AS76: 0 | AT76: 0 | AU76: 0 | AV76: 1 | AW76: 0 | AX76: 0 | AY76: 0 | AZ76: 0 | BA76: 0 | BB76: 1
A77: =NUG!A26 -> 37 | B77: =NUG!B26 -> Blaháček | C77: =NUG!C26 -> Daniel | D77: =NUG!D26 -> 931102 | E77: =NUG!E26 -> JH | F77: Nug | G77: =K77/H77 -> 0.76923077 | H77: =COUNT(O77:AH77) -> 13 | I77: =SUM(O77+P77+Q77+R77+S77+T77+V77+U77+W77+X77+Y77+Z77+AA77+AB77+AC77+AD77+AE77+AF77+AG77+AH77) -> 3 | J77: =AJ77+AK77+AL77+AM77+AN77+AO77+AP77+AQ77+AR77+AS77+AT77+AU77+AV77+AW77+AX77+AY77+AZ77+BA77+BB77+BC77 -> 7 | K77: =I77+J77 -> 10 | L77: =BE77+BF77+BG77+BH77+BI77+BJ77+BK77+BL77+BM77+BN77+BO77+BP77+BR77+BQ77+BS77+BT77+BU77+BV77+BW77+BX77 -> 0 | O77: 0 | P77: 0 | Q77: 1 | T77: 0 | U77: 1 | V77: 0 | W77: 1 | X77: 0 | Y77: 0 | AB77: 0 | AC77: 0 | AD77: 0 | AF77: 0 | AJ77: 0 | AK77: 1 | AL77: 1 | AO77: 1 | AP77: 1 | AQ77: 0 | AR77: 0 | AS77: 0 | AT77: 1 | AW77: 0 | AX77: 2 | AY77: 0 | BA77: 0
A78: =NUG!A27 -> 91 | B78: =NUG!B27 -> Zouhar | C78: =NUG!C27 -> Martin | D78: =NUG!D27 -> 891015 | E78: =NUG!E27 -> JH | F78: Nug | G78: =K78/H78 -> 1.2352941 | H78: =COUNT(O78:AH78) -> 17 | I78: =SUM(O78+P78+Q78+R78+S78+T78+V78+U78+W78+X78+Y78+Z78+AA78+AB78+AC78+AD78+AE78+AF78+AG78+AH78) -> 13 | J78: =AJ78+AK78+AL78+AM78+AN78+AO78+AP78+AQ78+AR78+AS78+AT78+AU78+AV78+AW78+AX78+AY78+AZ78+BA78+BB78+BC78 -> 8 | K78: =I78+J78 -> 21 | L78: =BE78+BF78+BG78+BH78+BI78+BJ78+BK78+BL78+BM78+BN78+BO78+BP78+BR78+BQ78+BS78+BT78+BU78+BV78+BW78+BX78 -> 0 | O78: 2 | P78: 1 | Q78: 0 | R78: 0 | S78: 2 | U78: 0 | V78: 1 | W78: 1 | X78: 0 | Y78: 0 | Z78: 2 | AA78: 4 | AB78: 0 | AC78: 0 | AD78: 0 | AE78: 0 | AG78: 0 | AJ78: 0 | AK78: 0 | AL78: 1 | AM78: 0 | AN78: 1 | AP78: 1 | AQ78: 2 | AR78: 1 | AS78: 2 | AT78: 0 | AU78: 0 | AV78: 0 | AW78: 0 | AX78: 0 | AY78: 0 | AZ78: 0 | BB78: 0
A79: =NUG!A28 -> 5 | B79: =NUG!B28 -> Havlíček | C79: =NUG!C28 -> Petr | D79: =NUG!D28 -> 781212 | E79: =NUG!E28 -> JH | F79: Nug | G79: =K79/H79 -> 0.5625 | H79: =COUNT(O79:AH79) -> 16 | I79: =SUM(O79+P79+Q79+R79+S79+T79+V79+U79+W79+X79+Y79+Z79+AA79+AB79+AC79+AD79+AE79+AF79+AG79+AH79) -> 2 | J79: =AJ79+AK79+AL79+AM79+AN79+AO79+AP79+AQ79+AR79+AS79+AT79+AU79+AV79+AW79+AX79+AY79+AZ79+BA79+BB79+BC79 -> 7 | K79: =I79+J79 -> 9 | L79: =BE79+BF79+BG79+BH79+BI79+BJ79+BK79+BL79+BM79+BN79+BO79+BP79+BR79+BQ79+BS79+BT79+BU79+BV79+BW79+BX79 -> 0 | O79: 0 | Q79: 0 | S79: 0 | U79: 0 | V79: 1 | W79: 0 | X79: 0 | Y79: 0 | Z79: 0 | AA79: 0 | AB79: 0 | AC79: 0 | AD79: 0 | AE79: 0 | AF79: 1 | AG79: 0 | AJ79: 0 | AL79: 1 | AN79: 1 | AP79: 0 | AQ79: 0 | AR79: 2 | AS79: 0 | AT79: 0 | AU79: 1 | AV79: 1 | AW79: 0 | AX79: 0 | AY79: 0 | AZ79: 1 | BA79: 0 | BB79: 0
A80: =NUG!A29 -> 13 | B80: =NUG!B29 -> Nevrlý | C80: =NUG!C29 -> Matěj | D80: =NUG!D29 -> 0 | E80: =NUG!E29 -> UOH | F80: Nug | G80: =K80/H80 -> 0.5 | H80: =COUNT(O80:AH80) -> 10 | I80: =SUM(O80+P80+Q80+R80+S80+T80+V80+U80+W80+X80+Y80+Z80+AA80+AB80+AC80+AD80+AE80+AF80+AG80+AH80) -> 3 | J80: =AJ80+AK80+AL80+AM80+AN80+AO80+AP80+AQ80+AR80+AS80+AT80+AU80+AV80+AW80+AX80+AY80+AZ80+BA80+BB80+BC80 -> 2 | K80: =I80+J80 -> 5 | L80: =BE80+BF80+BG80+BH80+BI80+BJ80+BK80+BL80+BM80+BN80+BO80+BP80+BR80+BQ80+BS80+BT80+BU80+BV80+BW80+BX80 -> 0 | P80: 0 | Q80: 0 | R80: 0 | S80: 1 | T80: 0 | U80: 0 | X80: 0 | Y80: 0 | AC80: 0 | AF80: 2 | AK80: 1 | AL80: 0 | AM80: 0 | AN80: 0 | AO80: 0 | AP80: 0 | AS80: 0 | AT80: 1 | AX80: 0 | BA80: 0
A81: =NUG!A30 -> 0 | B81: =NUG!B30 -> Blecha | C81: =NUG!C30 -> Denis | D81: =NUG!D30 -> 991107 | E81: JH | F81: Nug | G81: =K81/H81 -> 2.7058824 | H81: =COUNT(O81:AH81) -> 17 | I81: =SUM(O81+P81+Q81+R81+S81+T81+V81+U81+W81+X81+Y81+Z81+AA81+AB81+AC81+AD81+AE81+AF81+AG81+AH81) -> 23 | J81: =AJ81+AK81+AL81+AM81+AN81+AO81+AP81+AQ81+AR81+AS81+AT81+AU81+AV81+AW81+AX81+AY81+AZ81+BA81+BB81+BC81 -> 23 | K81: =I81+J81 -> 46 | L81: =BE81+BF81+BG81+BH81+BI81+BJ81+BK81+BL81+BM81+BN81+BO81+BP81+BR81+BQ81+BS81+BT81+BU81+BV81+BW81+BX81 -> 0 | P81: 1 | Q81: 2 | R81: 1 | S81: 3 | T81: 4 | U81: 0 | W81: 0 | X81: 4 | Y81: 1 | Z81: 0 | AA81: 1 | AB81: 1 | AC81: 2 | AD81: 1 | AE81: 1 | AF81: 1 | AG81: 0 | AK81: 4 | AL81: 1 | AM81: 3 | AN81: 0 | AO81: 0 | AP81: 1 | AR81: 1 | AS81: 2 | AT81: 2 | AU81: 1 | AV81: 0 | AW81: 1 | AX81: 1 | AY81: 1 | AZ81: 2 | BA81: 2 | BB81: 1
B82: =NUG!B31 -> Viktorin | C82: =NUG!C31 -> Marek | D82: =NUG!D31 -> 0 | E82: =NUG!E33 -> 0 | F82: Nug | G82: =K82/H82 -> 1.8666667 | H82: =COUNT(O82:AH82) -> 15 | I82: =SUM(O82+P82+Q82+R82+S82+T82+V82+U82+W82+X82+Y82+Z82+AA82+AB82+AC82+AD82+AE82+AF82+AG82+AH82) -> 16 | J82: =AJ82+AK82+AL82+AM82+AN82+AO82+AP82+AQ82+AR82+AS82+AT82+AU82+AV82+AW82+AX82+AY82+AZ82+BA82+BB82+BC82 -> 12 | K82: =I82+J82 -> 28 | L82: =BE82+BF82+BG82+BH82+BI82+BJ82+BK82+BL82+BM82+BN82+BO82+BP82+BR82+BQ82+BS82+BT82+BU82+BV82+BW82+BX82 -> 0 | O82: 0 | Q82: 1 | R82: 2 | T82: 2 | U82: 0 | V82: 0 | W82: 0 | X82: 1 | Z82: 3 | AB82: 0 | AC82: 2 | AD82: 1 | AE82: 0 | AF82: 0 | AG82: 4 | AJ82: 1 | AL82: 0 | AM82: 1 | AO82: 3 | AP82: 1 | AQ82: 1 | AR82: 0 | AS82: 1 | AU82: 1 | AW82: 0 | AX82: 2 | AY82: 0 | AZ82: 0 | BA82: 0 | BB82: 1
B83: =NUG!B32 -> Řehák | C83: =NUG!C32 -> Jan | D83: =NUG!D33 -> 0 | E83: NR | F83: Nug | G83: =K83/H83 -> 2 | H83: =COUNT(O83:AH83) -> 9 | I83: =SUM(O83+P83+Q83+R83+S83+T83+V83+U83+W83+X83+Y83+Z83+AA83+AB83+AC83+AD83+AE83+AF83+AG83+AH83) -> 9 | J83: =AJ83+AK83+AL83+AM83+AN83+AO83+AP83+AQ83+AR83+AS83+AT83+AU83+AV83+AW83+AX83+AY83+AZ83+BA83+BB83+BC83 -> 9 | K83: =I83+J83 -> 18 | L83: =BE83+BF83+BG83+BH83+BI83+BJ83+BK83+BL83+BM83+BN83+BO83+BP83+BR83+BQ83+BS83+BT83+BU83+BV83+BW83+BX83 -> 0 | P83: 0 | Q83: 1 | V83: 1 | W83: 0 | X83: 1 | Y83: 3 | Z83: 0 | AA83: 1 | AG83: 2 | AK83: 0 | AL83: 0 | AQ83: 0 | AR83: 1 | AS83: 3 | AT83: 1 | AU83: 1 | AV83: 2 | BB83: 1
B84: Vebr | C84: Michal | F84: golNug | G84: =K84/H84 -> 2 | H84: =COUNT(O84:AH84) -> 1 | I84: =SUM(O84+P84+Q84+R84+S84+T84+V84+U84+W84+X84+Y84+Z84+AA84+AB84+AC84+AD84+AE84+AF84+AG84+AH84) -> 2 | J84: =AJ84+AK84+AL84+AM84+AN84+AO84+AP84+AQ84+AR84+AS84+AT84+AU84+AV84+AW84+AX84+AY84+AZ84+BA84+BB84+BC84 -> 0 | K84: =I84+J84 -> 2 | L84: =BE84+BF84+BG84+BH84+BI84+BJ84+BK84+BL84+BM84+BN84+BO84+BP84+BR84+BQ84+BS84+BT84+BU84+BV84+BW84+BX84 -> 0 | Z84: 2
B85: Jansa | C85: Tomáš | F85: golNug | G85: =K85/H85 -> 1.6666667 | H85: =COUNT(O85:AH85) -> 3 | I85: =SUM(O85+P85+Q85+R85+S85+T85+V85+U85+W85+X85+Y85+Z85+AA85+AB85+AC85+AD85+AE85+AF85+AG85+AH85) -> 5 | J85: =AJ85+AK85+AL85+AM85+AN85+AO85+AP85+AQ85+AR85+AS85+AT85+AU85+AV85+AW85+AX85+AY85+AZ85+BA85+BB85+BC85 -> 0 | K85: =I85+J85 -> 5 | L85: =BE85+BF85+BG85+BH85+BI85+BJ85+BK85+BL85+BM85+BN85+BO85+BP85+BR85+BQ85+BS85+BT85+BU85+BV85+BW85+BX85 -> 0 | S85: 2 | W85: 1 | AG85: 2
B86: Kaňák | C86: Martin | F86: golNug | G86: =K86/H86 -> 4.2307692 | H86: =COUNT(O86:AH86) -> 13 | I86: =SUM(O86+P86+Q86+R86+S86+T86+V86+U86+W86+X86+Y86+Z86+AA86+AB86+AC86+AD86+AE86+AF86+AG86+AH86) -> 55 | J86: =AJ86+AK86+AL86+AM86+AN86+AO86+AP86+AQ86+AR86+AS86+AT86+AU86+AV86+AW86+AX86+AY86+AZ86+BA86+BB86+BC86 -> 0 | K86: =I86+J86 -> 55 | L86: =BE86+BF86+BG86+BH86+BI86+BJ86+BK86+BL86+BM86+BN86+BO86+BP86+BR86+BQ86+BS86+BT86+BU86+BV86+BW86+BX86 -> 0 | O86: 5 | P86: 0 | Q86: 1 | R86: 4 | T86: 2 | U86: 5 | X86: 3 | Y86: 2 | AB86: 7 | AC86: 1 | AD86: 7 | AE86: 8 | AF86: 10
B87: Sterenčák | F87: golNug | G87: =K87/H87 -> 3.5 | H87: =COUNT(O87:AH87) -> 2 | I87: =SUM(O87+P87+Q87+R87+S87+T87+V87+U87+W87+X87+Y87+Z87+AA87+AB87+AC87+AD87+AE87+AF87+AG87+AH87) -> 7 | J87: =AJ87+AK87+AL87+AM87+AN87+AO87+AP87+AQ87+AR87+AS87+AT87+AU87+AV87+AW87+AX87+AY87+AZ87+BA87+BB87+BC87 -> 0 | K87: =I87+J87 -> 7 | L87: =BE87+BF87+BG87+BH87+BI87+BJ87+BK87+BL87+BM87+BN87+BO87+BP87+BR87+BQ87+BS87+BT87+BU87+BV87+BW87+BX87 -> 0 | V87: 3 | AA87: 4
B88: trestné min | F88: tresNug | G88: =K88/H88 -> 2.2105263 | H88: =COUNT(O88:AH88) -> 19 | I88: =SUM(O88+P88+Q88+R88+S88+T88+V88+U88+W88+X88+Y88+Z88+AA88+AB88+AC88+AD88+AE88+AF88+AG88+AH88) -> 42 | J88: =AJ88+AK88+AL88+AM88+AN88+AO88+AP88+AQ88+AR88+AS88+AT88+AU88+AV88+AW88+AX88+AY88+AZ88+BA88+BB88+BC88 -> 0 | K88: =I88+J88 -> 42 | L88: =BE88+BF88+BG88+BH88+BI88+BJ88+BK88+BL88+BM88+BN88+BO88+BP88+BR88+BQ88+BS88+BT88+BU88+BV88+BW88+BX88 -> 0 | O88: 2 | P88: 2 | Q88: 0 | R88: 4 | S88: 4 | T88: 0 | U88: 2 | V88: 0 | W88: 2 | X88: 2 | Y88: 14 | Z88: 2 | AA88: 0 | AB88: 0 | AC88: 0 | AD88: 4 | AE88: 0 | AF88: 2 | AG88: 2
A89: NEK | B89: 4 | R89: G | S89: ó | T89: l | U89: y | AO89: a | AP89: s | AQ89: i | AR89: s | AS89: t | AT89: e | AU89: n | AV89: c | AW89: e | BG89: T | BH89: r | BI89: e | BJ89: s | BK89: t | BL89: y
B90: Příjmení | C90: Jméno | D90: Narozen | E90: typ hráče | F90: Tým | G90: průměr | H90: Zá | I90: Gó. | J90: As. | K90: Body | L90: Tr. | O90: 1 | P90: 2 | Q90: 3 | R90: 4 | S90: 5 | T90: 6 | U90: 7 | V90: 8 | W90: 9 | X90: 10 | Y90: 11 | Z90: 12 | AA90: 13 | AB90: 14 | AC90: 15 | AD90: 16 | AE90: 17 | AF90: 18 | AG90: 19 | AH90: 20 | AJ90: 1 | AK90: 2 | AL90: 3 | AM90: 4 | AN90: 5 | AO90: 6 | AP90: 7 | AQ90: 8 | AR90: 9 | AS90: 10 | AT90: 11 | AU90: 12 | AV90: 13 | AW90: 14 | AX90: 15 | AY90: 16 | AZ90: 17 | BA90: 18 | BB90: 19 | BC90: 20 | BE90: 1 | BF90: 2 | BG90: 3 | BH90: 4 | BI90: 5 | BJ90: 6 | BK90: 7 | BL90: 8 | BM90: 9 | BN90: 10 | BO90: 11 | BP90: 12 | BQ90: 13 | BR90: 14 | BS90: 15 | BT90: 16 | BU90: 17 | BV90: 18 | BW90: 19 | BX90: 20
A91: =Nek!B17 -> 1 | B91: =Nek!C17 -> JANĎOUREK | C91: =Nek!D17 -> LEOŠ | D91: =Nek!E17 -> 870812 | E91: =Nek!F17 -> JH | F91: NEK | G91: =K91/H91 -> 0.33333333 | H91: =COUNT(O91:AH91) -> 12 | I91: =SUM(O91+P91+Q91+R91+S91+T91+V91+U91+W91+X91+Y91+Z91+AA91+AB91+AC91+AD91+AE91+AF91+AG91+AH91) -> 0 | J91: =AJ91+AK91+AL91+AM91+AN91+AO91+AP91+AQ91+AR91+AS91+AT91+AU91+AV91+AW91+AX91+AY91+AZ91+BA91+BB91+BC91 -> 4 | K91: =I91+J91 -> 4 | L91: =BE91+BF91+BG91+BH91+BI91+BJ91+BK91+BL91+BM91+BN91+BO91+BP91+BR91+BQ91+BS91+BT91+BU91+BV91+BW91+BX91 -> 0 | O91: 0 | P91: 0 | S91: 0 | T91: 0 | U91: 0 | V91: 0 | W91: 0 | AA91: 0 | AB91: 0 | AC91: 0 | AD91: 0 | AG91: 0 | AJ91: 0 | AK91: 0 | AN91: 1 | AO91: 0 | AP91: 0 | AQ91: 0 | AR91: 0 | AV91: 0 | AW91: 1 | AX91: 0 | AY91: 0 | BB91: 2
A92: =Nek!B18 -> 2 | B92: =Nek!C18 -> LEHKÝ | C92: =Nek!D18 -> VÁCLAV | D92: =Nek!E18 -> 690218 | E92: =Nek!F18 -> JH | F92: NEK | G92: =K92/H92 -> 0 | H92: =COUNT(O92:AH92) -> 12 | I92: =SUM(O92+P92+Q92+R92+S92+T92+V92+U92+W92+X92+Y92+Z92+AA92+AB92+AC92+AD92+AE92+AF92+AG92+AH92) -> 0 | J92: =AJ92+AK92+AL92+AM92+AN92+AO92+AP92+AQ92+AR92+AS92+AT92+AU92+AV92+AW92+AX92+AY92+AZ92+BA92+BB92+BC92 -> 0 | K92: =I92+J92 -> 0 | L92: =BE92+BF92+BG92+BH92+BI92+BJ92+BK92+BL92+BM92+BN92+BO92+BP92+BR92+BQ92+BS92+BT92+BU92+BV92+BW92+BX92 -> 0 | O92: 0 | P92: 0 | Q92: 0 | R92: 0 | S92: 0 | U92: 0 | AA92: 0 | AB92: 0 | AC92: 0 | AD92: 0 | AE92: 0 | AF92: 0 | AJ92: 0 | AK92: 0 | AL92: 0 | AM92: 0 | AN92: 0 | AP92: 0 | AV92: 0 | AW92: 0 | AX92: 0 | AY92: 0 | AZ92: 0 | BA92: 0
A93: =Nek!B19 -> 3 | B93: =Nek!C19 -> MAZURKIEWICZ | C93: =Nek!D19 -> MARTIN | D93: =Nek!E19 -> 811021 | E93: =Nek!F19 -> JH | F93: NEK | G93: =K93/H93 -> 0.25 | H93: =COUNT(O93:AH93) -> 4 | I93: =SUM(O93+P93+Q93+R93+S93+T93+V93+U93+W93+X93+Y93+Z93+AA93+AB93+AC93+AD93+AE93+AF93+AG93+AH93) -> 1 | J93: =AJ93+AK93+AL93+AM93+AN93+AO93+AP93+AQ93+AR93+AS93+AT93+AU93+AV93+AW93+AX93+AY93+AZ93+BA93+BB93+BC93 -> 0 | K93: =I93+J93 -> 1 | L93: =BE93+BF93+BG93+BH93+BI93+BJ93+BK93+BL93+BM93+BN93+BO93+BP93+BR93+BQ93+BS93+BT93+BU93+BV93+BW93+BX93 -> 0 | O93: 1 | P93: 0 | R93: 0 | AC93: 0 | AJ93: 0 | AK93: 0 | AM93: 0 | AX93: 0
A94: =Nek!B20 -> 5 | B94: =Nek!C20 -> HYLÁK | C94: =Nek!D20 -> ADAM | D94: =Nek!E20 -> 880222 | E94: =Nek!F20 -> JH | F94: NEK | G94: =K94/H94 -> 1 | H94: =COUNT(O94:AH94) -> 1 | I94: =SUM(O94+P94+Q94+R94+S94+T94+V94+U94+W94+X94+Y94+Z94+AA94+AB94+AC94+AD94+AE94+AF94+AG94+AH94) -> 0 | J94: =AJ94+AK94+AL94+AM94+AN94+AO94+AP94+AQ94+AR94+AS94+AT94+AU94+AV94+AW94+AX94+AY94+AZ94+BA94+BB94+BC94 -> 1 | K94: =I94+J94 -> 1 | L94: =BE94+BF94+BG94+BH94+BI94+BJ94+BK94+BL94+BM94+BN94+BO94+BP94+BR94+BQ94+BS94+BT94+BU94+BV94+BW94+BX94 -> 0 | Q94: 0 | AL94: 1
A95: =Nek!B21 -> 6 | B95: =Nek!C21 -> BEZSTAROSTI | C95: =Nek!D21 -> DAVID | D95: =Nek!E21 -> 950628 | E95: =Nek!F21 -> JH | F95: NEK | G95: =K95/H95 -> 0.63636364 | H95: =COUNT(O95:AH95) -> 11 | I95: =SUM(O95+P95+Q95+R95+S95+T95+V95+U95+W95+X95+Y95+Z95+AA95+AB95+AC95+AD95+AE95+AF95+AG95+AH95) -> 3 | J95: =AJ95+AK95+AL95+AM95+AN95+AO95+AP95+AQ95+AR95+AS95+AT95+AU95+AV95+AW95+AX95+AY95+AZ95+BA95+BB95+BC95 -> 4 | K95: =I95+J95 -> 7 | L95: =BE95+BF95+BG95+BH95+BI95+BJ95+BK95+BL95+BM95+BN95+BO95+BP95+BR95+BQ95+BS95+BT95+BU95+BV95+BW95+BX95 -> 0 | O95: 1 | P95: 0 | Q95: 0 | S95: 2 | T95: 0 | V95: 0 | W95: 0 | X95: 0 | Y95: 0 | AD95: 0 | AE95: 0 | AJ95: 0 | AK95: 0 | AL95: 0 | AN95: 1 | AO95: 1 | AQ95: 0 | AR95: 1 | AS95: 0 | AT95: 1 | AY95: 0 | AZ95: 0
A96: =Nek!B22 -> 7 | B96: =Nek!C22 -> SKALICKÝ | C96: =Nek!D22 -> LUBOŠ | D96: =Nek!E22 -> 790427 | E96: =Nek!F22 -> JH | F96: NEK | G96: =K96/H96 -> 0.33333333 | H96: =COUNT(O96:AH96) -> 18 | I96: =SUM(O96+P96+Q96+R96+S96+T96+V96+U96+W96+X96+Y96+Z96+AA96+AB96+AC96+AD96+AE96+AF96+AG96+AH96) -> 1 | J96: =AJ96+AK96+AL96+AM96+AN96+AO96+AP96+AQ96+AR96+AS96+AT96+AU96+AV96+AW96+AX96+AY96+AZ96+BA96+BB96+BC96 -> 5 | K96: =I96+J96 -> 6 | L96: =BE96+BF96+BG96+BH96+BI96+BJ96+BK96+BL96+BM96+BN96+BO96+BP96+BR96+BQ96+BS96+BT96+BU96+BV96+BW96+BX96 -> 0 | O96: 0 | P96: 0 | Q96: 0 | R96: 0 | S96: 0 | T96: 0 | U96: 0 | W96: 0 | X96: 0 | Y96: 1 | Z96: 0 | AA96: 0 | AB96: 0 | AC96: 0 | AD96: 0 | AE96: 0 | AF96: 0 | AG96: 0 | AJ96: 0 | AK96: 0 | AL96: 1 | AM96: 0 | AN96: 0 | AO96: 0 | AP96: 1 | AR96: 0 | AS96: 0 | AT96: 0 | AU96: 1 | AV96: 0 | AW96: 0 | AX96: 1 | AY96: 1 | AZ96: 0 | BA96: 0 | BB96: 0
A97: =Nek!B23 -> 8 | B97: =Nek!C23 -> BEDNÁŘ | C97: =Nek!D23 -> MICHAL | D97: =Nek!E23 -> 1010401 | E97: =Nek!F23 -> JH | F97: NEK | G97: =K97/H97 -> 1.1666667 | H97: =COUNT(O97:AH97) -> 12 | I97: =SUM(O97+P97+Q97+R97+S97+T97+V97+U97+W97+X97+Y97+Z97+AA97+AB97+AC97+AD97+AE97+AF97+AG97+AH97) -> 8 | J97: =AJ97+AK97+AL97+AM97+AN97+AO97+AP97+AQ97+AR97+AS97+AT97+AU97+AV97+AW97+AX97+AY97+AZ97+BA97+BB97+BC97 -> 6 | K97: =I97+J97 -> 14 | L97: =BE97+BF97+BG97+BH97+BI97+BJ97+BK97+BL97+BM97+BN97+BO97+BP97+BR97+BQ97+BS97+BT97+BU97+BV97+BW97+BX97 -> 0 | O97: 0 | Q97: 0 | W97: 1 | X97: 0 | Z97: 0 | AA97: 2 | AB97: 1 | AC97: 2 | AD97: 0 | AE97: 0 | AF97: 0 | AG97: 2 | AJ97: 1 | AL97: 0 | AR97: 0 | AS97: 0 | AU97: 0 | AV97: 0 | AW97: 1 | AX97: 0 | AY97: 1 | AZ97: 0 | BA97: 1 | BB97: 2
A98: =Nek!B24 -> 9 | B98: =Nek!C24 -> DOLEČEK | C98: =Nek!D24 -> JAKUB | D98: =Nek!E24 -> 860603 | E98: =Nek!F24 -> JH | F98: NEK | G98: =K98/H98 -> 1.2222222 | H98: =COUNT(O98:AH98) -> 9 | I98: =SUM(O98+P98+Q98+R98+S98+T98+V98+U98+W98+X98+Y98+Z98+AA98+AB98+AC98+AD98+AE98+AF98+AG98+AH98) -> 3 | J98: =AJ98+AK98+AL98+AM98+AN98+AO98+AP98+AQ98+AR98+AS98+AT98+AU98+AV98+AW98+AX98+AY98+AZ98+BA98+BB98+BC98 -> 8 | K98: =I98+J98 -> 11 | L98: =BE98+BF98+BG98+BH98+BI98+BJ98+BK98+BL98+BM98+BN98+BO98+BP98+BR98+BQ98+BS98+BT98+BU98+BV98+BW98+BX98 -> 0 | Q98: 1 | R98: 1 | S98: 0 | T98: 0 | U98: 0 | V98: 0 | Y98: 0 | Z98: 1 | AG98: 0 | AL98: 1 | AM98: 1 | AN98: 0 | AO98: 1 | AP98: 2 | AQ98: 0 | AT98: 1 | AU98: 2 | BB98: 0
A99: =Nek!B25 -> 10 | B99: =Nek!C25 -> ŠOUREK | C99: =Nek!D25 -> PAVEL | D99: =Nek!E25 -> 810104 | E99: =Nek!F25 -> JH | F99: NEK | G99: =K99/H99 -> 0.44444444 | H99: =COUNT(O99:AH99) -> 18 | I99: =SUM(O99+P99+Q99+R99+S99+T99+V99+U99+W99+X99+Y99+Z99+AA99+AB99+AC99+AD99+AE99+AF99+AG99+AH99) -> 5 | J99: =AJ99+AK99+AL99+AM99+AN99+AO99+AP99+AQ99+AR99+AS99+AT99+AU99+AV99+AW99+AX99+AY99+AZ99+BA99+BB99+BC99 -> 3 | K99: =I99+J99 -> 8 | L99: =BE99+BF99+BG99+BH99+BI99+BJ99+BK99+BL99+BM99+BN99+BO99+BP99+BR99+BQ99+BS99+BT99+BU99+BV99+BW99+BX99 -> 0 | O99: 0 | P99: 0 | Q99: 0 | R99: 0 | S99: 0 | T99: 0 | U99: 1 | V99: 0 | X99: 0 | Y99: 0 | Z99: 0 | AA99: 0 | AB99: 0 | AC99: 1 | AD99: 0 | AE99: 1 | AF99: 1 | AG99: 1 | AJ99: 0 | AK99: 0 | AL99: 0 | AM99: 0 | AN99: 1 | AO99: 0 | AP99: 0 | AQ99: 0 | AS99: 0 | AT99: 0 | AU99: 0 | AV99: 0 | AW99: 0 | AX99: 0 | AY99: 0 | AZ99: 0 | BA99: 0 | BB99: 2
A100: =Nek!B26 -> 11 | B100: =Nek!C26 -> HUBÁLEK | C100: =Nek!D26 -> MILAN | D100: =Nek!E26 -> 740710 | E100: =Nek!F26 -> JH | F100: NEK | G100: =K100/H100 -> 0 | H100: =COUNT(O100:AH100) -> 16 | I100: =SUM(O100+P100+Q100+R100+S100+T100+V100+U100+W100+X100+Y100+Z100+AA100+AB100+AC100+AD100+AE100+AF100+AG100+AH100) -> 0 | J100: =AJ100+AK100+AL100+AM100+AN100+AO100+AP100+AQ100+AR100+AS100+AT100+AU100+AV100+AW100+AX100+AY100+AZ100+BA100+BB100+BC100 -> 0 | K100: =I100+J100 -> 0 | L100: =BE100+BF100+BG100+BH100+BI100+BJ100+BK100+BL100+BM100+BN100+BO100+BP100+BR100+BQ100+BS100+BT100+BU100+BV100+BW100+BX100 -> 0 | O100: 0 | P100: 0 | Q100: 0 | R100: 0 | S100: 0 | T100: 0 | U100: 0 | V100: 0 | X100: 0 | Y100: 0 | Z100: 0 | AB100: 0 | AD100: 0 | AE100: 0 | AF100: 0 | AG100: 0 | AJ100: 0 | AK100: 0 | AL100: 0 | AM100: 0 | AN100: 0 | AO100: 0 | AP100: 0 | AQ100: 0 | AS100: 0 | AT100: 0 | AU100: 0 | AW100: 0 | AY100: 0 | AZ100: 0 | BA100: 0 | BB100: 0
...

Sheet KB
C1: Kanadské bodování LHL 23/24 | L1: 501
A2: č.dresu | B2: Příjmení | C2: Jméno | D2: Nar. | E2: Typ. | F2: Tým | G2: průměr | H2: Zá | I2: Gó. | J2: As. | K2: Body | L2: 500
A3: =Statis.!A6 -> 6 | B3: =Statis.!B6 -> Kobza | C3: =Statis.!C6 -> Jan | D3: =Statis.!D6 -> 941105 | E3: =Statis.!E6 -> JH | F3: =Statis.!F6 -> SOM | G3: =Statis.!G6 -> 3.9444444 | H3: =Statis.!H6 -> 18 | ... K3: =Statis.!K6 -> 71 | L3: =K3 -> 71
A4: =Statis.!A14 -> 22 | B4: =Statis.!B14 -> Kocian | C4: =Statis.!C14 -> David | D4: =Statis.!D14 -> 850704 | E4: =Statis.!E14 -> UOH | F4: =Statis.!F14 -> SOM | G4: =Statis.!G14 -> 4 | H4: =Statis.!H14 -> 17 | ... K4: =Statis.!K14 -> 68 | L4: =K4 -> 68 | P4: a)max 0,8 bodu pro hostování v „horší“ lize
A5: =Statis.!A240 -> 24 | B5: =Statis.!B240 -> Poles | C5: =Statis.!C240 -> Jiří | D5: =Statis.!D240 -> 890517 | E5: =Statis.!E240 -> JH | F5: =Statis.!F240 -> HTZ | G5: =Statis.!G240 -> 2.6842105 | H5: =Statis.!H240 -> 19 | ... K5: =Statis.!K240 -> 51 | L5: =K5 -> 51 | P5: b)max 1,4 bodu pro hostování ve „své“ lize
A6: =Statis.!A24 -> 0 | B6: =Statis.!B24 -> Hroch | C6: =Statis.!C24 -> Daniel | D6: =Statis.!D24 -> 0 | E6: =Statis.!E24 -> NR | F6: =Statis.!F24 -> SOM | G6: =Statis.!G24 -> 3.9230769 | H6: =Statis.!H24 -> 13 | ... K6: =Statis.!K24 -> 51 | L6: =K6 -> 51 | P6: b)max 1,9 bodu pro hostování v „lepší“
A7: =Statis.!A211 -> 0 | B7: =Statis.!B211 -> Ondráček | C7: =Statis.!C211 -> Patrik | D7: =Statis.!D211 -> 0 | E7: =Statis.!E211 -> UOH | F7: =Statis.!F211 -> HEA | G7: =Statis.!G211 -> 3.5714286 | H7: =Statis.!H211 -> 14 | ... K7: =Statis.!K211 -> 50 | L7: =K7 -> 50
A8: =Statis.!A42 -> 33 | B8: =Statis.!B42 -> Dvořák | C8: =Statis.!C42 -> Ondřej | D8: =Statis.!D42 -> 910622 | E8: =Statis.!E42 -> UOH | F8: =Statis.!F42 -> Tyg | G8: =Statis.!G42 -> 3.2666667 | H8: =Statis.!H42 -> 15 | ... K8: =Statis.!K42 -> 49 | L8: =K8 -> 49
A9: =Statis.!A22 -> 94 | B9: =Statis.!B22 -> Bařica | C9: =Statis.!C22 -> Dušan | D9: =Statis.!D22 -> 750826 | E9: =Statis.!E22 -> JH | F9: =Statis.!F22 -> SOM | G9: =Statis.!G22 -> 3.2666667 | H9: =Statis.!H22 -> 15 | ... K9: =Statis.!K22 -> 49 | L9: =K9 -> 49
A10: =Statis.!A355 -> 35 | B10: =Statis.!B355 -> Masopust | C10: =Statis.!C355 -> Petr | D10: =Statis.!D355 -> 980331 | E10: =Statis.!E355 -> JH | F10: =Statis.!F355 -> PET | G10: =Statis.!G355 -> 2.7647059 | H10: =Statis.!H355 -> 17 | ... K10: =Statis.!K355 -> 47 | L10: =K10 -> 47
A11: =Statis.!A48 -> 40 | B11: =Statis.!B48 -> Pilavka | C11: =Statis.!C48 -> Rostislav | D11: =Statis.!D48 -> 790228 | E11: =Statis.!E48 -> JH | F11: =Statis.!F48 -> Tyg | G11: =Statis.!G48 -> 3.8333333 | H11: =Statis.!H48 -> 12 | ... K11: =Statis.!K48 -> 46 | L11: =K11 -> 46
A12: =Statis.!A81 -> 0 | B12: =Statis.!B81 -> Blecha | C12: =Statis.!C81 -> Denis | D12: =Statis.!D81 -> 991107 | E12: =Statis.!E81 -> JH | F12: =Statis.!F81 -> Nug | G12: =Statis.!G81 -> 2.7058824 | H12: =Statis.!H81 -> 17 | ... K12: =Statis.!K81 -> 46 | L12: =K12 -> 46
A13: =Statis.!A75 -> 7 | B13: =Statis.!B75 -> Malý | C13: =Statis.!C75 -> Martin | D13: =Statis.!D75 -> 940504 | E13: =Statis.!E75 -> NR | F13: =Statis.!F75 -> Nug | G13: =Statis.!G75 -> 2.1666667 | H13: =Statis.!H75 -> 18 | ... K13: =Statis.!K75 -> 39 | L13: =K13 -> 39
A14: =Statis.!A264 -> 4 | B14: =Statis.!B264 -> Hubina | C14: =Statis.!C264 -> Michal | D14: =Statis.!D264 -> 821112 | E14: =Statis.!E264 -> JH | F14: =Statis.!F264 -> BOB | G14: =Statis.!G264 -> 2 | H14: =Statis.!H264 -> 18 | ... K14: =Statis.!K264 -> 36 | L14: =K14 -> 36
A15: =Statis.!A735 -> 8 | B15: =Statis.!B735 -> Skalický | C15: =Statis.!C735 -> Martin | D15: =Statis.!D735 -> 750709 | E15: =Statis.!E735 -> jh | F15: =Statis.!F735 -> Srš | G15: =Statis.!G735 -> 1.8421053 | H15: =Statis.!H735 -> 19 | ... K15: =Statis.!K735 -> 35 | L15: =K15 -> 35
A16: =Statis.!A900 -> 96 | B16: =Statis.!B900 -> Veselý | C16: =Statis.!C900 -> Ondřej | D16: =Statis.!D900 -> 0 | E16: =Statis.!E900 -> JH | F16: =Statis.!F900 -> HTř | G16: =Statis.!G900 -> 2.5384615 | H16: =Statis.!H900 -> 13 | ... K16: =Statis.!K900 -> 33 | L16: =K16 -> 33
A17: =Statis.!A312 -> 77 | B17: =Statis.!B312 -> Babák | C17: =Statis.!C312 -> David | D17: =Statis.!D312 -> 770109 | E17: =Statis.!E312 -> JH | F17: =Statis.!F312 -> LAZ | G17: =Statis.!G312 -> 1.9411765 | H17: =Statis.!H312 -> 17 | ... K17: =Statis.!K312 -> 33 | L17: =K17 -> 33
A18: =Statis.!A54 -> 0 | B18: =Statis.!B54 -> Musil | C18: =Statis.!C54 -> Lukáš | D18: =Statis.!D54 -> 831027 | E18: =Statis.!E54 -> JH | F18: =Statis.!F54 -> Tyg | G18: =Statis.!G54 -> 2.0625 | H18: =Statis.!H54 -> 16 | ... K18: =Statis.!K54 -> 33 | L18: =K18 -> 33
A19: =Statis.!A736 -> 9 | B19: =Statis.!B736 -> Gremlica | C19: =Statis.!C736 -> Filip | D19: =Statis.!D736 -> 0 | E19: =Statis.!E736 -> 0 | F19: =Statis.!F736 -> Srš | G19: =Statis.!G736 -> 1.6315789 | H19: =Statis.!H736 -> 19 | ... K19: =Statis.!K736 -> 31 | L19: =K19 -> 31
A20: =Statis.!A21 -> 89 | B20: =Statis.!B21 -> Peška | C20: =Statis.!C21 -> Michal | D20: =Statis.!D21 -> 890618 | E20: =Statis.!E21 -> JH | F20: =Statis.!F21 -> SOM | G20: =Statis.!G21 -> 2.2142857 | H20: =Statis.!H21 -> 14 | ... K20: =Statis.!K21 -> 31 | L20: =K20 -> 31
A21: =Statis.!A591 -> 29 | B21: =Statis.!B591 -> Pecháček | C21: =Statis.!C591 -> Robin | D21: =Statis.!D591 -> 920903 | E21: =Statis.!E591 -> JH | F21: =Statis.!F591 -> RAF | G21: =Statis.!G591 -> 2 | H21: =Statis.!H591 -> 15 | ... K21: =Statis.!K591 -> 30 | L21: =K21 -> 30
A22: =Statis.!A176 -> 13 | B22: =Statis.!B176 -> Bartoš | C22: =Statis.!C176 -> Filip | D22: =Statis.!D176 -> .000610 | E22: =Statis.!E176 -> JH | F22: =Statis.!F176 -> KLŠ | G22: =Statis.!G176 -> 2.1428571 | H22: =Statis.!H176 -> 14 | ... K22: =Statis.!K176 -> 30 | L22: =K22 -> 30
A23: =Statis.!A746 -> 0 | B23: =Statis.!B746 -> Tichý | C23: =Statis.!C746 -> David | D23: =Statis.!D746 -> 0 | E23: =Statis.!E746 -> H | F23: =Statis.!F746 -> HSrš | G23: =Statis.!G746 -> 1.5555556 | H23: =Statis.!H746 -> 18 | ... K23: =Statis.!K746 -> 28 | L23: =K23 -> 28
A24: =Statis.!A792 -> 28 | B24: =Statis.!B792 -> Maixner | C24: =Statis.!C792 -> Tomáš | D24: =Statis.!D792 -> 940928 | E24: =Statis.!E792 -> N | F24: =Statis.!F792 -> Ráj | G24: =Statis.!G792 -> 2.8 | H24: =Statis.!H792 -> 10 | ... K24: =Statis.!K792 -> 28 | L24: =K24 -> 28
A25: =Statis.!A82 -> 0 | B25: =Statis.!B82 -> Viktorin | C25: =Statis.!C82 -> Marek | D25: =Statis.!D82 -> 0 | E25: =Statis.!E82 -> 0 | F25: =Statis.!F82 -> Nug | G25: =Statis.!G82 -> 1.8666667 | H25: =Statis.!H82 -> 15 | ... K25: =Statis.!K82 -> 28 | L25: =K25 -> 28
A26: =Statis.!A242 -> 30 | B26: =Statis.!B242 -> Brablc | C26: =Statis.!C242 -> Tomáš | D26: =Statis.!D242 -> 800806 | E26: =Statis.!E242 -> JH | F26: =Statis.!F242 -> HTZ | G26: =Statis.!G242 -> 1.5882353 | H26: =Statis.!H242 -> 17 | ... K26: =Statis.!K242 -> 27 | L26: =K26 -> 27
A27: =Statis.!A205 -> 73 | B27: =Statis.!B205 -> Mík ml | C27: =Statis.!C205 -> Petr | D27: =Statis.!D205 -> 911209 | E27: =Statis.!E205 -> JH | F27: =Statis.!F205 -> HEA | G27: =Statis.!G205 -> 1.6875 | H27: =Statis.!H205 -> 16 | ... K27: =Statis.!K205 -> 27 | L27: =K27 -> 27
A28: =Statis.!A210 -> 91 | B28: =Statis.!B210 -> Tichý | C28: =Statis.!C210 -> David | D28: =Statis.!D210 -> 0 | E28: =Statis.!E210 -> 0 | F28: =Statis.!F210 -> HEA | G28: =Statis.!G210 -> 1.5 | H28: =Statis.!H210 -> 18 | ... K28: =Statis.!K210 -> 27 | L28: =K28 -> 27
A29: =Statis.!A832 -> 68 | B29: =Statis.!B832 -> Šponar | C29: =Statis.!C832 -> Jaroslav | D29: =Statis.!D832 -> 0 | E29: =Statis.!E832 -> 0 | F29: =Statis.!F832 -> Ští | G29: =Statis.!G832 -> 2.7 | H29: =Statis.!H832 -> 10 | ... K29: =Statis.!K832 -> 27 | L29: =K29 -> 27
A30: =Statis.!A306 -> 0 | B30: =Statis.!B306 -> Vičar | C30: =Statis.!C306 -> Šimon | D30: =Statis.!D306 -> 40913 | E30: =Statis.!E306 -> UOH | F30: =Statis.!F306 -> LAZ | G30: =Statis.!G306 -> 1.3684211 | H30: =Statis.!H306 -> 19 | ... K30: =Statis.!K306 -> 26 | L30: =K30 -> 26
A31: =Statis.!A466 -> 0 | B31: =Statis.!B466 -> Tichý | C31: =Statis.!C466 -> David | D31: =Statis.!D466 -> 0 | E31: =Statis.!E466 -> H: | F31: =Statis.!F466 -> HISL | G31: =Statis.!G466 -> 1.625 | H31: =Statis.!H466 -> 16 | ... K31: =Statis.!K466 -> 26 | L31: =K31 -> 26
A32: =Statis.!A834 -> 77 | B32: =Statis.!B834 -> Mareš | C32: =Statis.!C834 -> Marcel | D32: =Statis.!D834 -> 0 | E32: =Statis.!E834 -> 0 | F32: =Statis.!F834 -> Ští | G32: =Statis.!G834 -> 2.1666667 | H32: =Statis.!H834 -> 12 | ... K32: =Statis.!K834 -> 26 | L32: =K32 -> 26
A33: =Statis.!A798 -> 0 | B33: =Statis.!B798 -> Novák | C33: =Statis.!C798 -> Petr | D33: =Statis.!D798 -> 970829 | E33: =Statis.!E798 -> N | F33: =Statis.!F798 -> Ráj | G33: =Statis.!G798 -> 1.3157895 | H33: =Statis.!H798 -> 19 | ... K33: =Statis.!K798 -> 25 | L33: =K33 -> 25
A34: =Statis.!A307 -> 15 | B34: =Statis.!B307 -> Schon | C34: =Statis.!C307 -> Petr | D34: =Statis.!D307 -> 1020123 | E34: =Statis.!E307 -> NR | F34: =Statis.!F307 -> LAZ | G34: =Statis.!G307 -> 1.4705882 | H34: =Statis.!H307 -> 17 | ... K34: =Statis.!K307 -> 25 | L34: =K34 -> 25
A35: =Statis.!A303 -> 9 | B35: =Statis.!B303 -> Borovička | C35: =Statis.!C303 -> Erik | D35: =Statis.!D303 -> 990515 | E35: =Statis.!E303 -> UOH | F35: =Statis.!F303 -> LAZ | G35: =Statis.!G303 -> 2 | H35: =Statis.!H303 -> 12 | ... K35: =Statis.!K303 -> 24 | L35: =K35 -> 24
A36: =Statis.!A11 -> 15 | B36: =Statis.!B11 -> Havlík | C36: =Statis.!C11 -> Josef | D36: =Statis.!D11 -> 890816 | E36: =Statis.!E11 -> JH | F36: =Statis.!F11 -> SOM | G36: =Statis.!G11 -> 1.6 | H36: =Statis.!H11 -> 15 | ... K36: =Statis.!K11 -> 24 | L36: =K36 -> 24
A37: =Statis.!A702 -> 64 | B37: =Statis.!B702 -> Pražák | C37: =Statis.!C702 -> Lukáš | D37: =Statis.!D702 -> 850818 | E37: =Statis.!E702 -> JH | F37: =Statis.!F702 -> Ver | G37: =Statis.!G702 -> 1.3333333 | H37: =Statis.!H702 -> 18 | ... K37: =Statis.!K702 -> 24 | L37: =K37 -> 24
A38: =Statis.!A422 -> 14 | B38: =Statis.!B422 -> Hrdina | C38: =Statis.!C422 -> Jakub | D38: =Statis.!D422 -> 950920 | E38: =Statis.!E422 -> JH | F38: =Statis.!F422 -> BYS | G38: =Statis.!G422 -> 1.2777778 | H38: =Statis.!H422 -> 18 | ... K38: =Statis.!K422 -> 23 | L38: =K38 -> 23
A39: =Statis.!A423 -> 15 | B39: =Statis.!B423 -> Hrdina | C39: =Statis.!C423 -> Jan ml. | D39: =Statis.!D423 -> 1226 | E39: =Statis.!E423 -> JH | F39: =Statis.!F423 -> BYS | G39: =Statis.!G423 -> 1.9166667 | H39: =Statis.!H423 -> 12 | ... K39: =Statis.!K423 -> 23 | L39: =K39 -> 23
A40: =Statis.!A760 -> 13 | B40: =Statis.!B760 -> Formánek | C40: =Statis.!C760 -> Petr | D40: =Statis.!D760 -> 0 | E40: =Statis.!E760 -> JH | F40: =Statis.!F760 -> Luk | G40: =Statis.!G760 -> 1.2777778 | H40: =Statis.!H760 -> 18 | ... K40: =Statis.!K760 -> 23 | L40: =K40 -> 23
A41: =Statis.!A45 -> 37 | B41: =Statis.!B45 -> Kalhaus | C41: =Statis.!C45 -> Robin | D41: =Statis.!D45 -> 930718 | E41: =Statis.!E45 -> JH | F41: =Statis.!F45 -> Tyg | G41: =Statis.!G45 -> 1.6428571 | H41: =Statis.!H45 -> 14 | ... K41: =Statis.!K45 -> 23 | L41: =K41 -> 23
A42: =Statis.!A417 -> 8 | B42: =Statis.!B417 -> Hrdina | C42: =Statis.!C417 -> Jiří | D42: =Statis.!D417 -> 980710 | E42: =Statis.!E417 -> JH | F42: =Statis.!F417 -> BYS | G42: =Statis.!G417 -> 1.6428571 | H42: =Statis.!H417 -> 14 | ... K42: =Statis.!K417 -> 23 | L42: =K42 -> 23
A43: =Statis.!A282 -> 0 | B43: =Statis.!B282 -> Tichý | C43: =Statis.!C282 -> David | D43: =Statis.!D282 -> 0 | E43: =Statis.!E282 -> 0 | F43: =Statis.!F282 -> HBOB | G43: =Statis.!G282 -> 1.5714286 | H43: =Statis.!H282 -> 14 | ... K43: =Statis.!K282 -> 22 | L43: =K43 -> 22
A44: =Statis.!A994 -> 72 | B44: =Statis.!B994 -> Koudelka | C44: =Statis.!C994 -> Petr | D44: =Statis.!D994 -> 850227 | E44: =Statis.!E994 -> JH | F44: =Statis.!F994 -> Hče | G44: =Statis.!G994 -> 1.4666667 | H44: =Statis.!H994 -> 15 | ... K44: =Statis.!K994 -> 22 | L44: =K44 -> 22
A45: =Statis.!A78 -> 91 | B45: =Statis.!B78 -> Zouhar | C45: =Statis.!C78 -> Martin | D45: =Statis.!D78 -> 891015 | E45: =Statis.!E78 -> JH | F45: =Statis.!F78 -> Nug | G45: =Statis.!G78 -> 1.2352941 | H45: =Statis.!H78 -> 17 | ... K45: =Statis.!K78 -> 21 | L45: =K45 -> 21
A46: =Statis.!A169 -> 2 | B46: =Statis.!B169 -> Vencl | C46: =Statis.!C169 -> František | D46: =Statis.!D169 -> 951020 | E46: =Statis.!E169 -> H | F46: =Statis.!F169 -> HKLŠ | G46: =Statis.!G169 -> 1.6153846 | H46: =Statis.!H169 -> 13 | ... K46: =Statis.!K169 -> 21 | L46: =K46 -> 21
A47: =Statis.!A1030 -> 37 | B47: =Statis.!B1030 -> Müller | C47: =Statis.!C1030 -> Ondřej | D47: =Statis.!D1030 -> 880303 | E47: =Statis.!E1030 -> JH | F47: =Statis.!F1030 -> SžK | G47: =Statis.!G1030 -> 3 | H47: =Statis.!H1030 -> 7 | ... K47: =Statis.!K1030 -> 21 | L47: =K47 -> 21
A48: =Statis.!A431 -> 0 | B48: =Statis.!B431 -> Junek | C48: =Statis.!C431 -> Jakub | D48: =Statis.!D431 -> 0 | E48: =Statis.!E431 -> 0 | F48: =Statis.!F431 -> HBYS | G48: =Statis.!G431 -> 1.75 | H48: =Statis.!H431 -> 12 | ... K48: =Statis.!K431 -> 21 | L48: =K48 -> 21
A49: =Statis.!A246 -> 88 | B49: =Statis.!B246 -> Ondruška | C49: =Statis.!C246 -> Petr | D49: =Statis.!D246 -> 900114 | E49: =Statis.!E246 -> JH | F49: =Statis.!F246 -> HTZ | G49: =Statis.!G246 -> 1.1666667 | H49: =Statis.!H246 -> 18 | ... K49: =Statis.!K246 -> 21 | L49: =K49 -> 21
A50: =Statis.!A764 -> 33 | B50: =Statis.!B764 -> Šembera | C50: =Statis.!C764 -> Miroslav | D50: =Statis.!D764 -> 810303 | E50: =Statis.!E764 -> JH | F50: =Statis.!F764 -> Luk | G50: =Statis.!G764 -> 1.1666667 | H50: =Statis.!H764 -> 18 | ... K50: =Statis.!K764 -> 21 | L50: =K50 -> 21
A51: =Statis.!A452 -> 13 | B51: =Statis.!B452 -> Doležal | C51: =Statis.!C452 -> David | D51: =Statis.!D452 -> 0 | E51: =Statis.!E452 -> JH | F51: =Statis.!F452 -> ISL | G51: =Statis.!G452 -> 1.75 | H51: =Statis.!H452 -> 12 | ... K51: =Statis.!K452 -> 21 | L51: =K51 -> 21
A52: =Statis.!A661 -> 8 | B52: =Statis.!B661 -> Myslikovjan | C52: =Statis.!C661 -> Matěj | D52: =Statis.!D661 -> 030414 | E52: =Statis.!E661 -> N. | F52: =Statis.!F661 -> Uda | G52: =Statis.!G661 -> 1.1666667 | H52: =Statis.!H661 -> 18 | ... K52: =Statis.!K661 -> 21 | L52: =K52 -> 21
A53: =Statis.!A565 -> 69 | B53: =Statis.!B565 -> Kuběnka | C53: =Statis.!C565 -> Josef | D53: =Statis.!D565 -> 920204 | E53: =Statis.!E565 -> JH | F53: =Statis.!F565 -> SLO | G53: =Statis.!G565 -> 2.2222222 | H53: =Statis.!H565 -> 9 | ... K53: =Statis.!K565 -> 20 | L53: =K53 -> 20
A54: =Statis.!A16 -> 24 | B54: =Statis.!B16 -> Kilčický | C54: =Statis.!C16 -> Michal | D54: =Statis.!D16 -> 801227 | E54: =Statis.!E16 -> UOH | F54: =Statis.!F16 -> SOM | G54: =Statis.!G16 -> 3.3333333 | H54: =Statis.!H16 -> 6 | ... K54: =Statis.!K16 -> 20 | L54: =K54 -> 20
A55: =Statis.!A531 -> 0 | B55: =Statis.!B531 -> Kuda | C55: =Statis.!C531 -> Martin | D55: =Statis.!D531 -> 871212 | E55: =Statis.!E531 -> JH | F55: =Statis.!F531 -> LDM | G55: =Statis.!G531 -> 1.1764706 | H55: =Statis.!H531 -> 17 | ... K55: =Statis.!K531 -> 20 | L55: =K55 -> 20
A56: =Statis.!A419 -> 11 | B56: =Statis.!B419 -> Hrdina | C56: =Statis.!C419 -> Matouš | D56: =Statis.!D419 -> 10505 | E56: =Statis.!E419 -> JH | F56: =Statis.!F419 -> BYS | G56: =Statis.!G419 -> 1.0526316 | H56: =Statis.!H419 -> 19 | ... K56: =Statis.!K419 -> 20 | L56: =K56 -> 20
A57: =Statis.!A737 -> 21 | B57: =Statis.!B737 -> Černý | C57: =Statis.!C737 -> Jiří | D57: =Statis.!D737 -> 580122 | E57: =Statis.!E737 -> JH | F57: =Statis.!F737 -> Srš | G57: =Statis.!G737 -> 1.0526316 | H57: =Statis.!H737 -> 19 | ... K57: =Statis.!K737 -> 20 | L57: =K57 -> 20
A58: =Statis.!A18 -> 37 | B58: =Statis.!B18 -> Zeman | C58: =Statis.!C18 -> Lukáš | D58: =Statis.!D18 -> ….000129 | E58: =Statis.!E18 -> JH | F58: =Statis.!F18 -> SOM | G58: =Statis.!G18 -> 1.25 | H58: =Statis.!H18 -> 16 | ... K58: =Statis.!K18 -> 20 | L58: =K58 -> 20
A59: =Statis.!A1024 -> 19 | B59: =Statis.!B1024 -> Flekr | C59: =Statis.!C1024 -> Jaroslav | D59: =Statis.!D1024 -> 760207 | E59: =Statis.!E1024 -> N | F59: =Statis.!F1024 -> SžK | G59: =Statis.!G1024 -> 1.25 | H59: =Statis.!H1024 -> 16 | ... K59: =Statis.!K1024 -> 20 | L59: =K59 -> 20
A60: =Statis.!A311 -> 47 | B60: =Statis.!B311 -> Langr | C60: =Statis.!C311 -> David | D60: =Statis.!D311 -> 840911 | E60: =Statis.!E311 -> JH | F60: =Statis.!F311 -> LAZ | G60: =Statis.!G311 -> 2 | H60: =Statis.!H311 -> 10 | ... K60: =Statis.!K311 -> 20 | L60: =K60 -> 20
A61: =Statis.!A317 -> 0 | B61: =Statis.!B317 -> Boruch | C61: =Statis.!C317 -> Jan | D61: =Statis.!D317 -> 920701 | E61: =Statis.!E317 -> UOH | F61: =Statis.!F317 -> LAZ | G61: =Statis.!G317 -> 1.5384615 | H61: =Statis.!H317 -> 13 | ... K61: =Statis.!K317 -> 20 | L61: =K61 -> 20
A62: =Statis.!A132 -> 19 | B62: =Statis.!B132 -> Matyáš | C62: =Statis.!C132 -> Josef | D62: =Statis.!D132 -> 860223 | E62: =Statis.!E132 -> JH | F62: =Statis.!F132 -> Těch | G62: =Statis.!G132 -> 1.3571429 | H62: =Statis.!H132 -> 14 | ... K62: =Statis.!K132 -> 19 | L62: =K62 -> 19
A63: =Statis.!A762 -> 22 | B63: =Statis.!B762 -> Štefl | C63: =Statis.!C762 -> Michal | D63: =Statis.!D762 -> 740904 | E63: =Statis.!E762 -> JH | F63: =Statis.!F762 -> Luk | G63: =Statis.!G762 -> 1 | H63: =Statis.!H762 -> 19 | ... K63: =Statis.!K762 -> 19 | L63: =K63 -> 19
A64: =Statis.!A1034 -> 95 | B64: =Statis.!B1034 -> Fogl | C64: =Statis.!C1034 -> Martin | D64: =Statis.!D1034 -> 951214 | E64: =Statis.!E1034 -> JH | F64: =Statis.!F1034 -> SžK | G64: =Statis.!G1034 -> 1 | H64: =Statis.!H1034 -> 19 | ... K64: =Statis.!K1034 -> 19 | L64: =K64 -> 19
A65: =Statis.!A768 -> 87 | B65: =Statis.!B768 -> Stupka | C65: =Statis.!C768 -> Ivo | D65: =Statis.!D768 -> 870916 | E65: =Statis.!E768 -> JH | F65: =Statis.!F768 -> Luk | G65: =Statis.!G768 -> 1 | H65: =Statis.!H768 -> 19 | ... K65: =Statis.!K768 -> 19 | L65: =K65 -> 19
A66: =Statis.!A596 -> 90 | B66: =Statis.!B596 -> Pecháček | C66: =Statis.!C596 -> Tomáš | D66: =Statis.!D596 -> 900412 | E66: =Statis.!E596 -> JH | F66: =Statis.!F596 -> RAF | G66: =Statis.!G596 -> 1.4615385 | H66: =Statis.!H596 -> 13 | ... K66: =Statis.!K596 -> 19 | L66: =K66 -> 19
A67: =Statis.!A623 -> 91 | B67: =Statis.!B623 -> Holeček | C67: =Statis.!C623 -> Lukáš | D67: =Statis.!D623 -> 940305 | E67: =Statis.!E623 -> J.H. | F67: =Statis.!F623 -> ORL | G67: =Statis.!G623 -> 2.375 | H67: =Statis.!H623 -> 8 | ... K67: =Statis.!K623 -> 19 | L67: =K67 -> 19
A68: =Statis.!A450 -> 10 | B68: =Statis.!B450 -> Preisner | C68: =Statis.!C450 -> Šimon | D68: =Statis.!D450 -> 10226 | E68: =Statis.!E450 -> UOH | F68: =Statis.!F450 -> ISL | G68: =Statis.!G450 -> 1.4615385 | H68: =Statis.!H450 -> 13 | ... K68: =Statis.!K450 -> 19 | L68: =K68 -> 19
A69: =Statis.!A708 -> 0 | B69: =Statis.!B708 -> Peškar | C69: =Statis.!C708 -> Renné | D69: =Statis.!D708 -> 740912 | E69: =Statis.!E708 -> JH | F69: =Statis.!F708 -> Ver | G69: =Statis.!G708 -> 1.5 | H69: =Statis.!H708 -> 12 | ... K69: =Statis.!K708 -> 18 | L69: =K69 -> 18
A70: =Statis.!A620 -> 42 | B70: =Statis.!B620 -> Vencl | C70: =Statis.!C620 -> František | D70: =Statis.!D620 -> 951025 | E70: =Statis.!E620 -> J.H. | F70: =Statis.!F620 -> ORL | G70: =Statis.!G620 -> 1.125 | H70: =Statis.!H620 -> 16 | ... K70: =Statis.!K620 -> 18 | L70: =K70 -> 18
A71: =Statis.!A890 -> 10 | B71: =Statis.!B890 -> Felcman | C71: =Statis.!C890 -> Martin | D71: =Statis.!D890 -> 930928 | E71: =Statis.!E890 -> JH | F71: =Statis.!F890 -> HTř | G71: =Statis.!G890 -> 1.125 | H71: =Statis.!H890 -> 16 | ... K71: =Statis.!K890 -> 18 | L71: =K71 -> 18
A72: =Statis.!A536 -> 0 | B72: =Statis.!B536 -> Sršeň | C72: =Statis.!C536 -> Milan | D72: =Statis.!D536 -> 0 | E72: =Statis.!E536 -> 0 | F72: =Statis.!F536 -> LDM | G72: =Statis.!G536 -> 1.0588235 | H72: =Statis.!H536 -> 17 | ... K72: =Statis.!K536 -> 18 | L72: =K72 -> 18
A73: =Statis.!A530 -> 0 | B73: =Statis.!B530 -> Šebrle | C73: =Statis.!C530 -> Jirka | D73: =Statis.!D530 -> 850203 | E73: =Statis.!E530 -> JH | F73: =Statis.!F530 -> LDM | G73: =Statis.!G530 -> 1.2 | H73: =Statis.!H530 -> 15 | ... K73: =Statis.!K530 -> 18 | L73: =K73 -> 18
A74: =Statis.!A556 -> 22 | B74: =Statis.!B556 -> Valčík ml. | C74: =Statis.!C556 -> Roman | D74: =Statis.!D556 -> 951122 | E74: =Statis.!E556 -> JH | F74: =Statis.!F556 -> SLO | G74: =Statis.!G556 -> 0.94736842 | H74: =Statis.!H556 -> 19 | ... K74: =Statis.!K556 -> 18 | L74: =K74 -> 18
A75: =Statis.!A796 -> 77 | B75: =Statis.!B796 -> Lang | C75: =Statis.!C796 -> Jakub | D75: =Statis.!D796 -> 930707 | E75: =Statis.!E796 -> N.R.P. | F75: =Statis.!F796 -> Ráj | G75: =Statis.!G796 -> 1.5 | H75: =Statis.!H796 -> 12 | ... K75: =Statis.!K796 -> 18 | L75: =K75 -> 18
A76: =Statis.!A247 -> 93 | B76: =Statis.!B247 -> Minář | C76: =Statis.!C247 -> Šimon | D76: =Statis.!D247 -> 931006 | E76: =Statis.!E247 -> JH | F76: =Statis.!F247 -> HTZ | G76: =Statis.!G247 -> 0.94736842 | H76: =Statis.!H247 -> 19 | ... K76: =Statis.!K247 -> 18 | L76: =K76 -> 18
A77: =Statis.!A200 -> 13 | B77: =Statis.!B200 -> Bednář | C77: =Statis.!C200 -> David | D77: =Statis.!D200 -> 780408 | E77: =Statis.!E200 -> JH | F77: =Statis.!F200 -> HEA | G77: =Statis.!G200 -> 1.3846154 | H77: =Statis.!H200 -> 13 | ... K77: =Statis.!K200 -> 18 | L77: =K77 -> 18
A78: =Statis.!A830 -> 44 | B78: =Statis.!B830 -> Harapát | C78: =Statis.!C830 -> Radim | D78: =Statis.!D830 -> 0 | E78: =Statis.!E830 -> 0 | F78: =Statis.!F830 -> Ští | G78: =Statis.!G830 -> 1.6363636 | H78: =Statis.!H830 -> 11 | ... K78: =Statis.!K830 -> 18 | L78: =K78 -> 18
A79: =Statis.!A73 -> 17 | B79: =Statis.!B73 -> Pazourek | C79: =Statis.!C73 -> Kamil | D79: =Statis.!D73 -> 790216 | E79: =Statis.!E73 -> JH | F79: =Statis.!F73 -> Nug | G79: =Statis.!G73 -> 1.0588235 | H79: =Statis.!H73 -> 17 | ... K79: =Statis.!K73 -> 18 | L79: =K79 -> 18
A80: =Statis.!A83 -> 0 | B80: =Statis.!B83 -> Řehák | C80: =Statis.!C83 -> Jan | D80: =Statis.!D83 -> 0 | E80: =Statis.!E83 -> NR | F80: =Statis.!F83 -> Nug | G80: =Statis.!G83 -> 2 | H80: =Statis.!H83 -> 9 | ... K80: =Statis.!K83 -> 18 | L80: =K80 -> 18
A81: =Statis.!A965 -> 0 | B81: =Statis.!B965 -> Hendrich | C81: =Statis.!C965 -> Marek | D81: =Statis.!D965 -> 820416 | E81: =Statis.!E965 -> 0 | F81: =Statis.!F965 -> JED | G81: =Statis.!G965 -> 1.0625 | H81: =Statis.!H965 -> 16 | ... K81: =Statis.!K965 -> 17 | L81: =K81 -> 17
A82: =Statis.!A705 -> 0 | B82: =Statis.!B705 -> Sklenář | C82: =Statis.!C705 -> Jiří | D82: =Statis.!D705 -> 800607 | E82: =Statis.!E705 -> JH | F82: =Statis.!F705 -> Ver | G82: =Statis.!G705 -> 1.1333333 | H82: =Statis.!H705 -> 15 | ... K82: =Statis.!K705 -> 17 | L82: =K82 -> 17
A83: =Statis.!A137 -> 79 | B83: =Statis.!B137 -> Petr | C83: =Statis.!C137 -> Martin | D83: =Statis.!D137 -> 790805 | E83: =Statis.!E137 -> JH | F83: =Statis.!F137 -> Těch | G83: =Statis.!G137 -> 1.3076923 | H83: =Statis.!H137 -> 13 | ... K83: =Statis.!K137 -> 17 | L83: =K83 -> 17
A84: =Statis.!A968 -> 0 | B84: =Statis.!B968 -> Minář | C84: =Statis.!C968 -> šimon | D84: =Statis.!D968 -> 0 | E84: =Statis.!E968 -> 0 | F84: =Statis.!F968 -> HJED | G84: =Statis.!G968 -> 2.125 | H84: =Statis.!H968 -> 8 | ... K84: =Statis.!K968 -> 17 | L84: =K84 -> 17
A85: =Statis.!A13 -> 20 | B85: =Statis.!B13 -> Alka | C85: =Statis.!C13 -> Radek | D85: =Statis.!D13 -> 860528 | E85: =Statis.!E13 -> UOH | F85: =Statis.!F13 -> SOM | G85: =Statis.!G13 -> 1.3076923 | H85: =Statis.!H13 -> 13 | ... K85: =Statis.!K13 -> 17 | L85: =K85 -> 17
A86: =Statis.!A562 -> 83 | B86: =Statis.!B562 -> Feranec | C86: =Statis.!C562 -> Karel | D86: =Statis.!D562 -> 831231 | E86: =Statis.!E562 -> JH | F86: =Statis.!F562 -> SLO | G86: =Statis.!G562 -> 0.89473684 | H86: =Statis.!H562 -> 19 | ... K86: =Statis.!K562 -> 17 | L86: =K86 -> 17
A87: =Statis.!A697 -> 11 | B87: =Statis.!B697 -> Formánek | C87: =Statis.!C697 -> Vladimír | D87: =Statis.!D697 -> 791025 | E87: =Statis.!E697 -> JH | F87: =Statis.!F697 -> Ver | G87: =Statis.!G697 -> 1.0625 | H87: =Statis.!H697 -> 16 | ... K87: =Statis.!K697 -> 17 | L87: =K87 -> 17
A88: =Statis.!A215 -> 0 | B88: =Statis.!B215 -> Preisner | C88: =Statis.!C215 -> Šimon | D88: =Statis.!D215 -> 0 | E88: =Statis.!E215 -> UOH | F88: =Statis.!F215 -> H?HEA | G88: =Statis.!G215 -> 1.3076923 | H88: =Statis.!H215 -> 13 | ... K88: =Statis.!K215 -> 17 | L88: =K88 -> 17
A89: =Statis.!A482 -> 9 | B89: =Statis.!B482 -> Bělka | C89: =Statis.!C482 -> Tomáš | D89: =Statis.!D482 -> 920403 | E89: =Statis.!E482 -> 0 | F89: =Statis.!F482 -> FLY | G89: =Statis.!G482 -> 1 | H89: =Statis.!H482 -> 17 | ... K89: =Statis.!K482 -> 17 | L89: =K89 -> 17
A90: =Statis.!A793 -> 30 | B90: =Statis.!B793 -> Šamalík | C90: =Statis.!C793 -> Filip | D90: =Statis.!D793 -> 970930 | E90: =Statis.!E793 -> N | F90: =Statis.!F793 -> Ráj | G90: =Statis.!G793 -> 0.89473684 | H90: =Statis.!H793 -> 19 | ... K90: =Statis.!K793 -> 17 | L90: =K90 -> 17
A91: =Statis.!A206 -> 84 | B91: =Statis.!B206 -> Řoutil | C91: =Statis.!C206 -> Lukáš | D91: =Statis.!D206 -> 830505 | E91: =Statis.!E206 -> UOH | F91: =Statis.!F206 -> HEA | G91: =Statis.!G206 -> 1.7777778 | H91: =Statis.!H206 -> 9 | ... K91: =Statis.!K206 -> 16 | L91: =K91 -> 16
A92: =Statis.!A216 -> 0 | B92: =Statis.!B216 -> Sedláček | C92: =Statis.!C216 -> Michal | D92: =Statis.!D216 -> 0 | E92: =Statis.!E216 -> UOH | F92: =Statis.!F216 -> Hea | G92: =Statis.!G216 -> 2.2857143 | H92: =Statis.!H216 -> 7 | ... K92: =Statis.!K216 -> 16 | L92: =K92 -> 16
A93: =Statis.!A458 -> 92 | B93: =Statis.!B458 -> Boščík | C93: =Statis.!C458 -> Daniel | D93: =Statis.!D458 -> 991130 | E93: =Statis.!E458 -> JH | F93: =Statis.!F458 -> ISL | G93: =Statis.!G458 -> 1.3333333 | H93: =Statis.!H458 -> 12 | ... K93: =Statis.!K458 -> 16 | L93: =K93 -> 16
A94: =Statis.!A561 -> 71 | B94: =Statis.!B561 -> Málek | C94: =Statis.!C561 -> Jan | D94: =Statis.!D561 -> 950827 | E94: =Statis.!E561 -> JH | F94: =Statis.!F561 -> SLO | G94: =Statis.!G561 -> 1.1428571 | H94: =Statis.!H561 -> 14 | ... K94: =Statis.!K561 -> 16 | L94: =K94 -> 16
A95: =Statis.!A703 -> 77 | B95: =Statis.!B703 -> Kmeť | C95: =Statis.!C703 -> Michal | D95: =Statis.!D703 -> 850826 | E95: =Statis.!E703 -> JH | F95: =Statis.!F703 -> Ver | G95: =Statis.!G703 -> 0.94117647 | H95: =Statis.!H703 -> 17 | ... K95: =Statis.!K703 -> 16 | L95: =K95 -> 16
A96: =Statis.!A369 -> 0 | B96: =Statis.!B369 -> Mauler | C96: =Statis.!C369 -> Jan | D96: =Statis.!D369 -> 0 | E96: =Statis.!E369 -> 0 | F96: =Statis.!F369 -> 0 | G96: =Statis.!G369 -> 4 | H96: =Statis.!H369 -> 4 | ... K96: =Statis.!K369 -> 16 | L96: =K96 -> 16
A97: =Statis.!A492 -> 34 | B97: =Statis.!B492 -> Pleskot | C97: =Statis.!C492 -> Tomáš | D97: =Statis.!D492 -> 0 | E97: =Statis.!E492 -> 0 | F97: =Statis.!F492 -> FLY | G97: =Statis.!G492 -> 0.94117647 | H97: =Statis.!H492 -> 17 | ... K97: =Statis.!K492 -> 16 | L97: =K97 -> 16
A98: =Statis.!A742 -> 88 | B98: =Statis.!B742 -> Paclík | C98: =Statis.!C742 -> Libor | D98: =Statis.!D742 -> 0 | E98: =Statis.!E742 -> 0 | F98: =Statis.!F742 -> Srš | G98: =Statis.!G742 -> 1.2307692 | H98: =Statis.!H742 -> 13 | ... K98: =Statis.!K742 -> 16 | L98: =K98 -> 16
A99: =Statis.!A1028 -> 25 | B99: =Statis.!B1028 -> Suchomel | C99: =Statis.!C1028 -> Adam | D99: =Statis.!D1028 -> 920407 | E99: =Statis.!E1028 -> JH | F99: =Statis.!F1028 -> SžK | G99: =Statis.!G1028 -> 0.94117647 | H99: =Statis.!H1028 -> 17 | ... K99: =Statis.!K1028 -> 16 | L99: =K99 -> 16
A100: =Statis.!A1020 -> 10 | B100: =Statis.!B1020 -> Zařecký | C100: =Statis.!C1020 -> Jaroslav | D100: =Statis.!D1020 -> 710321 | E100: =Statis.!E1020 -> JH | F100: =Statis.!F1020 -> SžK | G100: =Statis.!G1020 -> 1.1428571 | H100: =Statis.!H1020 -> 14 | ... K100: =Statis.!K1020 -> 16 | L100: =K100 -> 16
...

Sheet zápis
B2: ZÁPIS UTKÁNÍ LHL22-23 | F2: 303 | G2: 1.liga | H2: Nuget | I2: : | J2: Těchonín | K2: ne | L2: 31.3. | M2: 0.76041667
L3: výsledek | M3: I | N3: II | O3: III | Q3: .
C4: Domácí | D4: =H2 -> Nuget | Q4: .
C5: Hosté: | D5: =J2 -> Těchonín
C7: =H2 -> Nuget | G7: g | H7: a | J7: trest | K7: Branky
B8: gol | K8: čas | L8: D/H | M8: skóre | N8: G | O8: A | P8: A
A9: 1 | B9: 44 | C9: Mazák | D9: Roman | K9: : | M9: :
B10: 12 | C10: Budina | D10: Roman | K10: : | M10: :
B11: 14 | C11: Valenta | D11: Radek | K11: : | M11: :
B12: 15 | C12: Kulhaj | D12: Miloš | K12: : | M12: :
B13: 16 | C13: Pavlus | D13: Roman | K13: : | M13: :
B14: 17 | C14: Pazourek | D14: Kamil | K14: : | M14: :
B15: 18 | C15: Pazourek | D15: Lukáš | K15: : | M15: :
B16: 7 | C16: Malý | D16: Martin | K16: : | M16: :
B17: 6 | C17: Daněk | D17: Petr | K17: : | M17: :
B18: 37 | C18: Blaháček | D18: Daniel | K18: : | M18: :
B19: 91 | C19: Zouhar | D19: Martin
B20: 5 | C20: Havlíček | D20: Petr
B21: 13 | C21: Nevrlý | D21: Matěj
C22: Blecha | D22: Denis
C23: Viktorin | D23: Marek
C24: Řehák | D24: Jan | K24: : | M24: :
K25: : | M25: :
K26: : | M26: :
K27: : | M27: :
M28: Vyšší tresty
K29: dh | L29: číslo | M29: trest | N29: přestupek
A31: 3 | B31: 4 | C31: Šegita | D31: Václav
A32: 7 | B32: 6 | C32: Ordoš "C" | D32: David
B33: 9 | C33: Fišer | D33: Radek ml.
B34: 13 | C34: Richtr | D34: Roman
A35: 10 | B35: 19 | C35: Matyáš | D35: Josef
A36: 12 | B36: 21 | C36: Krč | D36: Tomáš
A37: 14 | B37: 68 | C37: Exler | D37: Ondřej
A38: 15 | B38: 71 | C38: Šparlinek | D38: Michal
A39: 16 | B39: 76 | C39: Fišer | D39: Radek st.
A40: 17 | B40: 79 | C40: Petr | D40: Martin
A41: 18 | B41: 84 | C41: Ordoš | D41: Michal
A42: 20 | B42: 93 | C42: Vítek | D42: Martin
A43: 21 | B43: 94 | C43: Holub | D43: Radovan
A44: 22 | C44: Pražák | D44: Ondřej
C45: Leicht | D45: Roman
C46: Dalecký | D46: Jan
C47: Novák | D47: Jakub
C48: Schmidt | D48: Rudolf
C49: Hrdina | D49: Josef
C50: Dušek | D50: Martin
C51: Plundra | D51: Tomáš
C52: Pecháček | D52: Robin
C53: Faltus | D53: Jan
C54: Krč ml | D54: Tomáš
C55: Dostál | D55: Leoš
C56: Šourek | D56: Pavel

Sheet SOM
A1: 1. | B1: SOUPISKA DRUŽSTVA pro LHL 2023-24
B3: Plný název týmu : | H3: Zkratka názvu (3 písmena) :
B4: Soma engineering | H4: SOM
B6: ÚDAJE O VEDENÍ TÝMU
B7: Vedoucí družstva :
B8: Příjmení | D8: Jméno | E8: E-mail | H8: Telefon
B9: Fišer | D9: Zbyněk | E9: fiserovar@soma.cz | H9: 465350811
B10: Další kontaktní osoby :
B11: Příjmení | D11: Jméno | E11: E-mail | H11: Telefon
B12: Holinka | D12: Radek | E12: radekholinka@centrum.cz | H12: 606787803
B13: Fořt | D13: Radovan | H13: 608861363
B15: ÚDAJE O HRÁČÍCH
B16: Všichni hráči v poli (i vedoucí pokud hraje, maximálně hráčů) :
B17: Č. dresu | C17: Příjmení | D17: Jméno | E17: Narozen (formát rrmmdd)
A18: 1 | B18: 2 | C18: Sonntag | D18: Lukáš | E18: 820112 | F18: JH | G18: SOM
A19: 2 | B19: 5 | C19: Zeman | D19: Břetislav | E19: 750522 | F19: JH | G19: SOM
A20: 3 | B20: 6 | C20: Kobza | D20: Jan | E20: 941105 | F20: JH | G20: SOM
A21: 4 | B21: 7 | C21: Verner | D21: Ladislav | E21: 570219 | F21: JH | G21: SOM
A22: 5 | B22: 8 | C22: Gereš | D22: Stanislav | E22: 781004 | F22: JH | G22: SOM
A23: 6 | B23: 9 | C23: Holinka | D23: Radek | E23: 691201 | F23: JH | G23: SOM
A24: 7 | B24: 10 | C24: Horváth | D24: Miroslav | E24: 930503 | F24: JH | G24: SOM
A25: 8 | B25: 15 | C25: Havlík | D25: Josef | E25: 890816 | F25: JH | G25: SOM
A26: 9 | B26: 17 | C26: Skoumal | D26: Kamil | E26: 710618 | F26: JH | G26: SOM
A27: 10 | B27: 20 | C27: Alka | D27: Radek | E27: 860528 | F27: UOH | G27: SOM
A28: 11 | B28: 22 | C28: Kocian | D28: David | E28: 850704 | F28: UOH | G28: SOM
A29: 12 | B29: 23 | C29: Kovář | D29: Jakub | E29: 930212 | F29: JH | G29: SOM
... A31: 14 | B31: 33 | C31: Kaupe | D31: Petr | E31: 680922 | F31: JH | G31: SOM
A32: 15 | B32: 37 | C32: Zeman | D32: Lukáš | E32: ….000129 | F32: JH | G32: SOM
A33: 16 | B33: 48 | C33: Holinka | D33: Jan | E33: 920807 | F33: JH | G33: SOM
A34: 17 | B34: 67 | C34: Rozbroj | D34: Jiří | E34: 980520 | F34: JH | G34: SOM
A35: 18 | B35: 89 | C35: Peška | D35: Michal | E35: 890618 | F35: JH | G35: SOM
A36: 19 | B36: 94 | C36: Bařica | D36: Dušan | E36: 750826 | F36: JH | G36: SOM
A37: 20 | C37: Čajánek | D37: Petr | E37: 750818 | F37: JH | G37: SOM
A38: 21 | C38: Hroch | D38: Daniel | F38: NR | G38: SOM
A39: 22 | C39: Patsch | D39: Ondřej | F39: NR | G39: SOM
A40: 23 | C40: Skoumal | D40: Michal | E40: 910618 | F40: NR | G40: SOM
A41: 24 | C41: Langr | D41: Tomáš | E41: 940531 | F41: NR | G41: SOM
A42: 25 | C42: Stejskal | D42: David | F42: NR | G42: SOM
C43: Smolík | D43: Zdeněk | F43: HS | G43: SOM
C44: Hašek | D44: Stanislav | F44: HS | G44: HSOM
C45: Sedlačík | D45: David | G45: HSOM
G46: SOM
B48: Brankáři (nepovinný údaj, libovolný počet) :
C49: Příjmení | D49: Jméno | E49: Narozen (rrmmdd) | H49: Barva dresů :
B50: 32 | C50: Misiorz | D50: Petr | E50: 910712 | H50: Bílo – modrá
C51: Šprinc | D51: Vojtěch | E51: 840914

Sheet Tyg
B1: SOUPISKA DRUŽSTVA pro HOLBA LHL 2023-24
B3: Plný název týmu : | G3: Zkratka názvu (3 písmena) :
B4: Tygr Team | G4: TYG
B6: ÚDAJE O VEDENÍ TÝMU
B7: Vedoucí družstva :
B8: Příjmení | D8: Jméno | E8: E-mail | G8: Telefon
B9: Vičar | D9: Milan | E9: vicar@lux-ptz.com | G9: 731449613 | J9: geencube88@gmail.com
B10: Další kontaktní osoby :
B11: Příjmení | D11: Jméno | E11: E-mail | G11: Telefon
B12: Šauer | D12: Michal | E12: michal12sauer@gmail.com | G12: 737417822
B15: ÚDAJE O HRÁČÍCH
B16: Všichni hráči v poli (i vedoucí pokud hraje, maximálně 22 hráčů) :
B17: Č. dresu | C17: Příjmení | D17: Jméno | E17: Datum narození
A18: 1 | B18: 32 | C18: Andrle | D18: René | E18: 740401 | F18: JH
A19: 2 | B19: 33 | C19: Dvořák | D19: Ondřej | E19: 910622 | F19: UOH
A20: 3 | B20: 34 | C20: Budina | D20: Michal | E20: 780504 | F20: JH
A21: 4 | B21: 35 | C21: Morkes | D21: Radek | E21: 790312 | F21: JH
A22: 5 | B22: 37 | C22: Kalhaus | D22: Robin | E22: 930718 | F22: JH
A23: 6 | B23: 38 | C23: Koutský | D23: Jan | E23: 941221 | F23: JH
A24: 7 | B24: 39 | C24: Šauer | D24: Michal | E24: 860807 | F24: JH
A25: 8 | B25: 40 | C25: Pilavka | D25: Rostislav | E25: 790228 | F25: JH
A26: 9 | B26: 41 | C26: Maršík | D26: Jan | E26: 790813 | F26: JH
A27: 10 | B27: 42 | C27: Pánek | D27: Luboš | E27: 761216 | F27: JH
A28: 11 | B28: 77 | C28: Vogel | D28: Jiří | E28: 760614 | F28: JH
A29: 12 | B29: 88 | C29: Vičar | D29: Milan | E29: 681218 | F29: JH
A30: 13 | C30: Boháček | D30: Jan | E30: 931108 | F30: JH
A31: 14 | C31: Musil | D31: Lukáš | E31: 831027 | F31: JH
A32: 15 | C32: Vomočil | D32: David | E32: 901114 | F32: JH
A33: 16 | C33: Kršňák | D33: David | E33: 930518 | F33: JH
A34: 17 | C34: Zeman | D34: Vítek | E34: 970629 | F34: N
A35: 18 | C35: Kudrna | D35: Ondřej | F35: N
A36: 19 | C36: Vičar | D36: Šimon | F36: HUOH
A37: 20 | C37: Cik | D37: Lukáš
A38: 21 | C38: Ondráček | D38: Radek
A39: 22
A40: 23
A41: 24
C43: Příjmení | D43: Jméno | E43: Narozen (rrmmdd) | G43: Barva dresů
C44: Dvořák | D44: Tomáš | E44: 820612 | G44: Vínová
C45: Přikryl | D45: Vojtěch | E45: 920205

Sheet NUG
A1: SOUPISKA DRUŽSTVA PRO LHL 2022-3
A3: Plný název týmu : | F3: Zkratka názvu (3 písmena) :
A4: CBA Nuget Šumperk | F4: CBA | J4: hrát neděle
A6: ÚDAJE O VEDENÍ TÝMU
A7: Hlavní zodpovědná osoba :
A8: Příjmení | C8: Jméno | D8: E-mail | F8: Telefon
A9: Mazák | C9: Roman | D9: nuget@nuget.cz | F9: 777750500
A10: Další zodpovědná osoba :
A11: Příjmení | C11: Jméno | D11: E-mail | F11: Telefon
A12: Budina | C12: Roman | D12: romanbudina@cargoinvest.cz | F12: 608862907
A14: ÚDAJE O HRÁČÍCH
A15: Všichni hráči v poli (i vedoucí pokud hraje, maximálně 22 hráčů, zakroužkovat typ hráče dle Soutěžního řádu LHL, uvedení čísel nepovinné) :
A16: Č. dresu | B16: Příjmení | C16: Jméno | D16: Narozen (formát rrmmdd) | E16: Typ hráče
A17: 44 | B17: Mazák | C17: Roman | D17: 700305 | E17: JH
A18: 12 | B18: Budina | C18: Roman | D18: 750513 | E18: JH
A19: 14 | B19: Valenta | C19: Radek | D19: 821210 | E19: JH
A20: 15 | B20: Kulhaj | C20: Miloš | E20: JH
A21: 16 | B21: Pavlus | C21: Roman | D21: 781022 | E21: JH
A22: 17 | B22: Pazourek | C22: Kamil | D22: 790216 | E22: JH
A23: 18 | B23: Pazourek | C23: Lukáš | D23: 830402 | E23: JH
A24: 7 | B24: Malý | C24: Martin | D24: 940504 | E24: NR
A25: 6 | B25: Daněk | C25: Petr | D25: 840529 | E25: JH
A26: 37 | B26: Blaháček | C26: Daniel | D26: 931102 | E26: JH
A27: 91 | B27: Zouhar | C27: Martin | D27: 891015 | E27: JH
A28: 5 | B28: Havlíček | C28: Petr | D28: 781212 | E28: JH
A29: 13 | B29: Nevrlý | C29: Matěj | E29: UOH
B30: Blecha | C30: Denis | D30: 991107
B31: Viktorin | C31: Marek
B32: Řehák | C32: Jan | E32: NR
A33: Brankáři (nepovinný údaj, libovolný počet) :
A34: Č. dresu | B34: Příjmení | C34: Jméno | D34: Narozen (rrmmdd) | F34: Barva dresů :
A35: 33 | B35: Jansa | C35: Tomáš | F35: světlemodrá, oranžovomodrá
B36: Trnečka | C36: Aleš | D36: x
B37: Kaňák | C37: Martin
A40: Za správnost všech údajů zodpovídá vedoucí družstva.

Sheet Hea
D1: Soupiska: HEAT – TECH
D2: Juřina Jan 851130 776000617 jajkovo@email.cz
D3: Bednář David 780408 731617961 tiskarna@dobel.cz
A10: 3 | B10: Mík st | C10: Petr | D10: 610818 | E10: JH
A11: 7 | B11: Šrámek | C11: Michal | D11: 911210 | E11: JH
A12: 13 | B12: Bednář | C12: David | D12: 780408 | E12: JH
A13: 17 | B13: Váně | C13: Sláva | E13: JH
A14: 26 | B14: Brejša | C14: Vít | E14: UOH
A15: 33 | B15: Juřina | C15: Jan | D15: 851130 | E15: JH
A16: 52 | B16: Novák | C16: Radek | E16: JH
A17: 73 | B17: Mík ml | C17: Petr | D17: 911209 | E17: JH
A18: 84 | B18: Řoutil | C18: Lukáš | D18: 830505 | E18: UOH
A19: 92 | B19: Gremlica | C19: Filip | E19: JH
A20: 93 | B20: Pachl | C20: Tomáš | E20: UOH
B21: Vlček | C21: Ondřej | D21: 820524 | E21: JH
B22: Heřmanský | C22: Lukáš | E22: JH
A23: 91 | B23: Tichý | C23: David
B24: Ondráček | C24: Patrik | E24: UOH
B25: Poles | C25: Jří | E25: JH
B26: Kilčický | C26: Michal | E26: UOH
B27: Vomlel | C27: Jan | E27: NR
B28: Preisner | C28: Šimon | E28: UOH
B29: Sedláček | C29: Michal | E29: UOH
B30: Veselý | C30: Ondřej | E30: Hhea
B31: Skalický | C31: Martin
B32: Hubina | C32: Michal
B33: Blaháček | C33: Daniel
B34: Moučka | C34: Jan
B35: Šembera | C35: Miroslav
B36: Janík | C36: Michal | E36: UOH
B37: Andrle | C37: David
B38: Faltus | C38: Jan
B39: Koutský | C39: Jan

Sheet Laz
B1: SOUPISKA DRUŽSTVA pro HOLBA LHL 2023-24
B3: Plný název týmu : | G3: Zkratka názvu (3 písmena) :
B4: HC Lazy Neckers | G4: Laz
B6: ÚDAJE O VEDENÍ TÝMU
B7: Vedoucí družstva :
B8: Příjmení | D8: Jméno | E8: E-mail | G8: Telefon
B9: Dušek | D9: Petr | E9: perepeve@email.cz | G9: 603597059
B10: Další kontaktní osoby :
B11: Příjmení | D11: Jméno | E11: E-mail | G11: Telefon
B12: Vičar | D12: Matěj | E12: matej.vicar@lux.cz | G12: 731577327
B15: ÚDAJE O HRÁČÍCH
B16: Všichni hráči v poli (i vedoucí pokud hraje, maximálně 22 hráčů) :
C17: Příjmení | D17: Jméno | E17: Narozen (formát rrmmdd)
A18: 1 | B18: 4 | C18: Pachl | D18: Miroslav | E18: 670129 | F18: JH
A19: 2 | B19: 6 | C19: Pachl | D19: Tomáš | E19: 900425 | F19: UOH
A20: 3 | B20: 9 | C20: Borovička | D20: Erik | E20: 990515 | F20: UOH
A21: 4 | B21: 9 | C21: Václavský | D21: Lukáš | E21: 910301 | F21: UOH
A22: 5 | B22: 10 | C22: Kopp | D22: Petr | E22: 870709 | F22: JH
A23: 6 | B23: 15 | C23: Vičar | D23: Šimon | E23: 40913 | F23: UOH
A24: 7 | B24: 15 | C24: Schon | D24: Petr | E24: 1020123 | F24: NR
A25: 8 | B25: 37 | C25: Burian | D25: Vojtěch | E25: 880512 | F25: N
A26: 9 | B26: 41 | C26: Novák | D26: Radek | E26: 880722 | F26: JH
A27: 10 | B27: 46 | C27: Langhans | D27: Jaroslav | E27: 860304 | F27: N
A28: 11 | B28: 47 | C28: Langr | D28: David | E28: 840911 | F28: JH
A29: 12 | B29: 77 | C29: Babák | D29: David | E29: 770109 | F29: JH
A30: 13 | B30: 88 | C30: Vičar | D30: Matěj | E30: 920424 | F30: UOH
A31: 14 | C31: Kavánek | D31: Martin | E31: 910205 | F31: JH
A32: 15 | C32: Miláček | D32: Ondřej | E32: 950312 | F32: N
A33: 16 | C33: Chmel | D33: Matěj | E33: 30923 | F33: N
A34: 17 | C34: Boruch | D34: Jan | E34: 920701 | F34: UOH
A35: 18 | C35: Kotoulek | D35: Vít | E35: 831010 | F35: JH
A36: 19 | C36: Maleček | D36: Tomáš | E36: 880713 | F36: JH
A37: 20 | C37: Večeř | D37: Filip | F37: JH
A38: 21 | C38: Pleskot | D38: Tomáš | F38: JH
A39: 22 | C39: Sršeň | D39: Martin | E39: 940505 | F39: JH
A40: 23 | C40: Večeř | D40: Filip | F40: JH
C41: Palán | D41: Radek
A42: 24 | C42: Palán | D42: Vojtěch
C43: Lipavský | D43: Filip | E43: 1030109 | F43: NR
C44: Tichý | D44: David
C45: Škorpil | D45: Zbyněk
C47: Příjmení | D47: Jméno | E47: Narozen (rrmmdd)
C48: Beneš | D48: Milan | G48: Barva dresů :
G49: bílo-modrá

Sheet Nek
B1: SOUPISKA DRUŽSTVA PRO LHL 19-20 | E1: 2023-2024
B3: Plný název týmu : | G3: Zkratka názvu (3 písmena) :
B4: KLAS Nekoř | G4: KLN
B6: ÚDAJE O VEDENÍ TÝMU
B7: Hlavní zodpovědná osoba :
B8: Příjmení | D8: Jméno | E8: E-mail | G8: Telefon
B9: SKALICKÝ | D9: LUBOŠ | E9: skalickylubos@seznam.cz | G9: 731767561
B10: Další zodpovědná osoba :
B11: Příjmení | D11: Jméno | E11: E-mail | G11: Telefon
B12: MOTYČKA | D12: MILAN | E12: milanmotycka@seznam.cz | G12: 724211205
B14: ÚDAJE O HRÁČÍCH
B16: Č. dresu | C16: Příjmení | D16: Jméno | E16: Narozen (formát rrmmdd) | F16: Typ hráče
A17: 1 | B17: 1 | C17: JANĎOUREK | D17: LEOŠ | E17: 870812 | F17: JH
B18: 2 | C18: LEHKÝ | D18: VÁCLAV | E18: 690218 | F18: JH
A19: 3 | B19: 3 | C19: MAZURKIEWICZ | D19: MARTIN | E19: 811021 | F19: JH
A20: 5 | B20: 5 | C20: HYLÁK | D20: ADAM | E20: 880222 | F20: JH
B21: 6 | C21: BEZSTAROSTI | D21: DAVID | E21: 950628 | F21: JH
A22: 7 | B22: 7 | C22: SKALICKÝ | D22: LUBOŠ | E22: 790427 | F22: JH
A23: 8 | B23: 8 | C23: BEDNÁŘ | D23: MICHAL | E23: 1010401 | F23: JH
A24: 9 | B24: 9 | C24: DOLEČEK | D24: JAKUB | E24: 860603 | F24: JH
A25: 10 | B25: 10 | C25: ŠOUREK | D25: PAVEL | E25: 810104 | F25: JH
A26: 11 | B26: 11 | C26: HUBÁLEK | D26: MILAN | E26: 740710 | F26: JH
A27: 12 | B27: 12 | C27: ŠAFÁŘ | D27: LIBOR | E27: 730901 | F27: N
A28: 13 | B28: 13 | C28: JURČO | D28: PATRIK | E28: 970131 | F28: JH
A29: 14 | B29: 14 | C29: ŠULC | D29: PAVEL | E29: 870423 | F29: JH
A30: 15 | B30: 15 | C30: BEDNÁŘ | D30: LIBOR | E30: 960306 | F30: JH
A31: 16 | B31: 16 | C31: MOTYČKA | D31: MILAN | E31: 811129 | F31: JH
A32: 18 | B32: 17 | C32: FIŠER | D32: MILAN | E32: 670121 | F32: JH
A33: 19 | B33: 18 | C33: BAIER | D33: DAVID | E33: 850319 | F33: JH
A34: 20 | B34: 19 | C34: KREJSA | D34: JIŘÍ | E34: 950519 | F34: JH
A35: 21 | C35: Bednář | D35: Šimon | F35: N
A36: 22 | C36: HYLÁK | D36: JAKUB | E36: 911214 | F36: JH
C37: Zámečník | D37: Petr | F37: N
C38: Hubálek | D38: Ondřej | E38: 1020912
C39: Keprta | D39: Miroslav
C40: Šparlinek | D40: Michal
C41: Bečka | D41: Jan
C42: Velič | D42: Štefan
C43: Dostál | D43: Matěj
C44: Vencl | D44: František
B47: Brankáři (nepovinný údaj, libovolný počet) :
B48: Č. dresu | C48: Příjmení | D48: Jméno | E48: Narozen (rrmmdd) | G48: Barva dresů :
C49: ŠPARLINEK | D49: MICHAL | E49: 851026 | G49: ZELENO- BÍLÁ
B50: 33 | C50: BEZSTAROSTI | D50: MAREK | E50: 30325
B54: Za správnost všech údajů zodpovídá vedoucí družstva.

Sheet Těch
B1: SOUPISKA DRUŽSTVA pro HOLBA LHL 22-23
B3: Plný název týmu : | G3: Zkratka názvu (3 písmena) :
B4: HC Těchonín | G4: Těch
B6: ÚDAJE O VEDENÍ TÝMU
B7: Vedoucí družstva :
B8: Příjmení | D8: Jméno | E8: E-mail | G8: Telefon
B9: Ordoš | D9: Michal | E9: m.ordos@seznam.cz | G9: 737402013
B10: Další kontaktní osoby :
B11: Příjmení | D11: Jméno | E11: E-mail | G11: Telefon
B12: Ordoš | D12: David | E12: david.ordy@seznam.cz | G12: 734487337
B15: ÚDAJE O HRÁČÍCH
B19: Všichni hráči v poli (i vedoucí pokud hraje, maximálně 22 hráčů) :
B20: Č. dresu | C20: Příjmení | D20: Jméno | E20: Narozen (formát rrmmdd)
A21: 1. | B21: 4 | C21: Šegita | D21: Václav | E21: 760212 | F21: JH
A22: 2. | B22: 6 | C22: Ordoš "C" | D22: David | E22: 860410 | F22: JH
A23: 3. | B23: 9 | C23: Fišer | D23: Radek ml. | E23: O50831 | F23: N
A24: 4. | B24: 13 | C24: Richtr | D24: Roman | E24: 951213 | F24: JH
A25: 5. | B25: 19 | C25: Matyáš | D25: Josef | E25: 860223 | F25: JH
A26: 6. | B26: 21 | C26: Krč | D26: Tomáš | E26: 700521 | F26: JH
A27: 7. | B27: 68 | C27: Exler | D27: Ondřej | E27: 900329 | F27: JH
A28: 8. | B28: 71 | C28: Šparlinek | D28: Michal | E28: 851026 | F28: JH
A29: 9. | B29: 76 | C29: Fišer | D29: Radek st. | E29: 761201 | F29: JH
A30: 10. | B30: 79 | C30: Petr | D30: Martin | E30: 790805 | F30: JH
A31: 11. | B31: 84 | C31: Ordoš | D31: Michal | E31: 840606 | F31: JH
A32: 12. | B32: 93 | C32: Vítek | D32: Martin | E32: 830328 | F32: JH
A33: 13. | B33: 94 | C33: Holub | D33: Radovan | E33: 940322 | F33: UOH
A34: 14. | C34: Pražák | D34: Ondřej
A35: 15. | C35: Leicht | D35: Roman | F35: JH
A36: 16. | C36: Dalecký | D36: Jan | E36: 940415 | F36: N
A37: 17. | C37: Novák | D37: Jakub | F37: H
C38: Schmidt | D38: Rudolf | F38: H
C39: Hrdina | D39: Josef
C40: Dušek | D40: Martin
C41: Plundra | D41: Tomáš
C42: Pecháček | D42: Robin
C43: Faltus | D43: Jan
C44: Krč ml | D44: Tomáš
C45: Dostál | D45: Leoš
C46: Šourek | D46: Pavel
C47: Viktorin | D47: Ivo
C48: Marek | D48: Leoš
C49: Šimončič | D49: Michal
C50: Kunc | D50: Petr
... C53: Faltus | D53: Jan
C54: Příjmení | D54: Jméno | E54: Narozen (rrmmdd) | G54: Barva dresů :
B55: 30 | C55: Brdečka | D55: František | E55: 860716
B56: 33 | C56: Šolc | D56: Ondřej | E56: 930317 | G56: camo písková-černá/modrá/bílá
B57: 35 | C57: Jansa | D57: Tomáš | E57: 930612
B58: 88 | C58: Šparlinek | D58: Michal | E58: 851026

Sheet Klš
B1: SOUPISKA DRUŽSTVA PRO LHL 2023-24
B3: Plný název týmu : | G3: Zkratka názvu (3 písmena) :
B4: HC SOKOL Klášterec | G4: SKL
B6: ÚDAJE O VEDENÍ TÝMU
B7: Hlavní zodpovědná osoba :
C8: Příjmení | D8: Jméno | E8: E-mail | G8: Telefon
C9: Bednařík | D9: Milan | E9: bmstroje@seznam.cz | G9: 775035625
B10: Další zodpovědná osoba :
C11: Příjmení | D11: Jméno | E11: E-mail | G11: Telefon
C12: Rous | D12: Josef | E12: rous.terry@email.cz | G12: 731607983
B14: ÚDAJE O HRÁČÍCH
B16: Č. dresu | C16: Příjmení | D16: Jméno | E16: Narozen (rmd) | F16: Typ hráče | G16: Telefon
A17: 1 | B17: 2 | C17: Vencl | D17: František | E17: 951020 | F17: H | G17: 604876265
A18: 3 | B18: 4 | C18: Bednařík | D18: Milan | E18: 900319 | F18: JH | G18: 775035625
A19: 4 | B19: 5 | C19: Michalička | D19: Pavel | E19: 810509 | F19: JH | G19: 734755709
A20: 5 | B20: 6 | C20: Forman | D20: Filip | E20: 920731 | F20: JH | G20: 739210842
A21: 6 | B21: 7 | C21: Brůna | D21: Tomáš | E21: 861226 | F21: JH | G21: 721623913
A22: 7 | B22: 8 | C22: Myška | D22: Stanislav | E22: 640805 | F22: JH | G22: 608552215
A23: 8 | B23: 9 | C23: Král | D23: David | E23: 870610 | F23: JH | G23: 607798829
A24: 9 | B24: 10 | C24: Matěj | D24: Vašek | E24: 891227 | F24: JH | G24: 776173997
A25: 10 | B25: 12 | C25: Faltus | D25: Milan | E25: 830210 | F25: JH | G25: 724720418
A26: 11 | B26: 13 | C26: Bartoš | D26: Filip | E26: .000610 | F26: JH | G26: 776842332
A27: 12 | B27: 14 | C27: Rous | D27: Josef | E27: 780512 | F27: JH | G27: 778448090
A28: 14 | B28: 16 | C28: Špaček | D28: David | E28: 741031 | F28: JH | G28: 606683016
A29: 15 | B29: 17 | C29: Kacálek | D29: Jiří | E29: 900116 | F29: JH | G29: 775035625
A30: 16 | B30: 18 | C30: Chmelíček | D30: Jakub | E30: 880829 | F30: JH | G30: 775109385
A31: 17 | B31: 19 | C31: Keprta | D31: Jaroslav | E31: 850316 | F31: JH | G31: 774733793
A32: 18 | B32: 20 | C32: Keprta | D32: Kamil | E32: 780729 | F32: JH | G32: 777747970
A33: 19 | B33: 21 | C33: Šplíchal | D33: Ladislav | E33: 820329 | F33: JH | G33: 607164737
A34: 20 | B34: 22 | C34: Hausler | D34: Miroslav | E34: 820404 | F34: JH | G34: 777725373
A35: 21 | B35: 23 | C35: Moravec | D35: Jakub | E35: 1010324 | F35: JH | G35: 734855170
A36: 22 | B36: 24 | C36: Matyáš | D36: Martin | E36: .020909 | F36: JH | G36: 604187586
A37: 23 | B37: 25 | C37: Holeček | D37: Lukáš | F37: H
A38: 24 | B38: 26 | C38: Kunc | D38: Petr | E38: 910812
C39: Bednář | D39: Libor | F39: H
C40: Junek | D40: Jakub
C41: Hrdina | D41: Jiří
C42: Šegita | D42: Václav
B44: Brankáři (nepovinný údaj, libovolný počet) :
B45: Č. dresu | C45: Příjmení | D45: Jméno | E45: Narozen (rrmmdd)
B46: 1 | C46: Moravec | D46: Michal | E46: 790530 | G46: 773777661
G50: Barva dresů :
H51: Žluto-modrá
C52: podpis vedoucího | H52: Modro-žlutá

Sheet HTZ
B1: SOUPISKA DRUŽSTVA pro HOLBA LHL 2023/24
B3: Plný název týmu : | G3: Zkratka názvu (3 písmena) :
B4: HT Zábřeh | G4: HTZ | L4: víkend PO - ČT do 20:30 hod. včetně a případně NE večer od 18:00 do 20:30
B6: ÚDAJE O VEDENÍ TÝMU
B7: Vedoucí družstva :
B8: Příjmení | D8: Jméno | E8: E-mail | G8: Telefon
B9: Horák | D9: Aleš | E9: 1603ales@gmail.com | G9: 605110269
B10: Další kontaktní osoby :
B11: Příjmení | D11: Jméno | E11: E-mail | G11: Telefon
B12: Charvát | D12: Martin | E12: martincharvat@atlas.cz | G12: 702210677
B13: Brablc | D13: Tomáš | E13: tomasbrablc@seznam.cz | G13: 776068539
B15: ÚDAJE O HRÁČÍCH
B16: Všichni hráči v poli (i vedoucí pokud hraje, maximálně 22 hráčů) :
B17: Č. dresu | C17: Příjmení | D17: Jméno | E17: Narozen (formát rrmmdd)
B18: 2 | C18: Štrbík | D18: Libor | E18: 690105 | F18: JH
B19: 6 | C19: Hajtmar | D19: Milan | E19: 750527 | F19: JH
B20: 15 | C20: Nádeníček | D20: Jiří | E20: 700930 | F20: JH
B21: 21 | C21: Sedlačík | D21: David | E21: 861121 | F21: JH
B22: 24 | C22: Poles | D22: Jiří | E22: 890517 | F22: JH
B23: 27 | C23: Smolík | D23: Zdenek | E23: 661227 | F23: JH
B24: 30 | C24: Brablc | D24: Tomáš | E24: 800806 | F24: JH
B25: 39 | C25: Hašek | D25: Stanislav | E25: 660908 | F25: JH
B26: 66 | C26: Horák | D26: Aleš | E26: 621205 | F26: JH
B27: 79 | C27: Švéda | D27: Lukáš | E27: 791025 | F27: JH
B28: 88 | C28: Ondruška | D28: Petr | E28: 900114 | F28: JH
B29: 93 | C29: Minář | D29: Šimon | E29: 931006 | F29: JH
B30: 23 | C30: Hejl | D30: Pavel | E30: 820714 | F30: JH
B31: 8 | C31: Charvát | D31: Martin | E31: 750519 | F31: JH
B32: 9 | C32: Herzig | D32: Zdenek | E32: 690822 | F32: JH
C33: Tomášek | D33: Richard | E33: 790116 | F33: JH
C34: Žalio | D34: Robert | F34: JH
C35: Juřena | D35: Richard | E35: 820704 | F35: NH
C36: Hamal | D36: Josef | E36: 830723 | F36: JH
C37: Winkler | D37: Jaromír | E37: 720509 | F37: JH
C38: Štrbík | D38: Jan | E38: 11024 | F38: JH
C39: Picka | D39: Jiří | E39: 820716 | F39: JH
C40: Prachař | D40: Vít | E40: 860914 | F40: NH
C42: Krasula | D42: Jaroslav
G44: Barva dresů :
B45: Brankáři (nepovinný údaj, libovolný počet) : | G45: 1.Černá 2.Bílo-černá
C46: Příjmení | D46: Jméno | E46: Narozen (rrmmdd)
B47: 35 | C47: Dvořák | D47: Tomáš | E47: 820612

Sheet Bob
B1: SOUPISKA DRUŽSTVA pro LHL 23-24
B3: Plný název týmu : | G3: Zkratka názvu (3 písmena) :
B4: Bobři Lanškroun | G4: BOB | L4: ne víkend
B6: ÚDAJE O VEDENÍ TÝMU
B7: Hlavní zodpovědná osoba :
B8: Příjmení | D8: Jméno | E8: E-mail | G8: Telefon
B9: Pospíšil | D9: Jaroslav | E9: pospisil@ow.cz | G9: 776662041
B10: Další zodpovědná osoba :
B11: Příjmení | D11: Jméno | E11: E-mail | G11: Telefon
B12: Dvořák | D12: Jiří | E12: cyklo-dvorak@seznam.cz | G12: 777850808
B14: ÚDAJE O HRÁČÍCH
B16: Č. dresu | C16: Příjmení | D16: Jméno | E16: Narozen (formát rrmmdd) | F16: Typ hráče
B17: 5 | C17: Farkaš | D17: Ondřej | E17: 920527 | F17: JH
B18: 4 | C18: Hubina | D18: Michal | E18: 821112 | F18: JH
B19: 11 | C19: Pospíšil | D19: Jaroslav | E19: 630524 | F19: JH
B20: 14 | C20: Kárský | D20: Jaroslav | E20: 800519 | F20: JH
B21: 15 | C21: Štancl ml. | D21: Josef | E21: 991020 | F21: JH
B22: 16 | C22: Štancl | D22: Josef | E22: 730221 | F22: JH
B23: 17 | C23: Záleský | D23: Václav | E23: 841020 | F23: JH
B24: 18 | C24: Kasal | D24: Ondřej | E24: 890127 | F24: N
B25: 20 | C25: Dvořák ml. | D25: Jiří | E25: 761112 | F25: JH
B26: 22 | C26: Kárský | D26: Petr | E26: 831211 | F26: JH
B27: 27 | C27: Kasal | D27: Zdeněk | E27: 770703 | F27: JH
C28: Brýdl | D28: Adam | E28: 950715 | F28: JH
B29: 49 | C29: Dvořák | D29: Jiří | E29: 490301 | F29: JH
B30: 98 | C30: Kořízek | D30: Richard | E30: 830511 | F30: JH
C31: Křivohlávek | D31: Jan | E31: 780506 | F31: JH
C32: Šášek | D32: Jan | E32: 960406 | F32: JH
C33: Stránský | D33: Vít | E33: 870327 | F33: UOH
C34: Šrámek | D34: Miroslav | E34: 640717 | F34: JH
B35: 66 | C35: Prokop | D35: Patrik | E35: 970829
C36: Tichý | D36: David
C37: Luka | D37: Josef
C38: Švec | D38: Martin
B39: 36 | C39: Skalický | D39: Martin | F39: HS
C40: Dušek | D40: Bohuslav | F40: HS
C41: Hanzlíček | D41: Aleš
B42: 99 | C42: Veselý | D42: Ondřej
B43: 77 | C43: Baum | D43: David
B44: 72 | C44: Karlík | D44: Martin
C45: Bednář | D45: David
C46: Koutský | D46: Jan
B49: Brankáři (nepovinný údaj, libovolný počet) : | G49: Oranžová
B50: Č. dresu | C50: Příjmení | D50: Jméno | E50: Narozen (rrmmdd)
B53: 69 | C53: Kopp | D53: Lukáš | E53: 890218

Sheet Pet
B1: SOUPISKA DRUŽSTVA pro HOLBA LHL 2023-24
B3: Plný název týmu : | G3: Zkratka názvu (3 písmena) :
B4: HC Petrovice | G4: PET | I4: Hraci dny spíše Pátek,Sobota, Neděle
I5: Nehodící termíny: 21.10. , 9.12., 27.1.
B6: ÚDAJE O VEDENÍ TÝMU
B7: Vedoucí družstva :
B8: Příjmení | D8: Jméno | E8: E-mail | G8: Telefon
B9: Junek | D9: Jakub | E9: 2kubajs@seznam.cz | G9: 702022914
B10: Další kontaktní osoby :
B11: Příjmení | D11: Jméno | E11: E-mail | G11: Telefon
B12: Masopust | D12: Petr | E12: pe.masopust@gmail.com | G12: 774745087
B15: ÚDAJE O HRÁČÍCH
B16: Všichni hráči v poli (i vedoucí pokud hraje, maximálně 22 hráčů) :
B17: Č. dresu | C17: Příjmení | D17: Jméno | E17: Narozen (formát rrmmdd)
A18: 1 | B18: 2 | C18: Bednář | D18: Milan | E18: 810227 | F18: JH
A19: 2 | B19: 3 | C19: Beneš | D19: Petr | E19: 820111 | F19: JH
A20: 3 | B20: 6 | C20: Novák | D20: Vlastimil | E20: 850528 | F20: JH
A21: 4 | B21: 7 | C21: Baumgartl | D21: Tomáš | E21: 880930 | F21: JH
A22: 5 | B22: 8 | C22: Novák | D22: Jakub | E22: 870324 | F22: JH
A23: 6 | B23: 9 | C23: Lešikar | D23: Roman | E23: 750821 | F23: JH
A24: 7 | B24: 14 | C24: Novák | D24: Miroslav | E24: 640430 | F24: JH
A25: 8 | B25: 15 | C25: Marek | D25: Michal | E25: 761006 | F25: JH
A26: 9 | B26: 17 | C26: Dušek | D26: Martin | E26: 760403 | F26: JH
A27: 10 | B27: 21 | C27: Marek | D27: Leoš | E27: 871016 | F27: JH
A28: 11 | B28: 22 | C28: Moravec | D28: Karel | E28: 850604 | F28: JH
A29: 12 | B29: 32 | C29: Novák | D29: David | E29: 960126 | F29: JH
... A34: 17 | B34: 28 | C34: Šafář | D34: Jan | E34: 11221 | F34: JH
A35: 18 | C35: Vencl | D35: František
A36: 19 | C36: Klouček | D36: Michal
A37: 20 | C37: Dušek | D37: Ondřej
A38: 21 | C38: Pecháček | D38: Tomáš
A39: 22 | C39: Hrdina ml. | D39: František
A40: 23 | C40: Hrdina | D40: Jiří
A41: 24 | C41: Dušek | D41: Ondřej
C43: Příjmení | D43: Jméno | E43: Narozen (rrmmdd)
C44: Novák | D44: Pavel | E44: 741205 | G44: Barva dresů :
G45: žluto-černá, bílo-modrá

Sheet Cyk
A1: SOUPISKA DRUŽSTVA pro LHL 2021-22
A3: Plný název týmu : | F3: Zkratka názvu (3 písmena) :
A4: Cyklo Team Lanškroun | F4: CYK
A6: ÚDAJE O VEDENÍ TÝMU
A7: Hlavní zodpovědná osoba :
A8: Příjmení | C8: Jméno | D8: E-mail | F8: Telefon
B9: Sobotka | C9: Luboš | D9: sobotka.lubos@tiscali.cz | E9: 603394180
A10: Další zodpovědná osoba :
A11: Příjmení | C11: Jméno | D11: E-mail | F11: Telefon
B12: Kollert | C12: Jiří
A14: ÚDAJE O HRÁČÍCH
A20: Č. dresu | B20: Příjmení | C20: Jméno | D20: Narozen (formát rrmmdd) | E20: Typ hráče
A21: 11 | B21: Jirků | C21: Pavel | D21: 730615 | E21: JH
A22: 12 | B22: Souček | C22: Martin | D22: 730211 | E22: JH
A23: 13 | B23: Zelníček | C23: Jiří | E23: JH
A24: 14 | B24: Luka | C24: Josef | D24: 750723 | E24: JH
A25: 16 | B25: Juruj | C25: Radim | D25: 730120 | E25: JH
A26: 17 | B26: Kovařík | C26: Radim | D26: 801217 | E26: JH
A27: 18 | B27: Kollert | C27: David | D27: 920716 | E27: JH
A28: 20 | B28: Kollert | C28: Jiří ml. | E28: JH
B29: Šudoma | C29: Martin | D29: 710803 | E29: N
B30: Schlegel | C30: Michal | D30: 910331 | E30: JH
B31: Spáčil | C31: Václav | E31: JH
B32: Kudrna | C32: Ondřej | E32: ouh
B33: Hanzlíček | C33: Aleš
B34: Smrkal | C34: Martin | D34: 950104 | E34: jh
B35: Sobotka | C35: Luboš
B36: Peškar | C36: René
B37: Šembera | C37: Miroslav | E37: H
B38: Skalický | C38: Martin
B39: Veselý | C39: Ondřej
B40: Felcman | C40: Martin
B41: Souček | C41: Luděk
B42: Formánek | C42: Petr
B43: Tichý | C43: David
B44: Gremlica | C44: Filip
B45: Paclík | C45: Libor
B46: Formánek | C46: Petr
B47: Sklenář | C47: Jiří
B48: Hejč st | C48: Milan
B49: Sedlák | C49: Petr
... B54: Dejdar | C54: Miroslav
A56: Brankáři (nepovinný údaj, libovolný počet) :
A57: Č. dresu | B57: Příjmení | C57: Jméno | D57: Narozen (rrmmdd) | F57: Barva dresů :
B58: Toman | C58: René | F58: Černá, bílá.
B59: Řehák | C59: Tomáš | D59: 840914
E69: podpis vedoucího

Sheet BYS
B1: SOUPISKA DRUŽSTVA pro HOLBA LHL 2023-24
B3: Plný název týmu : | G3: Zkratka názvu (3 písmena) :
B4: KPV SYSTÉM Bystřec | G4: BYS
B6: ÚDAJE O VEDENÍ TÝMU
B7: Vedoucí družstva :
B8: Příjmení | D8: Jméno | E8: E-mail | G8: Telefon
B9: Hrdina | D9: František | E9: fero-69@centrum.cz | G9: 603933918
B10: Další kontaktní osoby :
B11: Příjmení | D11: Jméno | E11: E-mail | G11: Telefon
B12: Hrdina | D12: Jan | E12: hrdjan20@seznam.cz | G12: 731216663
B15: ÚDAJE O HRÁČÍCH
B16: Všichni hráči v poli (i vedoucí pokud hraje, maximálně 22 hráčů) :
B17: Č. dresu | C17: Příjmení | D17: Jméno | E17: Narozen (formát rrmmdd)
A18: 1 | B18: 6 | C18: Rubeš | D18: Jakub | E18: 860518 | F18: JH
A19: 2 | B19: 8 | C19: Hrdina | D19: Jiří | E19: 980710 | F19: JH
A20: 3 | B20: 9 | C20: Tomeš | D20: Martin | E20: 751019 | F20: JH
A21: 4 | B21: 11 | C21: Hrdina | D21: Matouš | E21: 10505 | F21: JH
A22: 5 | B22: 12 | C22: Hrdina | D22: Josef | E22: 740806 | F22: JH
A23: 6 | B23: 13 | C23: Kulhánek | D23: František | E23: 750228 | F23: JH
A24: 7 | B24: 14 | C24: Hrdina | D24: Jakub | E24: 950920 | F24: JH
A25: 8 | B25: 15 | C25: Hrdina | D25: Jan ml. | E25: 1226 | F25: JH
A26: 9 | B26: 16 | C26: Krátký | D26: Radovan | E26: 690216 | F26: JH
A27: 10 | B27: 18 | C27: Matějka | D27: Jiří | E27: 850515 | F27: JH
A28: 11 | B28: 19 | C28: Hrdina | D28: František st. | E28: 690801 | F28: JH
A29: 12 | B29: 20 | C29: Hrdina | D29: Jan st. | E29: 740806 | F29: JH
... A31: 14 | B31: 23 | C31: Baum | D31: David | E31: 751223 | F31: JH
A32: 15 | C32: Kalousek | D32: Petr | E32: 690924 | F32: JH
A33: 16 | C33: Straževič | D33: Ladislav | E33: 710112 | F33: JH
A34: 17 | C34: Mlynář | D34: Václav | E34: 740913 | F34: JH
A35: 18 | C35: Krejčí | D35: Filip | E35: 930917 | F35: JH
A36: 19 | C36: Brandejs | D36: Michal
A37: 20 | C37: Junek | D37: Jakub
A38: 21 | C38: Tichý | D38: David
A39: 22 | C39: Marek | D39: Jakub
A40: 23 | C40: Dušek | D40: Ondřej
A41: 24 | C41: Vencl | D41: František
C42: Škorpil | D42: Zbyněk
C43: Brandejs | D43: Michal
C44: Příjmení | D44: Jméno | E44: Narozen (rrmmdd)
B45: 1 | C45: Hrdina | D45: Libor | E45: 720409 | G45: Barva dresů :
B46: 32 | C46: Mauler | D46: Jan | E46: 810415 | G46: červená (1. sada), žlutá (2. sada)
C47: Svoboda | D47: Jarmil | E47: 960218
C48: Malát | D48: Jan | E48: 870224

Sheet ISL
B1: SOUPISKA DRUŽSTVA PRO LHL 23-24
B3: Plný název týmu : | G3: Zkratka názvu (3 písmena) :
B4: Islanders | G4: ISL | M4: §
B6: ÚDAJE O VEDENÍ TÝMU
B7: Hlavní zodpovědná osoba :
C8: Příjmení | D8: Jméno | E8: E-mail | G8: Telefon
C9: Karlík | D9: Martin | E9: martin.karlík@fhholding.cz | G9: 777752708
B10: Další zodpovědná osoba :
C11: Příjmení | D11: Jméno | E11: E-mail | G11: Telefon
C12: Faltus | D12: Jan | E12: jan.faltus@vmk.cz | G12: 777917254
B16: ÚDAJE O HRÁČÍCH
B18: Č. dresu | C18: Příjmení | D18: Jméno | E18: Narozen | F18: Typ hráče | G18: Telefon
A19: 1 | B19: 4 | C19: Herinek | D19: Tomáš
A20: 2 | B20: 8 | C20: Karlík | D20: Martin | E20: 670806 | F20: JH
A21: 3 | B21: 9 | C21: Karlík | D21: Mikuláš | E21: 990517 | F21: JH
A22: 4 | B22: 10 | C22: Preisner | D22: Šimon | E22: 10226 | F22: UOH
A23: 5 | B23: 12 | C23: Boščík | D23: Matěj | E23: 991130 | F23: JH
A24: 6 | B24: 13 | C24: Doležal | D24: David | F24: JH
A25: 7 | B25: 14 | C25: Mareš | D25: Jiří ml
A26: 8 | B26: 22 | C26: Faltus | D26: Serge | E26: 681103 | F26: JH
A27: 9 | B27: 44 | C27: Břehovský | D27: Marek | E27: 761027 | F27: JH
A28: 10 | B28: 55 | C28: Andrle | D28: David | E28: 1001026 | F28: JH
A29: 11 | B29: 71 | C29: Mareš | D29: Jiří st. | E29: 711021 | F29: JH
A30: 12 | B30: 73 | C30: Ondrák | D30: Jakub | E30: 991228 | F30: JH
A31: 13 | B31: 81 | C31: Nechvíle | D31: Tomáš | E31: 810922 | F31: JH
A32: 14 | B32: 92 | C32: Boščík | D32: Daniel | E32: 991130 | F32: JH
A33: 15 | C33: Faltus | D33: Jan | E33: 990803 | F33: JH
A34: 16 | C34: Skalický | D34: Martin | F34: HS
A35: 17 | C35: Pleskot | D35: Tomáš | F35: UOH
A36: 18 | C36: Jelínek | D36: Petr
A37: 19 | C37: Andrle | D37: René
C38: Moučka | D38: Jan | E38: 1000525 | F38: NR
C39: Urban | D39: Martin | E39: 990217 | F39: NR
C40: Milták | D40: Petr
C41: Tichý | D41: David
C42: Klubrt | D42: František
C43: Mík st. | D43: Petr
C44: Schon | D44: Petr
C45: Gremlica | D45: Filip
C46: Šparlinek | D46: Michal
C47: Sedláček | D47: Michal
C48: Vičar | D48: Šimon
A50: 24 | B50: Brankáři (nepovinný údaj, libovolný počet) :
A51: 25 | B51: Č. dresu | C51: Příjmení | D51: Jméno | E51: Narozen (rrmmdd)
B52: 10 | C52: KRČ | D52: TOMÁŠ | E52: 421
G57: Barva dresů :

Sheet FL
A1: SOUPISKA DRUŽSTVA PRO LHL 2022-23
A3: Plný název týmu : | F3: Zkratka názvu (3 písmena) :
A4: HC FLYERS TŘEBOVICE | F4: FLY
A6: ÚDAJE O VEDENÍ TÝMU
A7: Hlavní zodpovědná osoba :
A8: Příjmení | C8: Jméno | D8: E-mail | F8: Telefon
A9: Bělka | C9: Tomáš | D9: belka.tomas9@gmail.com | F9: 734454932
A10: Další zodpovědná osoba :
A11: Příjmení | C11: Jméno | D11: E-mail | F11: Telefon
A12: Mastík | C12: Roman | D12: sebitech@seznam.cz | F12: 608825287
A14: ÚDAJE O HRÁČÍCH
A15: Všichni hráči v poli (i vedoucí pokud hraje, maximálně 22 hráčů, zakroužkovat typ hráče dle Soutěžního řádu LHL, uvedení čísel nepovinné) :
A16: Č. dresu | B16: Příjmení | C16: Jméno | D16: Narozen (formát rrmmdd) | E16: Typ hráče
A17: 2 | B17: Kmošek | C17: David | D17: 900710 | G17: C
A18: 8 | B18: Šána | C18: Petr | D18: 830218 | E18: JH
A19: 9 | B19: Bělka | C19: Tomáš | D19: 920403 | G19: C
A20: 4 | B20: Kmošek | C20: Filip | D20: 930305 | E20: JH
A21: 10 | B21: Mastik | C21: Roman | D21: 750307 | E21: JH
A22: 15 | B22: Dejdar | C22: Ondřej | D22: 911019 | E22: JH
A23: 17 | B23: Žídek | C23: Jaroslav | D23: 851217 | E23: JH
A24: 20 | B24: Dejdar | C24: Miroslav | D24: 721229 | E24: JH
A25: 23 | B25: Pachl | C25: Václav | D25: 950417 | E25: JH
B26: Kalina | C26: Tomáš | E26: JH
A27: 27 | B27: Hejč | C27: Milan ml.
A28: 30 | B28: Hejč | C28: Milan st.
A29: 34 | B29: Knofliček | C29: Jan | D29: 920508
A30: 34 | B30: Pleskot | C30: Tomáš
A31: 62 | B31: Kašpar | C31: Petr
B32: Šotola | C32: Patrik | D32: 970602
B33: Žejdlík | C33: Vítězslav | D33: 910710
B34: Lachman | C34: Michal
B35: Černý | C35: David | D35: 930817
B36: Pachl | C36: Miroslav | E36: HS
B37: Broulík | C37: Daniel | D37: 890303
B38: Stolarik | C38: Jiří
B39: Karlík | C39: Vojtěch
B40: Gremlica | C40: Libor
A41: Brankáři (nepovinný údaj, libovolný počet) : | B41: Preisner | C41: Šimon | E41: H.
B42: Boščík | C42: Daniel
B43: Andrle | C43: David
B44: Palán | C44: Vojtěch
A45: Č. dresu | B45: Příjmení | C45: Jméno | D45: Narozen (rrmmdd) | F45: Barva dresů :
B46: Vébr | C46: Michal | F46: Bílá / Červená/ Černá
A47: 39 | B47: Stolarik | C47: Jiří
B48: Řehák | C48: Tomáš
B49: Pávek | C49: Josef
A51: Za správnost všech údajů zodpovídá vedoucí družstva.

Sheet SLO
B1: SOUPISKA DRUŽSTVA pro HOLBA LHL 2023-2024
B3: Plný název týmu : | G3: Zkratka názvu (3 písmena) :
B4: HC SLONI Dolní Morava | G4: SLO
B6: ÚDAJE O VEDENÍ TÝMU
B7: Vedoucí družstva :
B8: Příjmení | D8: Jméno | E8: E-mail | G8: Telefon
B9: Petr | D9: Milták | E9: petr.miltak@icloud.com | G9: 604565707
B10: Další kontaktní osoby :
B11: Příjmení | D11: Jméno | E11: E-mail | G11: Telefon
B12: Feranec | D12: Karel | E12: karelferanec@gmail.com | G12: 603176813
B15: ÚDAJE O HRÁČÍCH
B16: Všichni hráči v poli (i vedoucí pokud hraje, maximálně 22 hráčů) :
B17: Dres | C17: Příjmení | D17: Jméno | E17: Narozen (formát rrmmdd)
A18: 1 | B18: 3 | C18: Marinov | D18: Michal | E18: 841120 | F18: JH
A19: 2 | B19: 8 | C19: Kostúr | D19: Jaroslav | E19: 870308 | F19: JH
A20: 3 | B20: 10 | C20: Koreň | D20: Martin | E20: 850209 | F20: JH
A21: 4 | B21: 21 | C21: Zecha | D21: Roman | E21: 761126 | F21: JH
A22: 5 | B22: 22 | C22: Valčík ml. | D22: Roman | E22: 951122 | F22: JH
A23: 6 | B23: 30 | C23: Šoka | D23: Emil | E23: 851030 | F23: JH
A24: 7 | B24: 34 | C24: Kubíček | D24: Milan | E24: 861210 | F24: JH
A25: 8 | B25: 55 | C25: Starý | D25: Roman | E25: 881215 | F25: JH
A26: 9 | B26: 63 | C26: Valčík st. | D26: Roman | E26: 700110 | F26: JH
A27: 10 | B27: 69 | C27: Liepold | D27: Dan | F27: JH
A28: 11 | B28: 71 | C28: Málek | D28: Jan | E28: 950827 | F28: JH
A29: 12 | B29: 77 | C29: Trunečka | D29: Ondřej | E29: 761126 | F29: JH
A30: 13 | B30: 83 | C30: Feranec | D30: Karel | E30: 831231 | F30: JH
A31: 14 | B31: 88 | C31: Milták | D31: Petr | E31: 840812 | F31: JH
A32: 15 | B32: 76 | C32: Moštěk | D32: Václav | E32: 910313 | F32: JH
A33: 16 | B33: 69 | C33: Kuběnka | D33: Josef | E33: 920204 | F33: JH
A34: 17 | B34: 9 | C34: Koreň | D34: Jan | E34: 920311 | F34: JH
A35: 18 | C35: Faltus | D35: Filip | F35: JH
A36: 19 | C36: Šponar | D36: Martin | F36: JH
A37: 20 | C37: Cvejn | D37: Jakub | F37: JH
A38: 21 | C38: Skála | D38: Jakub | E38: 970724 | F38: JH
A39: 22 | C39: Holec | D39: Martin | E39: 930608 | F39: JH
A40: 23 | C40: Kromíchal | D40: Petr | E40: 830828 | F40: JH
A41: 24 | C41: Pařízek | D41: Jaroslav
A42: 25 | C42: Diblík
A43: 26 | C43: Sedlák | D43: Petr
C44: Hlava ml. | D44: Jiří
A45: 27 | C45: Moravec | D45: Zdeněk
A46: 28 | C46: Škorpil | D46: Zbyněk
A47: 29 | C47: Bílý | D47: Luděk
A48: 30 | C48: Schmidt | D48: Rudolf
A49: 31 | C49: Formánek | D49: Petr
A50: 32 | C50: Formánek | D50: Vladimír
A51: 33
A52: 34
C54: Škorpil | D54: Zbyněk
B55: Brankáři (nepovinný údaj, libovolný počet) :
C56: Příjmení | D56: Jméno | E56: Narozen (rrmmdd) | G56: Barva dresů :
B57: 2 | C57: Krobot | D57: Vratislav | E57: 730530 | G57: Bílo – modrá
C58: Málek | D58: Tomáš | E58: 970724
C59: Opravil | D59: Martin | E59: 921025 | G59: Modro – bílá
C60: Kubín | D60: Václav

Sheet Raf
B1: SOUPISKA DRUŽSTVA PRO LHL 2023-24
B3: Plný název týmu : | G3: Zkratka názvu (3 písmena) :
B4: RAFANI | G4: RAF
B6: ÚDAJE O VEDENÍ TÝMU
B7: Hlavní zodpovědná osoba :
C8: Příjmení | D8: Jméno | E8: E-mail | G8: Telefon
C9: Ešpandr | E9: Josef ml. | F9: scabel@seznam.cz | G9: 607007879
B10: Další zodpovědná osoba :
C11: Příjmení | D11: Jméno | E11: E-mail | G11: Telefon
C12: Ešpandr | E12: Josef | F12: espandr.vks@seznam.cz | G12: 604644855
B14: ÚDAJE O HRÁČÍCH
B16: Č. dresu | C16: Příjmení | D16: Jméno | E16: Narozen (formát rrmmdd) | F16: Typ hráče | G16: Telefon
A17: 1 | B17: 2 | C17: Halbrštát | D17: Jakub | E17: 830409 | F17: JH
A18: 2 | B18: 4 | C18: Janků | D18: Robert | E18: 740704 | F18: JH
A19: 3 | B19: 7 | C19: Blažek | D19: Miroslav | E19: 750716 | F19: JH
A20: 4 | B20: 9 | C20: Faltejsek | D20: Radim | E20: 750728 | F20: JH
A21: 5 | B21: 88 | C21: Ešpandr | D21: Josef ml. | E21: 790916 | F21: JH
A22: 6 | B22: 29 | C22: Pecháček | D22: Robin | E22: 920903 | F22: JH
A23: 7 | B23: 30 | C23: Steidl | D23: Jan | E23: 850510 | F23: JH
A24: 8 | B24: 37 | C24: Helekal | D24: Martin | E24: 751129 | F24: JH
A25: 9 | B25: 61 | C25: Bedrníček | D25: Kamil | E25: 770530 | F25: JH
A26: 10 | B26: 81 | C26: Skalický | D26: Luděk | E26: 811015 | F26: JH
A27: 11 | B27: 90 | C27: Pecháček | D27: Tomáš | E27: 900412 | F27: JH
A28: 12 | B28: 69 | C28: Vacek | D28: Lukáš | E28: 741028 | F28: JH
A29: 13 | C29: Petr | D29: Luboš | F29: JH
A30: 14 | B30: 89 | C30: Nerad | D30: Leoš | E30: 801224 | F30: JH
A31: 22 | C31: Šembera | D31: Miroslav | F31: H
A32: 23 | C32: Sklenář | D32: Jiří | F32: H
B33: 46 | C33: Mareš | D33: Michal | E33: 780823 | F33: JH
C34: Klubrt | D34: František
C35: Felcman | D35: Martin
C36: Matyáš | D36: Martin
C37: Dušek | D37: Martin
C38: Novák | D38: Jakub
A39: 24 | B39: Č. dresu | C39: Příjmení | D39: Jméno
A40: 25 | B40: 6 | C40: Faltus | D40: Pavel | E40: 870515
B43: Č. dresu | C43: Příjmení | D43: Jméno | E43: Narozen (rrmmdd)
G49: Barva dresů :
H50: zelenobílá

Sheet ORL
B1: SOUPISKA DRUŽSTVA PRO LHL 23-24
B2: Plný název týmu : | G2: Zkratka názvu (3 písmena) :
B3: OREL LUKAVICE | G3: ORL
B4: ÚDAJE O VEDENÍ TÝMU
B5: Hlavní zodpovědná osoba :
C6: Příjmení | D6: Jméno | E6: E-mail | G6: Telefon
C7: Smola | D7: Miloš | E7: smola.revize@gmail.com | G7: 778046066
B8: Další zodpovědná osoba :
C9: Příjmení | D9: Jméno | E9: E-mail | G9: Telefon
C10: Kosek | D10: Jindřich | E10: jindrich.kosek@gmail.com | G10: 777079881
B11: ÚDAJE O HRÁČÍCH | G11: Souhlas s GDPR
B12: Č. dresu | C12: Příjmení | D12: Jméno | E12: Narozen | F12: Typ hráče | G12: Hraji na vlastní nebezpečí
A13: 1 | B13: 5 | C13: Brandejs | D13: Michal | E13: 871215 | F13: J.H.
A14: 2 | B14: 8 | C14: Hrdina | D14: Matouš | E14: 950713 | F14: J.H.
A15: 3 | B15: 9 | C15: Lehký | D15: Josef | E15: 861013 | F15: J.H.
A16: 4 | B16: 17 | C16: Smola | D16: Miloš | E16: 910411 | F16: J.H.
A17: 5 | B17: 19 | C17: Malát | D17: Jan | E17: 870224 | F17: J.H.
A18: 6 | B18: 24 | C18: Lehký | D18: Jan | E18: 920402 | F18: J.H.
A19: 7 | B19: 42 | C19: Vencl | D19: František | E19: 951025 | F19: UOH
A20: 8 | B20: 66 | C20: Hlaváček | D20: Vítek | E20: 900216 | F20: J.H.
A21: 9 | B21: 87 | C21: Kosek | D21: Jindřich | E21: 870729 | F21: J.H.
A22: 10 | B22: 91 | C22: Holeček | D22: Lukáš | E22: 940305 | F22: J.H.
A23: 11 | B23: 98 | C23: Šturmik | D23: Jan | E23: 940305 | F23: J.H.
A24: 12 | C24: Jureček | D24: Michal
A25: 13 | C25: Plašil | D25: Rostislav
A26: 14 | C26: Konečný | D26: Patrik
A27: 15 | C27: Hubálek | D27: Milan
A28: 16 | C28: Václavský | D28: Lukáš
A29: 17 | C29: Mach | D29: Libor
A30: 18 | C30: Šípek | D30: Vojtěch
A31: 19 | C31: Junek | D31: Jakub | F31: H
A32: 20 | C32: Klouček | D32: Michal
A33: 21 | C33: Řepková | D33: Monika
A34: 22 | C34: Vičar | D34: Matěj
A35: 23 | C35: Bartoš | D35: Filip
C36: Šilar | D36: Miloš
A37: 24 | C37: Šilar | D37: Petr
C38: Hrdina ml | D38: Jan
C39: Krejčí | D39: Filip
C40: Hrdina | D40: jaroslav
C41: Krahilec | D41: Petr
C42: Daniel | D42: Filip
C43: Hrdina | D43: Jiří
C44: Skalický | D44: Luboš
C45: Břehovský | D45: Marek
C46: Pomikálek | D46: Jakub
B47: Brankáři (nepovinný údaj, libovolný počet) :
B48: Č. dresu | C48: Příjmení | D48: Jméno | E48: Narozen (rrmmdd)
B49: 33 | C49: Novotný | D49: Dominik | E49: 940726 | F49: J.H.
F53: Barva dresů :
F54: černo - žluté

Sheet SŽK
B1: SOUPISKA DRUŽSTVA PRO LHL 2023-24
B3: Plný název týmu : | G3: Zkratka názvu (3 písmena) :
C4: SLÁMOŽROUTI-Kunvald | G4: SŽK
B6: ÚDAJE O VEDENÍ TÝMU
B7: Hlavní zodpovědná osoba :
C8: Příjmení | D8: Jméno | E8: E-mail | G8: Telefon
C9: Kavka | D9: Petr | E9: Kavka73@seznam.cz | G9: 605145084
B10: Další zodpovědná osoba :
C11: Příjmení | D11: Jméno | E11: E-mail | G11: Telefon
C12: Lauterbach | D12: Aleš | E12: lauterbach.ales@seznam.cz | G12: 602348768
B16: ÚDAJE O HRÁČÍCH
B18: Č. dresu | C18: Příjmení | D18: Jméno | E18: Narozen | F18: Typ hráče | G18: Telefon
A19: 1 | B19: 4 | C19: Friml | D19: Lukáš | E19: 841002 | F19: JH
A20: 2 | B20: 8 | C20: Dušek | D20: Jiří | E20: 760726 | F20: JH
A21: 3 | B21: 9 | C21: Kavka | D21: Petr st. | E21: 730409 | F21: JH
A22: 4 | B22: 10 | C22: Zařecký | D22: Jaroslav | E22: 710321 | F22: JH
A23: 5 | B23: 11 | C23: Lauterbach | D23: Aleš | E23: 800930 | F23: JH
A24: 6 | B24: 12 | C24: Habr | D24: Jan | E24: 740514 | F24: JH
A25: 7 | B25: 13 | C25: Kavka | D25: Martin | E25: 970422 | F25: JH
A26: 8 | B26: 14 | C26: Štumpf | D26: Eduard | E26: 800914 | F26: JH
A27: 9 | B27: 19 | C27: Flekr | D27: Jaroslav | E27: 760207 | F27: N
A28: 10 | B28: 21 | C28: Krejsa | D28: Oldřich | E28: 801114 | F28: JH
A29: 11 | B29: 22 | C29: Kavka | D29: Petr ml. | E29: 940222 | F29: JH
A30: 12 | B30: 24 | C30: Zářecký | D30: Jan | E30: 690727 | F30: JH
A31: 13 | B31: 25 | C31: Suchomel | D31: Adam | E31: 920407 | F31: JH
A32: 14 | B32: 33 | C32: Smrček | D32: Jiří | E32: 810523 | F32: JH
A33: 15 | B33: 37 | C33: Müller | D33: Ondřej | E33: 880303 | F33: JH
A34: 16 | B34: 40 | C34: Fajgl | D34: Jiří | E34: 760719 | F34: JH
A35: 17 | B35: 48 | C35: Šmirous | D35: Jakub | E35: 860905 | F35: JH
A36: 18 | B36: 69 | C36: Švorc | D36: Vojtěch | E36: 870520 | F36: JH
A37: 19 | B37: 95 | C37: Fogl | D37: Martin | E37: 951214 | F37: JH
A38: 20 | C38: Diblík | D38: Tomáš | E38: 811101 | F38: JH
A39: 21 | C39: Flekr | D39: Jaroslav | E39: 070405 | F39: N
A40: 22 | C40: Fajgl | D40: Patrik | E40: 070824 | F40: N
A41: 23 | C41: Žabka | D41: Michal | E41: 030628 | F41: N
A42: 24 | C42: Holubář | D42: Pavel | E42: 917 | F42: JH
A43: 25 | C43: Křivohlávek | D43: Petr | E43: 820227 | F43: JH
A53: 24 | B53: Brankáři (nepovinný údaj, libovolný počet) :
A54: 25 | B54: Č. dresu | C54: Příjmení | D54: Jméno | E54: Narozen (rrmmdd)
B55: 3 | C55: Křen | D55: Miroslav | E55: 870612
B56: 1 | C56: Martinec | D56: Luboš | E56: 821017
G60: Barva dresů :
F61: 1. sada | G61: Červeno-Žlutá
F62: 2.sada | G62: Černá

Sheet UDA
B1: SOUPISKA DRUŽSTVA pro HOLBA LHL 2023-24
B3: Plný název týmu : | G3: Zkratka názvu (3 písmena) :
B4: MEDOJEDI UDÁNKY | G4: UDA
B6: ÚDAJE O VEDENÍ TÝMU
B7: Vedoucí družstva :
B8: Příjmení | D8: Jméno | E8: E-mail | G8: Telefon
B9: Neubauer | D9: Štěpán | E9: NeubauerStepan@seznam.cz | G9: 723438178
B10: Další kontaktní osoby :
B11: Příjmení | D11: Jméno | E11: E-mail | G11: Telefon
B12: Wolf | D12: Jiří | E12: JirkaW.727@seznam.cz | G12: 732712785
B14: ÚDAJE O HRÁČÍCH
B15: Všichni hráči v poli (i vedoucí pokud hraje, maximálně 22 hráčů) :
B16: Č. dresu | C16: Příjmení | D16: Jméno | E16: Narozen (formát rrmmdd)
A17: 1 | B17: 5 | C17: Coufal | D17: Jan | E17: 910205 | F17: J.H.
A18: 2 | B18: 7 | C18: Horák | D18: Michal | E18: 750224 | F18: N.
A19: 3 | B19: 8 | C19: Myslikovjan | D19: Matěj | E19: 030414 | F19: N.
A20: 4 | B20: 9 | C20: Zdražil | D20: Jiří | E20: 800426 | F20: N.
A21: 5 | B21: 10 | C21: Neubauer | D21: Štěpán | E21: 980614 | F21: J.H.
A22: 6 | B22: 13 | C22: Wolf | D22: Jiří | E22: 860724 | F22: J.H.
A23: 7 | B23: 16 | C23: Přidal | D23: František | E23: 980408 | F23: J.H.
A24: 8 | B24: 22 | C24: Švichký | D24: Pavel | E24: 920502 | F24: J.H.
A25: 9 | B25: 23 | C25: Brettschneider | D25: Pavel | E25: 860113 | F25: J.H.
A26: 10 | B26: 29 | C26: Hons | D26: Jan | E26: 900810 | F26: J.H.
A27: 11 | B27: 42 | C27: Schuppler | D27: Robert | E27: 940325 | F27: J.H.
A28: 12 | B28: 44 | C28: Mazel | D28: Lubomír | E28: 721029 | F28: J.H.
A29: 13 | B29: 70 | C29: Fikr | D29: Zdenek | E29: 701010 | F29: J.H.
A30: 14 | B30: 90 | C30: Hons | D30: Jiří | E30: 900810 | F30: J.H.
A31: 15 | B31: 93 | C31: Hapala ml. | D31: Martin | E31: 890511 | F31: J.H.
... A33: 17 | B33: 98 | C33: Kudrna | D33: Martin | E33: 730703 | F33: J.H.
A34: 18 | C34: Laštůvka | D34: Vítek
A35: 19 | C35: Kuda | D35: Martin
A36: 20 | C36: Šuhel | D36: Filip
A37: 21 | C37: Laštůvka | D37: Zbyněk
A38: 22 | C38: Jansa | D38: Filip
A39: 23 | C39: Meluzín | D39: Pavel
C40: Hekele | D40: David
C41: Hekele | D41: Robin
A42: 24 | C42: Kalhaus | D42: Robin
C43: Valíček | D43: Petr
C44: Havlík | D44: Pavel
C45: Příjmení | D45: Jméno | E45: Narozen (rrmmdd)
C46: Faltus | D46: Pavel | E46: 870515 | G46: Barva dresů :
G47: žlutá

Sheet Verm
B1: SOUPISKA DRUŽSTVA pro HOLBA LHL 2023-4
B3: Plný název týmu : | G3: Zkratka názvu (3 písmena) :
B4: Verměřovice | G4: VER
B6: ÚDAJE O VEDENÍ TÝMU
B7: Vedoucí družstva :
B9: Příjmení | D9: Jméno | E9: E-mail | G9: Telefon
B10: Černaj | D10: Jan | E10: jancernaj@seznam.cz | G10: 608274607
B11: Další kontaktní osoby :
B12: Příjmení | D12: Jméno | E12: E-mail | G12: Telefon
B13: Výprachtický | D13: Pavel | E13: x1010@seznam.cz | G13: 775353831
B16: ÚDAJE O HRÁČÍCH
B17: Všichni hráči v poli (i vedoucí pokud hraje, maximálně 22 hráčů) :
B18: Č. dresu | C18: Příjmení | D18: Jméno | E18: Narozen (formát rrmmdd)
B19: 5 | C19: Klouček | D19: Michal | E19: 200704 | F19: JH
B20: 11 | C20: Formánek | D20: Vladimír | E20: 791025 | F20: JH
B21: 13 | C21: Horský | D21: Daniel | E21: 730227 | F21: JH
B22: 17 | C22: Smejkal | D22: Jakub | E22: 850402 | F22: JH
B23: 23 | C23: Vyprachtický | D23: Pavel | E23: 830418 | F23: JH
B24: 40 | C24: Sklenář | D24: Michal | E24: 710304 | F24: JH
B25: 64 | C25: Pražák | D25: Lukáš | E25: 850818 | F25: JH
B26: 77 | C26: Kmeť | D26: Michal | E26: 850826 | F26: JH
B27: 90 | C27: Černaj | D27: Jan | E27: 900823 | F27: JH
C28: Sklenář | D28: Jiří | E28: 800607 | F28: JH
C29: Matyáš | D29: Martin | E29: 020909 | F29: JH
C30: Motyčka | D30: Miroslav | E30: 741011 | F30: JH
C31: Peškar | D31: Renné | E31: 740912 | F31: JH
C32: Pražák | D32: Marek | E32: 831028 | F32: JH
C33: Nerad | D33: Leoš
C34: Dušek | D34: Ondřej | E34: 040524 | F34: JH
C35: Šembera | D35: Miroslav | F35: H
C36: Vacek | D36: Lukáš
C37: Smetana | D37: Adam
C38: Šípek | D38: Pavel
C39: Formánek | D39: Petr
C40: Štefl | D40: Michal
C41: Tichý | D41: David
C42: Ešpandr | D42: Josef ml.
C43: Junek | D43: Jakub
C44: Ondráček | D44: Patrik
C45: Příjmení | D45: Jméno | E45: Narozen (rrmmdd)
C46: Svoboda | D46: Jarmil | E46: 960218 | G46: Barva dresů :
C47: Šparlinek | D47: Michal | E47: 851026 | G47: žluto-černá

Sheet Sna
B1: SOUPISKA DRUŽSTVA pro HOLBA LHL 2023-24
B3: Plný název týmu : | G3: Zkratka názvu (3 písmena) :
B4: SNAKES Dolní Dobrouč | G4: SDD
B6: ÚDAJE O VEDENÍ TÝMU
B7: Vedoucí družstva :
B8: Příjmení | D8: Jméno | E8: E-mail | G8: Telefon
B9: Krejčí | D9: Michal | E9: krejcata@seznam.cz | G9: 607781015
B10: Další kontaktní osoby :
B11: Příjmení | D11: Jméno | E11: E-mail | G11: Telefon
B12: Krejčí | D12: Lukáš | E12: lukas.krejci@seznam.cz | G12: 732518281
B15: ÚDAJE O HRÁČÍCH
B16: Všichni hráči v poli (i vedoucí pokud hraje, maximálně 22 hráčů) :
B17: Č. dresu | C17: Příjmení | D17: Jméno | E17: Narozen (formát rrmmdd)
A18: 1 | B18: 3 | C18: Renčín | D18: Miloslav | E18: 760518 | F18: JH
A19: 2 | B19: 4 | C19: Krejčí | D19: Lukáš | E19: 841119 | F19: JH
A20: 3 | B20: 5 | C20: Čajka | D20: Vladimír | E20: 920319 | F20: JH
A21: 4 | B21: 8 | C21: Exler | D21: Tomáš | E21: 800809 | F21: JH
A22: 5 | B22: 11 | C22: Schmidt | D22: Rudolf | E22: 960127 | F22: JH
A23: 6 | B23: 15 | C23: Slavík | D23: Filip | E23: 931023 | F23: N
A24: 7 | B24: 17 | C24: Skalický | D24: Petr | E24: 930427 | F24: JH
A25: 8 | B25: 18 | C25: Lipenský | D25: Lukáš | E25: 900715 | F25: JH
A26: 9 | B26: 22 | C26: Novák | D26: Petr | E26: 801210 | F26: JH
A27: 10 | B27: 23 | C27: Havlíček | D27: Tomáš | E27: 791123 | F27: JH
A28: 11 | B28: 24 | C28: Matějíček | D28: Tomáš | E28: 890427 | F28: JH
A29: 12 | B29: 25 | C29: Velič | D29: Štefan | E29: 940225 | F29: JH
... A38: 21 | B38: 88 | C38: Vyčítal | D38: Miloš | E38: 881129 | F38: JH
A39: 22 | C39: Šourek | D39: Pavel
C40: Kopp | D40: Petr
A41: 23 | C41: Bezstarosti | D41: David
A42: 24
C44: Příjmení | D44: Jméno | E44: Narozen (rrmmdd)
C45: Maleček | D45: Michal | E45: 800325 | G45: Barva dresů :
C46: Krejsar | D46: Jiří | E46: 871227 | G46: černá

Sheet Ští
B1: SOUPISKA DRUŽSTVA pro HOLBA LHL 2023-24
