Workbook
Name __xlfn_AGGREGATE: NA()

Sheet kdy
A1: =C1 -> 1 | B1: LHL č. | C1: 1 | D1: HT Zábřeh.liga | E1: HT Zábřeh | F1: : | G1: Bobři | H1: po | I1: HT Zábřeh5.9. | J1: HT Zábřeh0:15:00 | K1: 6 | L1: : | M1: 0
A2: =C2 -> 2 | B2: LHL č. | C2: 2 | D2: 3.liga | E2: Orel Lukavice | F2: : | G2: Sloni | H2: út | I2: HT Zábřeh6.9. | J2: HT Zábřeh0:15:00 | K2: 10 | L2: : | M2: 4
A3: =C3 -> 3 | B3: LHL č. | C3: 3 | D3: 1.liga | E3: Klášterec | F3: : | G3: SOMA | H3: st | I3: HT Zábřeh7.9. | J3: 0.82291667 | K3: 1 | L3: : | M3: 13
A4: =C4 -> 4 | B4: LHL č. | C4: 4 | D4: 4.liga | E4: H.Čermná | F4: : | G4: Snakes D.Dobr. | H4: čt | I4: HT Zábřeh8.9. | J4: 0.57291667 | K4: 8 | L4: : | M4: 4
A5: =C5 -> 5 | B5: LHL č. | C5: 5 | D5: 4.liga | E5: Štíty | F5: : | G5: H.Třešňovec | H5: pá | I5: HT Zábřeh9.9. | J5: HT Zábřeh0:15:00 | K5: 0 | L5: : | M5: 5(8-7)
A6: =C6 -> 6 | B6: LHL č. | C6: 6 | D6: HT Zábřeh.liga | E6: Cyklo | F6: : | G6: Islanders | H6: so | I6: 30.9. | J6: 0.63541667 | K6: 1 | L6: : | M6: HT Zábřeh
A7: =C7 -> 7 | B7: LHL č. | C7: 7 | D7: 3.liga | E7: Luková | F7: : | G7: Udánky | H7: so | I7: 30.9. | J7: 0.76041667 | K7: 5 | L7: : | M7: 6
A8: =C8 -> 8 | B8: LHL č. | C8: 8 | D8: 4.liga | E8: Jedlí | F8: : | G8: Slámožrouti | H8: so | I8: 30.9. | J8: 0.82291667 | K8: 1 | L8: : | M8: 8
A9: =C9 -> 9 | B9: LHL č. | C9: 9 | D9: HT Zábřeh.liga | E9: Petrovice | F9: : | G9: Bystřec | H9: ne | I9: 1.10. | J9: 0.63541667 | K9: 3 | L9: : | M9: 1
A10: =C10 -> 10 | B10: LHL č. | C10: 10 | D10: 1.liga | E10: Heat tech | F10: : | G10: Nekoř | H10: ne | I10: 1.10. | J10: 0.69791667 | K10: 7 | L10: : | M10: HT Zábřeh
A11: =C11 -> 11 | B11: LHL č. | C11: 11 | D11: 3.liga | E11: Verměřovice | F11: : | G11: Orel Lukavice | H11: ne | I11: 1.10. | J11: 0.82291667 | K11: 5 | L11: : | M11: 7
A12: =C12 -> 12 | B12: LHL č. | C12: 12 | D12: 3.liga | E12: Sršni | F12: : | G12: LDM | H12: po | I12: 2.10. | J12: 0.84375 | K12: 2 | L12: : | M12: 6
A13: =C13 -> 13 | B13: LHL č. | C13: 13 | D13: 1.liga | E13: Tygři | F13: : | G13: Těchonín | H13: út | I13: 3.10. | J13: 0.84375 | K13: 7 | L13: : | M13: 1
A14: =C14 -> 14 | B14: LHL č. | C14: 14 | D14: 2.liga | E14: Flyers | F14: : | G14: HT Zábřeh | H14: st | I14: 4.10. | J14: 0.875 | K14: 2 | L14: : | M14: 8
A15: =C15 -> 15 | B15: LHL č. | C15: 15 | D15: 4.liga | E15: OMB Letohrad | F15: : | G15: SK Rájec | H15: čt | I15: 5.10. | J15: 0.86458333 | K15: 1 | L15: : | M15: 4
A16: =C16 -> 16 | B16: LHL č. | C16: 16 | D16: 4.liga | E16: Slámožrouti | F16: : | G16: H.Třešňovec | H16: pá | I16: 6.10. | J16: 0.84375 | K16: 5 | L16: : | M16: 1
A17: =C17 -> 17 | B17: LHL č. | C17: 17 | D17: 3.liga | E17: Udánky | F17: : | G17: Rafani | H17: pá | I17: 6.10. | J17: 0.90625 | K17: 6 | L17: : | M17: 2
A18: =C18 -> 18 | B18: LHL č. | C18: 18 | D18: 3.liga | E18: Orel Lukavice | F18: : | G18: Sršni | H18: so | I18: 7.10. | J18: 0.52083333 | K18: 1 | L18: : | M18: 9
A19: =C19 -> 19 | B19: LHL č. | C19: 19 | D19: 2.liga | E19: Bystřec | F19: : | G19: Islanders | H19: so | I19: 7.10. | J19: 0.63541667 | K19: 4 | L19: : | M19: 2
A20: =C20 -> 20 | B20: LHL č. | C20: 20 | D20: 2.liga | E20: Lazy Neckers | F20: : | G20: Cyklo | H20: ne | I20: 8.10. | J20: 0.52083333 | K20: 2 | L20: : | M20: 6
A21: =C21 -> 21 | B21: LHL č. | C21: 21 | D21: 1.liga | E21: Těchonín | F21: : | G21: Klášterec | H21: ne | I21: 8.10. | J21: 0.63541667 | K21: 4 | L21: : | M21: 3
A22: =C22 -> 22 | B22: LHL č. | C22: 22 | D22: 3.liga | E22: Sloni | F22: : | G22: Luková | H22: ne | I22: 8.10. | J22: 0.69791667 | K22: 1 | L22: : | M22: 1
... A35: =C35 -> 35 | B35: LHL č. | C35: 35 | D35: 3.liga | E35: Orel Lukavice | F35: : | G35: LDM | H35: st | I35: 18.10. | J35: 0.86458333 | K35: 6 | L35: : | M35: 4
A36: =C36 -> 36 | B36: LHL č. | C36: 36 | D36: 2.liga | E36: Petrovice | F36: : | G36: HT Zábřeh | H36: čt | I36: 0.79861111 | J36: 0.86458333 | K36: 4 | L36: : | M36: 6
A37: =C37 -> 37 | B37: LHL č. | C37: 37 | D37: 2.liga | E37: Cyklo | F37: : | G37: Flyers | H37: pá | I37: 20.10. | J37: 0.88541667 | K37: 6 | L37: : | M37: 6
A38: =C38 -> 38 | B38: LHL č. | C38: 38 | D38: 4.liga | E38: Jedlí | F38: : | G38: OMB Letohrad | H38: so | I38: 21.10. | J38: 0.63541667 | K38: 2 | L38: : | M38: 4
A39: =C39 -> 39 | B39: LHL č. | C39: 39 | D39: 4.liga | E39: H.Čermná | F39: : | G39: Slámožrouti | H39: so | I39: 21.10. | J39: 0.80208333 | K39: 3 | L39: : | M39: 3
A40: =C40 -> 40 | B40: LHL č. | C40: 40 | D40: 3.liga | E40: Sršni | F40: : | G40: Luková | H40: so | I40: 21.10. | J40: 0.86458333 | K40: 5 | L40: : | M40: 5
A41: =C41 -> 41 | B41: LHL č. | C41: 41 | D41: 4.liga | E41: H.Třešňovec | F41: : | G41: Snakes D.Dobr. | H41: ne | I41: 22.10. | J41: 0.39583333 | K41: 1 | L41: : | M41: 4
A42: =C42 -> 42 | B42: LHL č. | C42: 42 | D42: 4.liga | E42: SK Rájec | F42: : | G42: Štíty | H42: ne | I42: 22.10. | J42: 0.61458333 | K42: 7 | L42: : | M42: 2
A43: =C43 -> 43 | B43: LHL č. | C43: 43 | D43: 2.liga | E43: Bystřec | F43: : | G43: Lazy Neckers | H43: ne | I43: 22.10. | J43: 0.86458333 | K43: 8 | L43: : | M43: 6
A44: =C44 -> 44 | B44: LHL č. | C44: 44 | D44: 1.liga | E44: Nuget | F44: : | G44: Heat tech | H44: po | I44: 23.10. | J44: 0.83333333 | K44: 5 | L44: : | M44: 1
A45: =C45 -> 45 | B45: LHL č. | C45: 45 | D45: 1.liga | E45: SOMA | F45: : | G45: Tygři | H45: út | I45: 24.10. | J45: 0.84375 | K45: 7 | L45: : | M45: 4
A46: =C46 -> 46 | B46: LHL č. | C46: 46 | D46: 3.liga | E46: LDM | F46: : | G46: Verměřovice | H46: st | I46: 25.10. | J46: 0.84375 | K46: 3 | L46: : | M46: 10
A47: =C47 -> 47 | B47: LHL č. | C47: 47 | D47: 1.liga | E47: Nekoř | F47: : | G47: Klášterec | H47: čt | I47: 26.10. | J47: 0.86458333 | K47: 5 | L47: : | M47: 3
A48: =C48 -> 48 | B48: LHL č. | C48: 48 | D48: 3.liga | E48: Rafani | F48: : | G48: Sršni | H48: pá | I48: 27.10. | J48: 0.84375 | K48: 4 | L48: : | M48: 5
... A72: =C72 -> 72 | B72: LHL č. | C72: 72 | D72: 1.liga | E72: Nuget | F72: : | G72: Klášterec | H72: čt | I72: 9.11. | J72: 0.86458333 | K72: 14 | L72: : | M72: 2
A73: =C73 -> 73 | B73: LHL č. | C73: 73 | D73: 1.liga | E73: Těchonín | F73: : | G73: Heat tech | H73: pá | I73: 10.11. | J73: 0.84375 | K73: 5 | L73: : | M73: 0 (3-9)
A74: =C74 -> 74 | B74: LHL č. | C74: 74 | D74: 3.liga | E74: Rafani | F74: : | G74: LDM | H74: pá | I74: 10.11. | J74: 0.90625 | K74: 1 | L74: : | M74: 5
A75: =C75 -> 75 | B75: LHL č. | C75: 75 | D75: 4.liga | E75: Snakes D.Dobr. | F75: : | G75: SK Rájec | H75: so | I75: 11.11. | J75: 0.52083333 | K75: 2 | L75: : | M75: 11
...

Sheet 1k
A1: 1 liga | B1: Soma | E1: Tygři | H1: Heat | K1: Klas | N1: Klášt. | Q1: Nuget | T1: Těch. | Z1: ZÁPASY | AA1: VÍTĚZSTVÍ | AB1: REMÍZY | AC1: PORÁŽKY | AD1: SKÓRE | AG1: BODY | AI1: POŘADÍ | AK1: =Z9+Z21+Z32+Z43-2 -> 103 | AO1: 1B | AQ1: 1A
A2: Soma | E2: 7 | F2: : | G2: 4 | H2: 5 | I2: : | J2: 0 | K2: 8 | L2: : | M2: 3 | N2: 13 | O2: : | P2: 1 | Q2: 5 | R2: : | S2: 2 | T2: 13 | U2: : | V2: 3 | Z2: =AA2+AB2+AC2 -> 6 | AA2: 6 | AD2: =+N2+Q2+T2+K2+H2+E2+B2 -> 51 | AE2: : | AF2: =V2+M2+J2+G2+D2+P2++S2 -> 13 | AG2: =AA2*2+AB2*1 -> 12 | AI2: 1 | AQ2: Soma
A3: Tygři | B3: 4 | C3: : | D3: 7 | H3: 8 | I3: : | J3: 4 | K3: 8 | L3: : | M3: 2 | N3: 4 | O3: : | P3: 3 | Q3: 2 | R3: : | S3: 8 | T3: 7 | U3: : | V3: 1 | Z3: =AA3+AB3+AC3 -> 6 | AA3: 4 | AC3: 2 | AD3: =+N3+Q3+T3+K3+H3+E3+B3 -> 33 | AE3: : | AF3: =V3+M3+J3+G3+D3+P3++S3 -> 25 | AG3: =AA3*2+AB3*1 -> 8 | AI3: 3 | AQ3: Tygři
A4: Heat t. | B4: 0 | C4: : | D4: 5 | E4: 4 | F4: : | G4: 8 | K4: 7 | L4: : | M4: 2 | N4: 13 | O4: : | P4: 4 | Q4: 1 | R4: : | S4: 5 | T4: 0 | U4: : | V4: 5 | Z4: =AA4+AB4+AC4 -> 6 | AA4: 2 | AC4: 4 | AD4: =+N4+Q4+T4+K4+H4+E4+B4 -> 25 | AE4: : | AF4: =V4+M4+J4+G4+D4+P4++S4 -> 29 | AG4: =AA4*2+AB4*1 -> 4 | AO4: Heat tech
A5: Klas | B5: 3 | C5: : | D5: 8 | E5: 2 | F5: : | G5: 8 | H5: 2 | I5: : | J5: 7 | N5: 5 | O5: : | P5: 3 | Q5: 0 | R5: : | S5: 8 | T5: 6 | U5: : | V5: 1 | Z5: =AA5+AB5+AC5 -> 6 | AA5: 2 | AC5: 4 | AD5: =+N5+Q5+T5+K5+H5+E5+B5 -> 18 | AE5: : | AF5: =V5+M5+J5+G5+D5+P5++S5 -> 35 | AG5: =AA5*2+AB5*1 -> 4 | AQ5: Klas
A6: Klášt. | B6: 1 | C6: : | D6: 13 | E6: 3 | F6: : | G6: 4 | H6: 4 | I6: : | J6: 13 | K6: 3 | L6: : | M6: 5 | Q6: 2 | R6: : | S6: 14 | T6: 3 | U6: : | V6: 4 | Z6: =AA6+AB6+AC6 -> 6 | AC6: 6 | AD6: =+N6+Q6+T6+K6+H6+E6+B6 -> 16 | AE6: : | AF6: =V6+M6+J6+G6+D6+P6++S6 -> 53 | AG6: =AA6*2+AB6*1 -> 0 | AI6: 7 | AQ6: Kláš.
A7: Nuget | B7: 2 | C7: : | D7: 5 | E7: 8 | F7: : | G7: 2 | H7: 5 | I7: : | J7: 1 | K7: 8 | L7: : | M7: 0 | N7: 14 | O7: : | P7: 2 | T7: 5 | U7: : | V7: 4 | Z7: =AA7+AB7+AC7 -> 6 | AA7: 5 | AC7: 1 | AD7: =+N7+Q7+T7+K7+H7+E7+B7 -> 42 | AE7: : | AF7: =V7+M7+J7+G7+D7+P7++S7 -> 14 | AG7: =AA7*2+AB7*1 -> 10 | AI7: 2 | AO7: Nuget
A8: Těch. | B8: 3 | C8: : | D8: 13 | E8: 1 | F8: : | G8: 7 | H8: 5 | I8: : | J8: 0 | K8: 1 | L8: : | M8: 6 | N8: 4 | O8: : | P8: 3 | Q8: 4 | R8: : | S8: 5 | Z8: =AA8+AB8+AC8 -> 6 | AA8: 2 | AC8: 4 | AD8: =+N8+Q8+T8+K8+H8+E8+B8 -> 18 | AE8: : | AF8: =V8+M8+J8+G8+D8+P8++S8 -> 34 | AG8: =AA8*2+AB8*1 -> 4 | AI8: 6 | AO8: Těchonín
Z9: =SUM(Z2:Z8)/2 -> 21 | AD9: =SUM(AD2:AD8) -> 203 | AF9: =SUM(AF2:AF8) -> 203
A12: 2.liga | B12: =A13 -> HT Zábřeh | E12: =A14 -> Cyk | H12: =A15 -> Lazy | K12: Island. | N12: Bystřec | Q12: Flyers | T12: Petrovice | W12: Bobři | Z12: ZÁPASY | AA12: VÍTĚZSTVÍ | AB12: REMÍZY | AC12: PORÁŽKY | AD12: SKÓRE | AG12: BODY | AI12: POŘADÍ
A13: HT Zábřeh | E13: 3 | F13: : | G13: 1 | H13: 2 | I13: : | J13: 3 | K13: 2 | L13: : | M13: 1 | N13: 7 | O13: : | P13: 4 | Q13: 8 | R13: : | S13: 2 | T13: 6 | U13: : | V13: 4 | W13: 6 | X13: : | Y13: 0 | Z13: =AA13+AB13+AC13 -> 7 | AA13: 6 | AC13: 1 | AD13: =B13+E13+H13+K13+N13+Q13+T13+W13 -> 34 | AE13: : | AF13: =D13+G13+J13+M13+P13+S13+V13+Y13 -> 15 | AG13: =AA13*2+AB13*1 -> 12 | AI13: 1 | AQ13: HT Zábřeh
A14: Cyk | B14: 1 | C14: : | D14: 3 | H14: 6 | I14: : | J14: 2 | K14: 1 | L14: : | M14: 2 | N14: 4 | O14: : | P14: 4 | Q14: 6 | R14: : | S14: 6 | T14: 4 | U14: : | V14: 2 | W14: 6 | X14: : | Y14: 7 | Z14: =AA14+AB14+AC14 -> 7 | AA14: 2 | AB14: 2 | AC14: 3 | AD14: =B14+E14+H14+K14+N14+Q14+T14+W14 -> 28 | AE14: : | AF14: =D14+G14+J14+M14+P14+S14+V14+Y14 -> 26 | AG14: =AA14*2+AB14*1 -> 6 | AI14: 5 | AQ14: Cyklo
A15: Lazy | B15: 3 | C15: : | D15: 2 | E15: 2 | F15: : | G15: 6 | K15: 4 | L15: : | M15: 5 | N15: 6 | O15: : | P15: 8 | Q15: 11 | R15: : | S15: 5 | T15: 6 | U15: : | V15: 2 | W15: 5 | X15: : | Y15: 2 | Z15: =AA15+AB15+AC15 -> 7 | AA15: 4 | AC15: 3 | AD15: =B15+E15+H15+K15+N15+Q15+T15+W15 -> 37 | AE15: : | AF15: =D15+G15+J15+M15+P15+S15+V15+Y15 -> 30 | AG15: =AA15*2+AB15*1 -> 8 | AI15: 3 | AO15: Lazy Neckers
A16: Islanders | B16: 1 | C16: : | D16: 2 | E16: 2 | F16: : | G16: 1 | H16: 5 | I16: : | J16: 4 | N16: 2 | O16: : | P16: 4 | Q16: 5 | R16: : | S16: 3 | T16: 5 | U16: : | V16: 5 | W16: 4 | X16: : | Y16: 2 | Z16: =AA16+AB16+AC16 -> 7 | AA16: 4 | AB16: 1 | AC16: 2 | AD16: =B16+E16+H16+K16+N16+Q16+T16+W16 -> 24 | AE16: : | AF16: =D16+G16+J16+M16+P16+S16+V16+Y16 -> 21 | AG16: =AA16*2+AB16*1 -> 9 | AI16: 2 | AO16: Islanders
A17: Bys | B17: 4 | C17: : | D17: 7 | E17: 4 | F17: : | G17: 4 | H17: 8 | I17: : | J17: 6 | K17: 4 | L17: : | M17: 2 | Q17: 2 | R17: : | S17: 3 | T17: 1 | U17: : | V17: 3 | W17: 11 | X17: : | Y17: 4 | Z17: =AA17+AB17+AC17 -> 7 | AA17: 3 | AB17: 1 | AC17: 3 | AD17: =B17+E17+H17+K17+N17+Q17+T17+W17 -> 34 | AE17: : | AF17: =D17+G17+J17+M17+P17+S17+V17+Y17 -> 29 | AG17: =AA17*2+AB17*1 -> 7 | AI17: 4 | AQ17: Bystřec
A18: Fly Třebovice | B18: 2 | C18: : | D18: 8 | E18: 6 | F18: : | G18: 6 | H18: 5 | I18: : | J18: 11 | K18: 3 | L18: : | M18: 5 | N18: 3 | O18: : | P18: 2 | T18: 2 | U18: : | V18: 2 | W18: 1 | X18: : | Y18: 1 | Z18: =AA18+AB18+AC18 -> 7 | AA18: 1 | AB18: 3 | AC18: 3 | AD18: =B18+E18+H18+K18+N18+Q18+T18+W18 -> 22 | AE18: : | AF18: =D18+G18+J18+M18+P18+S18+V18+Y18 -> 35 | AG18: =AA18*2+AB18*1 -> 5 | AQ18: Petrovice
A19: Pet | B19: 4 | C19: : | D19: 6 | E19: 2 | F19: : | G19: 4 | H19: 2 | I19: : | J19: 6 | K19: 5 | L19: : | M19: 5 | N19: 3 | O19: : | P19: 1 | Q19: 2 | R19: : | S19: 2 | W19: 4 | X19: : | Y19: 3 | Z19: =AA19+AB19+AC19 -> 7 | AA19: 2 | AB19: 2 | AC19: 3 | AD19: =B19+E19+H19+K19+N19+Q19+T19+W19 -> 22 | AE19: : | AF19: =D19+G19+J19+M19+P19+S19+V19+Y19 -> 27 | AG19: =AA19*2+AB19*1 -> 6 | AI19: 6 | AQ19: Bobři
A20: BOB | B20: 0 | C20: : | D20: 6 | E20: 7 | F20: : | G20: 6 | H20: 2 | I20: : | J20: 5 | K20: 2 | L20: : | M20: 4 | N20: 4 | O20: : | P20: 11 | Q20: 1 | R20: : | S20: 1 | T20: 3 | U20: : | V20: 4 | Z20: =AA20+AB20+AC20 -> 7 | AA20: 1 | AB20: 1 | AC20: 5 | AD20: =B20+E20+H20+K20+N20+Q20+T20+W20 -> 19 | AE20: : | AF20: =D20+G20+J20+M20+P20+S20+V20+Y20 -> 37 | AG20: =AA20*2+AB20*1 -> 3 | AQ20: Fly
Z21: =SUM(Z13:Z20)/2 -> 28 | AD21: =SUM(AD13:AD20) -> 220 | AF21: =SUM(AF13:AF20) -> 220
A23: 3.liga | B23: Raf | E23: Udánky | H23: LDM | K23: Sloni | N23: Verm. | Q23: Luková | T23: Sršni | W23: Lukavice | Z23: ZÁPASY | AA23: VÍTĚZSTVÍ | AB23: REMÍZY | AC23: PORÁŽKY | AD23: SKÓRE | AG23: BODY | AI23: POŘADÍ
A24: Raf | E24: 2 | F24: : | G24: 6 | H24: 1 | I24: : | J24: 5 | K24: 1 | L24: : | M24: 1 | N24: 3 | O24: : | P24: 4 | Q24: 8 | R24: : | S24: 6 | T24: 4 | U24: : | V24: 5 | W24: 5 | X24: : | Y24: 4 | Z24: =AA24+AB24+AC24 -> 7 | AA24: 2 | AB24: 1 | AC24: 4 | AD24: =B24+E24+H24+K24+N24+Q24+T24+W24 -> 24 | AE24: : | AF24: =D24+G24+J24+M24+P24+S24+V24+Y24 -> 31 | AG24: =AA24*2+AB24*1 -> 5 | AO24: Udánky
A25: Uda | B25: 6 | C25: : | D25: 2 | H25: 1 | I25: : | J25: 3 | K25: 5 | L25: : | M25: 3 | N25: 5 | O25: : | P25: 0 | Q25: 6 | R25: : | S25: 5 | T25: 7 | U25: : | V25: 3 | W25: 7 | X25: : | Y25: 2 | Z25: =AA25+AB25+AC25 -> 7 | AA25: 6 | AC25: 1 | AD25: =B25+E25+H25+K25+N25+Q25+T25+W25 -> 37 | AE25: : | AF25: =D25+G25+J25+M25+P25+S25+V25+Y25 -> 18 | AG25: =AA25*2+AB25*1 -> 12 | AO25: Verměř.
A26: LDM | B26: 5 | C26: : | D26: 1 | E26: 3 | F26: : | G26: 1 | K26: 6 | L26: : | M26: 6 | N26: 3 | O26: : | P26: 10 | Q26: 0 | R26: : | S26: 5 | T26: 6 | U26: : | V26: 2 | W26: 4 | X26: : | Y26: 6 | Z26: =AA26+AB26+AC26 -> 7 | AA26: 3 | AB26: 1 | AC26: 3 | AD26: =B26+E26+H26+K26+N26+Q26+T26+W26 -> 27 | AE26: : | AF26: =D26+G26+J26+M26+P26+S26+V26+Y26 -> 31 | AG26: =AA26*2+AB26*1 -> 7 | AO26: Lukavice
A27: Slo | B27: 1 | C27: : | D27: 1 | E27: 3 | F27: : | G27: 5 | H27: 6 | I27: : | J27: 6 | N27: 3 | O27: : | P27: 9 | Q27: 1 | R27: : | S27: 1 | T27: 6 | U27: : | V27: 2 | W27: 4 | X27: : | Y27: 10 | Z27: =AA27+AB27+AC27 -> 7 | AA27: 1 | AB27: 3 | AC27: 3 | AD27: =B27+E27+H27+K27+N27+Q27+T27+W27 -> 24 | AE27: : | AF27: =D27+G27+J27+M27+P27+S27+V27+Y27 -> 34 | AG27: =AA27*2+AB27*1 -> 5 | AO27: Sloni
A28: Verm | B28: 4 | C28: : | D28: 3 | E28: 0 | F28: : | G28: 5 | H28: 10 | I28: : | J28: 3 | K28: 9 | L28: : | M28: 3 | Q28: 4 | R28: : | S28: 9 | T28: 6 | U28: : | V28: 4 | W28: 5 | X28: : | Y28: 7 | Z28: =AA28+AB28+AC28 -> 7 | AA28: 4 | AC28: 3 | AD28: =B28+E28+H28+K28+N28+Q28+T28+W28 -> 38 | AE28: : | AF28: =D28+G28+J28+M28+P28+S28+V28+Y28 -> 34 | AG28: =AA28*2+AB28*1 -> 8 | AO28: LDM
A29: Luková | B29: 6 | C29: : | D29: 8 | E29: 5 | F29: : | G29: 6 | H29: 5 | I29: : | J29: 0 | K29: 1 | L29: : | M29: 1 | N29: 9 | O29: : | P29: 4 | T29: 5 | U29: : | V29: 5 | W29: 4 | X29: : | Y29: 5 | Z29: =AA29+AB29+AC29 -> 7 | AA29: 2 | AB29: 2 | AC29: 3 | AD29: =B29+E29+H29+K29+N29+Q29+T29+W29 -> 35 | AE29: : | AF29: =D29+G29+J29+M29+P29+S29+V29+Y29 -> 29 | AG29: =AA29*2+AB29*1 -> 6 | AO29: Luková
A30: Srš | B30: 5 | C30: : | D30: 4 | E30: 3 | F30: : | G30: 7 | H30: 2 | I30: : | J30: 6 | K30: 2 | L30: : | M30: 6 | N30: 4 | O30: : | P30: 6 | Q30: 5 | R30: : | S30: 5 | W30: 9 | X30: : | Y30: 1 | Z30: =AA30+AB30+AC30 -> 7 | AA30: 2 | AB30: 1 | AC30: 4 | AD30: =B30+E30+H30+K30+N30+Q30+T30+W30 -> 30 | AE30: : | AF30: =D30+G30+J30+M30+P30+S30+V30+Y30 -> 35 | AG30: =AA30*2+AB30*1 -> 5 | AO30: Rafani
A31: Lukavice | B31: 4 | C31: : | D31: 5 | E31: 2 | F31: : | G31: 7 | H31: 6 | I31: : | J31: 4 | K31: 10 | L31: : | M31: 4 | N31: 7 | O31: : | P31: 5 | Q31: 5 | R31: : | S31: 4 | T31: 1 | U31: : | V31: 9 | Z31: =AA31+AB31+AC31 -> 7 | AA31: 4 | AC31: 3 | AD31: =B31+E31+H31+K31+N31+Q31+T31+W31 -> 35 | AE31: : | AF31: =D31+G31+J31+M31+P31+S31+V31+Y31 -> 38 | AG31: =AA31*2+AB31*1 -> 8 | AO31: Sršni
Z32: =SUM(Z24:Z31)/2 -> 28 | AD32: =SUM(AD24:AD31) -> 250 | AF32: =SUM(AF24:AF31) -> 250
A34: 4.liga | B34: Slámož. | E34: H.Čermná | H34: H.Třeš | K34: Jedlí | N34: Snakes | Q34: OMB | T34: Štíty | W34: Rájec | Z34: ZÁPASY | AA34: VÍTĚZSTVÍ | AB34: REMÍZY | AC34: PORÁŽKY | AD34: SKÓRE | AG34: BODY | AI34: POŘADÍ
A35: Slámož | E35: 3 | F35: : | G35: 3 | H35: 5 | I35: : | J35: 1 | K35: 8 | L35: : | M35: 1 | N35: 2 | O35: : | P35: 3 | Q35: 10 | R35: : | S35: 0 | T35: 9 | U35: : | V35: 3 | W35: 9 | X35: : | Y35: 3 | Z35: =AA35+AB35+AC35 -> 7 | AA35: 5 | AB35: 1 | AC35: 1 | AD35: =B35+E35+H35+K35+N35+Q35+T35+W35 -> 46 | AE35: : | AF35: =D35+G35+J35+M35+P35+S35+V35+Y35 -> 14 | AG35: =AA35*2+AB35*1 -> 11 | AQ35: Rájec
A36: H.Čermná | B36: 3 | C36: : | D36: 3 | H36: 1 | I36: : | J36: 5 | K36: 1 | L36: : | M36: 3 | N36: 8 | O36: : | P36: 4 | Q36: 3 | R36: : | S36: 0 | T36: 5 | U36: : | V36: 4 | W36: 2 | X36: : | Y36: 5 | Z36: =AA36+AB36+AC36 -> 7 | AA36: 3 | AB36: 1 | AC36: 3 | AD36: =B36+E36+H36+K36+N36+Q36+T36+W36 -> 23 | AE36: : | AF36: =D36+G36+J36+M36+P36+S36+V36+Y36 -> 24 | AG36: =AA36*2+AB36*1 -> 7 | AQ36: Slámožrouti
A37: H.Třeš | B37: 1 | C37: : | D37: 5 | E37: 5 | F37: : | G37: 1 | K37: 2 | L37: : | M37: 6 | N37: 1 | O37: : | P37: 4 | Q37: 10 | R37: : | S37: 3 | T37: 5 | U37: : | V37: 0 | W37: 2 | X37: : | Y37: 6 | Z37: =AA37+AB37+AC37 -> 7 | AA37: 3 | AC37: 4 | AD37: =B37+E37+H37+K37+N37+Q37+T37+W37 -> 26 | AE37: : | AF37: =D37+G37+J37+M37+P37+S37+V37+Y37 -> 25 | AG37: =AA37*2+AB37*1 -> 6 | AQ37: Snakes
A38: Jedlí | B38: 1 | C38: : | D38: 8 | E38: 3 | F38: : | G38: 1 | H38: 6 | I38: : | J38: 2 | N38: 0 | O38: : | P38: 5 | Q38: 2 | R38: : | S38: 4 | T38: 5 | U38: : | V38: 6 | W38: 1 | X38: : | Y38: 3 | Z38: =AA38+AB38+AC38 -> 7 | AA38: 2 | AC38: 5 | AD38: =B38+E38+H38+K38+N38+Q38+T38+W38 -> 18 | AE38: : | AF38: =D38+G38+J38+M38+P38+S38+V38+Y38 -> 29 | AG38: =AA38*2+AB38*1 -> 4 | AQ38: H.Čermná
A39: Snakes | B39: 3 | C39: : | D39: 2 | E39: 4 | F39: : | G39: 8 | H39: 4 | I39: : | J39: 1 | K39: 5 | L39: : | M39: 0 | Q39: 5 | R39: : | S39: 1 | T39: 6 | U39: : | V39: 9 | W39: 2 | X39: : | Y39: 11 | Z39: =AA39+AB39+AC39 -> 7 | AA39: 4 | AC39: 3 | AD39: =B39+E39+H39+K39+N39+Q39+T39+W39 -> 29 | AE39: : | AF39: =D39+G39+J39+M39+P39+S39+V39+Y39 -> 32 | AG39: =AA39*2+AB39*1 -> 8 | AQ39: H.Třeš.
A40: OMB | B40: 0 | C40: : | D40: 10 | E40: 0 | F40: : | G40: 3 | H40: 3 | I40: : | J40: 10 | K40: 4 | L40: : | M40: 2 | N40: 1 | O40: : | P40: 5 | T40: 4 | U40: : | V40: 2 | W40: 1 | X40: : | Y40: 4 | Z40: =AA40+AB40+AC40 -> 7 | AA40: 2 | AC40: 5 | AD40: =B40+E40+H40+K40+N40+Q40+T40+W40 -> 13 | AE40: : | AF40: =D40+G40+J40+M40+P40+S40+V40+Y40 -> 36 | AG40: =AA40*2+AB40*1 -> 4 | AQ40: OMB
A41: Štíty | B41: 3 | C41: : | D41: 9 | E41: 4 | F41: : | G41: 5 | H41: 0 | I41: : | J41: 5 | K41: 6 | L41: : | M41: 5 | N41: 9 | O41: : | P41: 6 | Q41: 2 | R41: : | S41: 4 | W41: 2 | X41: : | Y41: 7 | Z41: =AA41+AB41+AC41 -> 7 | AA41: 2 | AC41: 5 | AD41: =B41+E41+H41+K41+N41+Q41+T41+W41 -> 26 | AE41: : | AF41: =D41+G41+J41+M41+P41+S41+V41+Y41 -> 41 | AG41: =AA41*2+AB41*1 -> 4 | AQ41: Štíty
A42: SK Rájec | B42: 3 | C42: : | D42: 9 | E42: 5 | F42: : | G42: 2 | H42: 6 | I42: : | J42: 2 | K42: 3 | L42: : | M42: 1 | N42: 11 | O42: : | P42: 2 | Q42: 4 | R42: : | S42: 1 | T42: 7 | U42: : | V42: 2 | Z42: =AA42+AB42+AC42 -> 7 | AA42: 6 | AC42: 1 | AD42: =B42+E42+H42+K42+N42+Q42+T42+W42 -> 39 | AE42: : | AF42: =D42+G42+J42+M42+P42+S42+V42+Y42 -> 19 | AG42: =AA42*2+AB42*1 -> 12 | AQ42: Jedlí
Z43: =SUM(Z35:Z42)/2 -> 28 | AD43: =SUM(AD35:AD42) -> 220 | AF43: =SUM(AF35:AF42) -> 220

Sheet 2k
A1: 1A.liga | B1: Soma | E1: Tyg | H1: Nek | K1: Kláš | N1: HT Zábř. | Q1: Bystřec | T1: Cyklo | W1: Lukavice | Z1: ZÁPASY | AA1: VÍTĚZSTVÍ | AB1: REMÍZY | AC1: PORÁŽKY | AD1: SKÓRE | AG1: BODY | AI1: POŘADÍ | AK1: =Z10+Z21+Z32+105+Z44 -> 210
A2: Soma | E2: 8 | F2: : | G2: 4 | H2: 10 | I2: : | J2: 3 | K2: 14 | L2: : | M2: 5 | N2: 12 | O2: : | P2: 1 | Q2: 8 | R2: : | S2: 3 | T2: 14 | U2: : | V2: 1 | W2: 22 | X2: : | Y2: 4 | Z2: =AA2+AB2+AC2 -> 7 | AA2: 7 | AD2: =B2+E2+H2+K2+N2+Q2+T2+W2 -> 88 | AE2: : | AF2: =D2+G2+J2+M2+P2+S2+V2+Y2 -> 21 | AG2: =AA2*2+AB2*1 -> 14 | AI2: 1
A3: Tygři | B3: 4 | C3: : | D3: 8 | H3: 11 | I3: : | J3: 0 | K3: 16 | L3: : | M3: 0 | N3: 11 | O3: : | P3: 5 | Q3: 8 | R3: : | S3: 1 | T3: 7 | U3: : | V3: 2 | W3: 14 | X3: : | Y3: 2 | Z3: =AA3+AB3+AC3 -> 7 | AA3: 6 | AC3: 1 | AD3: =B3+E3+H3+K3+N3+Q3+T3+W3 -> 71 | AE3: : | AF3: =D3+G3+J3+M3+P3+S3+V3+Y3 -> 18 | AG3: =AA3*2+AB3*1 -> 12 | AI3: 2
A4: Nek | B4: 3 | C4: : | D4: 10 | E4: 0 | F4: : | G4: 11 | K4: 3 | L4: : | M4: 4 | N4: 6 | O4: : | P4: 1 | Q4: 4 | R4: : | S4: 4 | T4: 4 | U4: : | V4: 2 | W4: 13 | X4: : | Y4: 1 | Z4: =AA4+AB4+AC4 -> 7 | AA4: 3 | AB4: 1 | AC4: 3 | AD4: =B4+E4+H4+K4+N4+Q4+T4+W4 -> 33 | AE4: : | AF4: =D4+G4+J4+M4+P4+S4+V4+Y4 -> 33 | AG4: =AA4*2+AB4*1 -> 7 | AI4: 4
A5: Klášterec | B5: 5 | C5: : | D5: 14 | E5: 0 | F5: : | G5: 16 | H5: 4 | I5: : | J5: 3 | N5: 3 | O5: : | P5: 8 | Q5: 9 | R5: : | S5: 3 | T5: 5 | U5: : | V5: 7 | W5: 7 | X5: : | Y5: 2 | Z5: =AA5+AB5+AC5 -> 7 | AA5: 3 | AC5: 4 | AD5: =B5+E5+H5+K5+N5+Q5+T5+W5 -> 33 | AE5: : | AF5: =D5+G5+J5+M5+P5+S5+V5+Y5 -> 53 | AG5: =AA5*2+AB5*1 -> 6 | AI5: 5
A6: HT Zábřeh | B6: 1 | C6: : | D6: 12 | E6: 5 | F6: : | G6: 11 | H6: 1 | I6: : | J6: 6 | K6: 8 | L6: : | M6: 3 | Q6: 4 | R6: : | S6: 0 | T6: 7 | U6: : | V6: 0 | W6: 5 | X6: : | Y6: 3 | Z6: =AA6+AB6+AC6 -> 7 | AA6: 4 | AC6: 3 | AD6: =B6+E6+H6+K6+N6+Q6+T6+W6 -> 31 | AE6: : | AF6: =D6+G6+J6+M6+P6+S6+V6+Y6 -> 35 | AG6: =AA6*2+AB6*1 -> 8 | AI6: 3
A7: Bys | B7: 3 | C7: : | D7: 8 | E7: 1 | F7: : | G7: 8 | H7: 4 | I7: : | J7: 4 | K7: 3 | L7: : | M7: 9 | N7: 0 | O7: : | P7: 4 | T7: 15 | U7: : | V7: 2 | W7: 9 | X7: : | Y7: 8 | Z7: =AA7+AB7+AC7 -> 7 | AA7: 2 | AB7: 1 | AC7: 4 | AD7: =B7+E7+H7+K7+N7+Q7+T7+W7 -> 35 | AE7: : | AF7: =D7+G7+J7+M7+P7+S7+V7+Y7 -> 43 | AG7: =AA7*2+AB7*1 -> 5 | AI7: 6
A8: Cyk | B8: 1 | C8: : | D8: 14 | E8: 2 | F8: : | G8: 7 | H8: 2 | I8: : | J8: 4 | K8: 7 | L8: : | M8: 5 | N8: 0 | O8: : | P8: 7 | Q8: 2 | R8: : | S8: 15 | W8: 6 | X8: : | Y8: 1 | Z8: =AA8+AB8+AC8 -> 7 | AA8: 2 | AC8: 5 | AD8: =B8+E8+H8+K8+N8+Q8+T8+W8 -> 20 | AE8: : | AF8: =D8+G8+J8+M8+P8+S8+V8+Y8 -> 53 | AG8: =AA8*2+AB8*1 -> 4 | AI8: 7
A9: Lukavice | B9: 4 | C9: : | D9: 22 | E9: 2 | F9: : | G9: 14 | H9: 1 | I9: : | J9: 13 | K9: 2 | L9: : | M9: 7 | N9: 3 | O9: : | P9: 5 | Q9: 8 | R9: : | S9: 9 | T9: 1 | U9: : | V9: 6 | Z9: =AA9+AB9+AC9 -> 7 | AC9: 7 | AD9: =B9+E9+H9+K9+N9+Q9+T9+W9 -> 21 | AE9: : | AF9: =D9+G9+J9+M9+P9+S9+V9+Y9 -> 76 | AG9: =AA9*2+AB9*1 -> 0 | AI9: 8
Z10: =SUM(Z2:Z9)/2 -> 28 | AD10: =SUM(AD2:AD9) -> 332 | AF10: =SUM(AF2:AF9) -> 332
A12: 1B.liga | B12: Nuget | E12: Heat tech | H12: Těch | K12: Islanders | N12: Udánky | Q12: Lazy | T12: Verměř. | W12: Petrovice | Z12: ZÁPASY | AA12: VÍTĚZSTVÍ | AB12: REMÍZY | AC12: PORÁŽKY | AD12: SKÓRE | AG12: BODY | AI12: POŘADÍ
A13: Nuget | E13: 8 | F13: : | G13: 5 | H13: 5 | I13: : | J13: 1 | K13: 7 | L13: : | M13: 4 | N13: 7 | O13: : | P13: 2 | Q13: 7 | R13: : | S13: 2 | T13: 9 | U13: : | V13: 3 | W13: 6 | X13: : | Y13: 3 | Z13: =AA13+AB13+AC13 -> 7 | AA13: 7 | AD13: =B13+E13+H13+K13+N13+Q13+T13+W13 -> 49 | AE13: : | AF13: =D13+G13+J13+M13+P13+S13+V13+Y13 -> 20 | AG13: =AA13*2+AB13*1 -> 14 | AI13: 1
A14: Heat | B14: 5 | C14: : | D14: 8 | H14: 3 | I14: : | J14: 8 | K14: 10 | L14: : | M14: 3 | N14: 11 | O14: : | P14: 2 | Q14: 4 | R14: : | S14: 6 | T14: 10 | U14: : | V14: 2 | W14: 11 | X14: : | Y14: 7 | Z14: =AA14+AB14+AC14 -> 7 | AA14: 4 | AC14: 3 | AD14: =B14+E14+H14+K14+N14+Q14+T14+W14 -> 54 | AE14: : | AF14: =D14+G14+J14+M14+P14+S14+V14+Y14 -> 36 | AG14: =AA14*2+AB14*1 -> 8 | AI14: 4
A15: Těch | B15: 1 | C15: : | D15: 5 | E15: 8 | F15: : | G15: 3 | K15: 6 | L15: : | M15: 2 | N15: 4 | O15: : | P15: 3 | Q15: 7 | R15: : | S15: 4 | T15: 4 | U15: : | V15: 4 | W15: 6 | X15: : | Y15: 2 | Z15: =AA15+AB15+AC15 -> 7 | AA15: 5 | AB15: 1 | AC15: 1 | AD15: =B15+E15+H15+K15+N15+Q15+T15+W15 -> 36 | AE15: : | AF15: =D15+G15+J15+M15+P15+S15+V15+Y15 -> 23 | AG15: =AA15*2+AB15*1 -> 11 | AI15: 2
A16: Islanders | B16: 4 | C16: : | D16: 7 | E16: 3 | F16: : | G16: 10 | H16: 2 | I16: : | J16: 6 | N16: 7 | O16: : | P16: 4 | Q16: 3 | R16: : | S16: 7 | T16: 6 | U16: : | V16: 2 | W16: 9 | X16: : | Y16: 4 | Z16: =AA16+AB16+AC16 -> 7 | AA16: 3 | AC16: 4 | AD16: =B16+E16+H16+K16+N16+Q16+T16+W16 -> 34 | AE16: : | AF16: =D16+G16+J16+M16+P16+S16+V16+Y16 -> 40 | AG16: =AA16*2+AB16*1 -> 6 | AI16: 5
A17: Udánky | B17: 2 | C17: : | D17: 7 | E17: 2 | F17: : | G17: 11 | H17: 3 | I17: : | J17: 4 | K17: 4 | L17: : | M17: 7 | Q17: 2 | R17: : | S17: 12 | T17: 1 | U17: : | V17: 4 | W17: 6 | X17: : | Y17: 2 | Z17: =AA17+AB17+AC17 -> 7 | AA17: 1 | AC17: 6 | AD17: =B17+E17+H17+K17+N17+Q17+T17+W17 -> 20 | AE17: : | AF17: =D17+G17+J17+M17+P17+S17+V17+Y17 -> 47 | AG17: =AA17*2+AB17*1 -> 2 | AI17: 7
A18: Lazy | B18: 2 | C18: : | D18: 7 | E18: 6 | F18: : | G18: 4 | H18: 4 | I18: : | J18: 7 | K18: 7 | L18: : | M18: 3 | N18: 12 | O18: : | P18: 2 | T18: 9 | U18: : | V18: 7 | W18: 8 | X18: : | Y18: 4 | Z18: =AA18+AB18+AC18 -> 7 | AA18: 5 | AC18: 2 | AD18: =B18+E18+H18+K18+N18+Q18+T18+W18 -> 48 | AE18: : | AF18: =D18+G18+J18+M18+P18+S18+V18+Y18 -> 34 | AG18: =AA18*2+AB18*1 -> 10 | AI18: 3
A19: Verm | B19: 3 | C19: : | D19: 9 | E19: 2 | F19: : | G19: 10 | H19: 4 | I19: : | J19: 4 | K19: 2 | L19: : | M19: 6 | N19: 4 | O19: : | P19: 1 | Q19: 7 | R19: : | S19: 9 | W19: 2 | X19: : | Y19: 6 | Z19: =AA19+AB19+AC19 -> 7 | AA19: 1 | AB19: 1 | AC19: 5 | AD19: =B19+E19+H19+K19+N19+Q19+T19+W19 -> 24 | AE19: : | AF19: =D19+G19+J19+M19+P19+S19+V19+Y19 -> 45 | AG19: =AA19*2+AB19*1 -> 3 | AI19: 6
A20: Pet | B20: 3 | C20: : | D20: 6 | E20: 7 | F20: : | G20: 11 | H20: 2 | I20: : | J20: 6 | K20: 4 | L20: : | M20: 9 | N20: 2 | O20: : | P20: 6 | Q20: 4 | R20: : | S20: 8 | T20: 6 | U20: : | V20: 2 | Z20: =AA20+AB20+AC20 -> 7 | AA20: 1 | AC20: 6 | AD20: =B20+E20+H20+K20+N20+Q20+T20+W20 -> 28 | AE20: : | AF20: =D20+G20+J20+M20+P20+S20+V20+Y20 -> 48 | AG20: =AA20*2+AB20*1 -> 2 | AI20: 8
Z21: =SUM(Z13:Z20)/2 -> 28 | AD21: =SUM(AD13:AD20) -> 293 | AF21: =SUM(AF13:AF20) -> 293
A23: 2.liga | B23: Slámož. | E23: Rájec | H23: BOB | K23: Sloni | N23: LDM | Q23: Flyers | T23: Snakes | W23: Luková | Z23: ZÁPASY | AA23: VÍTĚZSTVÍ | AB23: REMÍZY | AC23: PORÁŽKY | AD23: SKÓRE | AG23: BODY | AI23: POŘADÍ
A24: Slámož | E24: 8 | F24: : | G24: 3 | H24: 2 | I24: : | J24: 5 | K24: 6 | L24: : | M24: 0 | N24: 1 | O24: : | P24: 3 | Q24: 2 | R24: : | S24: 6 | T24: 1 | U24: : | V24: 0 | W24: 6 | X24: : | Y24: 2 | Z24: =AA24+AB24+AC24 -> 7 | AA24: 4 | AC24: 3 | AD24: =B24+E24+H24+K24+N24+Q24+T24+W24 -> 26 | AE24: : | AF24: =D24+G24+J24+M24+P24+S24+V24+Y24 -> 19 | AG24: =AA24*2+AB24*1 -> 8 | AI24: 4
A25: SK Rájec | B25: 3 | C25: : | D25: 8 | H25: 3 | I25: : | J25: 1 | K25: 1 | L25: : | M25: 7 | N25: 13 | O25: : | P25: 3 | Q25: 4 | R25: : | S25: 4 | T25: 7 | U25: : | V25: 1 | W25: 2 | X25: : | Y25: 0 | Z25: =AA25+AB25+AC25 -> 7 | AA25: 4 | AB25: 1 | AC25: 2 | AD25: =B25+E25+H25+K25+N25+Q25+T25+W25 -> 33 | AE25: : | AF25: =D25+G25+J25+M25+P25+S25+V25+Y25 -> 24 | AG25: =AA25*2+AB25*1 -> 9 | AI25: 3
A26: BOB | B26: 5 | C26: : | D26: 2 | E26: 1 | F26: : | G26: 3 | K26: 7 | L26: : | M26: 4 | N26: 5 | O26: : | P26: 3 | Q26: 0 | R26: : | S26: 1 | T26: 5 | U26: : | V26: 0 | W26: 2 | X26: : | Y26: 1 | Z26: =AA26+AB26+AC26 -> 7 | AA26: 5 | AC26: 2 | AD26: =B26+E26+H26+K26+N26+Q26+T26+W26 -> 25 | AE26: : | AF26: =D26+G26+J26+M26+P26+S26+V26+Y26 -> 14 | AG26: =AA26*2+AB26*1 -> 10 | AI26: 2
A27: Slo | B27: 0 | C27: : | D27: 6 | E27: 7 | F27: : | G27: 1 | H27: 4 | I27: : | J27: 7 | N27: 7 | O27: : | P27: 4 | Q27: 2 | R27: : | S27: 6 | T27: 6 | U27: : | V27: 2 | W27: 0 | X27: : | Y27: 5 | Z27: =AA27+AB27+AC27 -> 7 | AA27: 3 | AC27: 4 | AD27: =B27+E27+H27+K27+N27+Q27+T27+W27 -> 26 | AE27: : | AF27: =D27+G27+J27+M27+P27+S27+V27+Y27 -> 31 | AG27: =AA27*2+AB27*1 -> 6 | AI27: 6
A28: LDM | B28: 3 | C28: : | D28: 1 | E28: 3 | F28: : | G28: 13 | H28: 3 | I28: : | J28: 5 | K28: 4 | L28: : | M28: 7 | Q28: 2 | R28: : | S28: 3 | T28: 9 | U28: : | V28: 2 | W28: 4 | X28: : | Y28: 8 | Z28: =AA28+AB28+AC28 -> 7 | AA28: 2 | AC28: 5 | AD28: =B28+E28+H28+K28+N28+Q28+T28+W28 -> 28 | AE28: : | AF28: =D28+G28+J28+M28+P28+S28+V28+Y28 -> 39 | AG28: =AA28*2+AB28*1 -> 4 | AI28: 7
A29: Flyers Třebovice | B29: 6 | C29: : | D29: 2 | E29: 4 | F29: : | G29: 4 | H29: 1 | I29: : | J29: 0 | K29: 6 | L29: : | M29: 2 | N29: 3 | O29: : | P29: 2 | T29: 10 | U29: : | V29: 2 | W29: 3 | X29: : | Y29: 5 | Z29: =AA29+AB29+AC29 -> 7 | AA29: 5 | AB29: 1 | AC29: 1 | AD29: =B29+E29+H29+K29+N29+Q29+T29+W29 -> 33 | AE29: : | AF29: =D29+G29+J29+M29+P29+S29+V29+Y29 -> 17 | AG29: =AA29*2+AB29*1 -> 11 | AI29: 1
A30: Snakes | B30: 0 | C30: : | D30: 1 | E30: 1 | F30: : | G30: 7 | H30: 0 | I30: : | J30: 5 | K30: 2 | L30: : | M30: 6 | N30: 2 | O30: : | P30: 9 | Q30: 2 | R30: : | S30: 10 | W30: 3 | X30: : | Y30: 5 | Z30: =AA30+AB30+AC30 -> 7 | AC30: 7 | AD30: =B30+E30+H30+K30+N30+Q30+T30+W30 -> 10 | AE30: : | AF30: =D30+G30+J30+M30+P30+S30+V30+Y30 -> 43 | AG30: =AA30*2+AB30*1 -> 0 | AI30: 8
A31: Luková | B31: 2 | C31: : | D31: 6 | E31: 0 | F31: : | G31: 2 | H31: 1 | I31: : | J31: 2 | K31: 5 | L31: : | M31: 0 | N31: 8 | O31: : | P31: 4 | Q31: 5 | R31: : | S31: 3 | T31: 5 | U31: : | V31: 3 | Z31: =AA31+AB31+AC31 -> 7 | AA31: 4 | AC31: 3 | AD31: =B31+E31+H31+K31+N31+Q31+T31+W31 -> 26 | AE31: : | AF31: =D31+G31+J31+M31+P31+S31+V31+Y31 -> 20 | AG31: =AA31*2+AB31*1 -> 8 | AI31: 5
Z32: =SUM(Z24:Z31)/2 -> 28 | AD32: =SUM(AD24:AD31) -> 207 | AF32: =SUM(AF24:AF31) -> 207
A36: 3 liga | B36: Raf | E36: Jedlí | H36: OMB | K36: Štíty | N36: Sršni | Q36: H.Třeš | T36: H.Čermná | Z36: ZÁPASY | AA36: VÍTĚZSTVÍ | AB36: REMÍZY | AC36: PORÁŽKY | AD36: SKÓRE | AG36: BODY | AI36: POŘADÍ | AK36: =Z44+Z32+Z21+Z10+105 -> 210
A37: Raf | E37: 3 | F37: : | G37: 3 | H37: 4 | I37: : | J37: 0 | K37: 3 | L37: : | M37: 2 | N37: 5 | O37: : | P37: 7 | Q37: 3 | R37: : | S37: 1 | T37: 2 | U37: : | V37: 3 | Z37: =AA37+AB37+AC37 -> 6 | AA37: 3 | AB37: 1 | AC37: 2 | AD37: =+N37+Q37+T37+K37+H37+E37+B37 -> 20 | AE37: : | AF37: =V37+M37+J37+G37+D37+P37++S37 -> 16 | AG37: =AA37*2+AB37*1 -> 7 | AI37: 3
A38: JEDLI | B38: 3 | C38: : | D38: 3 | H38: 11 | I38: : | J38: 1 | K38: 4 | L38: : | M38: 8 | N38: 5 | O38: : | P38: 4 | Q38: 6 | R38: : | S38: 3 | T38: 2 | U38: : | V38: 2 | Z38: =AA38+AB38+AC38 -> 6 | AA38: 3 | AB38: 2 | AC38: 1 | AD38: =+N38+Q38+T38+K38+H38+E38+B38 -> 31 | AE38: : | AF38: =V38+M38+J38+G38+D38+P38++S38 -> 21 | AG38: =AA38*2+AB38*1 -> 8 | AI38: 1
A39: OMB | B39: 0 | C39: : | D39: 4 | E39: 1 | F39: : | G39: 11 | K39: 2 | L39: : | M39: 11 | N39: 6 | O39: : | P39: 5 | Q39: 2 | R39: : | S39: 5 | T39: 1 | U39: : | V39: 2 | Z39: =AA39+AB39+AC39 -> 6 | AA39: 1 | AC39: 5 | AD39: =+N39+Q39+T39+K39+H39+E39+B39 -> 12 | AE39: : | AF39: =V39+M39+J39+G39+D39+P39++S39 -> 38 | AG39: =AA39*2+AB39*1 -> 2 | AI39: 7
A40: Štíty | B40: 2 | C40: : | D40: 3 | E40: 8 | F40: : | G40: 4 | H40: 11 | I40: : | J40: 2 | N40: 5 | O40: : | P40: 5 | Q40: 1 | R40: : | S40: 8 | T40: 5 | U40: : | V40: 5 | Z40: =AA40+AB40+AC40 -> 6 | AA40: 2 | AB40: 2 | AC40: 2 | AD40: =+N40+Q40+T40+K40+H40+E40+B40 -> 32 | AE40: : | AF40: =V40+M40+J40+G40+D40+P40++S40 -> 27 | AG40: =AA40*2+AB40*1 -> 6 | AI40: 6
A41: Srš | B41: 7 | C41: : | D41: 5 | E41: 4 | F41: : | G41: 5 | H41: 5 | I41: : | J41: 6 | K41: 5 | L41: : | M41: 5 | Q41: 8 | R41: : | S41: 3 | T41: 6 | U41: : | V41: 2 | Z41: =AA41+AB41+AC41 -> 6 | AA41: 3 | AB41: 1 | AC41: 2 | AD41: =+N41+Q41+T41+K41+H41+E41+B41 -> 35 | AE41: : | AF41: =V41+M41+J41+G41+D41+P41++S41 -> 26 | AG41: =AA41*2+AB41*1 -> 7 | AI41: 2
A42: H.Třeš | B42: 1 | C42: : | D42: 3 | E42: 3 | F42: : | G42: 6 | H42: 5 | I42: : | J42: 2 | K42: 8 | L42: : | M42: 1 | N42: 3 | O42: : | P42: 8 | T42: 7 | U42: : | V42: 4 | Z42: =AA42+AB42+AC42 -> 6 | AA42: 3 | AC42: 3 | AD42: =+N42+Q42+T42+K42+H42+E42+B42 -> 27 | AE42: : | AF42: =V42+M42+J42+G42+D42+P42++S42 -> 24 | AG42: =AA42*2+AB42*1 -> 6 | AI42: 4
A43: H.Čermná | B43: 3 | C43: : | D43: 2 | E43: 2 | F43: : | G43: 2 | H43: 2 | I43: : | J43: 1 | K43: 5 | L43: : | M43: 5 | N43: 2 | O43: : | P43: 6 | Q43: 4 | R43: : | S43: 7 | Z43: =AA43+AB43+AC43 -> 6 | AA43: 2 | AB43: 2 | AC43: 2 | AD43: =+N43+Q43+T43+K43+H43+E43+B43 -> 18 | AE43: : | AF43: =V43+M43+J43+G43+D43+P43++S43 -> 23 | AG43: =AA43*2+AB43*1 -> 6 | AI43: 5
Z44: =SUM(Z37:Z43)/2 -> 21 | AD44: =SUM(AD37:AD43) -> 175 | AF44: =SUM(AF37:AF43) -> 175
A78: A1
...

Sheet 3k
A2: 1.liga | B2: Soma | E2: Tygři | H2: Nuget | K2: Těchonín | P2: ZÁPASY | Q2: VÍTĚZSTVÍ | R2: REMÍZY | S2: PORÁŽKY | T2: SKÓRE | W2: BODY | Y2: POŘADÍ
A3: Soma | E3: 11 | G3: 2 | H3: 7 | J3: 3 | K3: 10 | L3: : | M3: 6 | P3: =Q3+R3+S3 -> 6 | Q3: 6 | T3: =B3+E3+H3+K3+B4+E4+H4+K4 -> 56 | U3: : | V3: =D3+J3+M3+M4+J4+G4+D4+G3 -> 27 | W3: =Q3*2+R3*1 -> 12 | Y3: 1
E4: 11 | G4: 7 | H4: 10 | J4: 5 | K4: 7 | L4: : | M4: 4
A5: Tygři | B5: 2 | C5: : | D5: 11 | H5: 7 | J5: 4 | K5: 4 | L5: : | M5: 1 | P5: =Q5+R5+S5 -> 6 | Q5: 4 | S5: 2 | T5: =B5+E5+H5+K5+B6+E6+H6+K6 -> 35 | U5: : | V5: =D5+J5+M5+M6+J6+G6+D6+G5 -> 33 | W5: =Q5*2+R5*1 -> 8 | Y5: 2
B6: 7 | C6: : | D6: 11 | H6: 8 | J6: 3 | K6: 7 | L6: : | M6: 3
A7: Nuget | B7: 3 | C7: : | D7: 7 | E7: 4 | G7: 7 | K7: 8 | L7: : | M7: 1 | P7: =Q7+R7+S7 -> 6 | Q7: 2 | S7: 4 | T7: =B7+E7+H7+K7+B8+E8+H8+K8 -> 34 | U7: : | V7: =D7+J7+M7+M8+J8+G8+D8+G7 -> 35 | W7: =Q7*2+R7*1 -> 4 | Y7: 3
B8: 5 | C8: : | D8: 10 | E8: 3 | G8: 8 | K8: 11 | L8: : | M8: 2
A9: Těchonín | B9: 6 | C9: : | D9: 10 | E9: 1 | G9: 4 | H9: 1 | J9: 8 | P9: =Q9+R9+S9 -> 5 | S9: 5 | T9: =B9+E9+H9+K9+B10+E10+H10+K10 -> 17 | U9: : | V9: =D9+J9+M9+M10+J10+G10+D10+G9 -> 47 | W9: =Q9*2+R9*1 -> 0 | Y9: 4
B10: 4 | C10: : | D10: 7 | E10: 3 | G10: 7 | H10: 2 | J10: 11
A13: 2.liga | B13: HT Zábřeh | E13: Nekoř | H13: Lazy | K13: Heat tech | P13: ZÁPASY | Q13: VÍTĚZSTVÍ | R13: REMÍZY | S13: PORÁŽKY | T13: SKÓRE | W13: BODY | Y13: POŘADÍ
A14: HT Zábřeh | E14: 5 | G14: 2 | H14: 3 | J14: 3 | K14: 5 | M14: 4 | P14: =Q14+R14+S14 -> 6 | Q14: 2 | R14: 1 | S14: 3 | T14: =B14+E14+H14+K14+B15+E15+H15+K15 -> 22 | U14: : | V14: =M14+J14+G14+D14+D15+G15+J15+M15 -> 23 | W14: =Q14*2+R14*1 -> 5 | Y14: 3
E15: 3 | G15: 4 | H15: 4 | J15: 7 | K15: 2 | M15: 3
A16: Nekoř | B16: 2 | D16: 5 | H16: 2 | J16: 3 | K16: 3 | M16: 7 | P16: =Q16+R16+S16 -> 6 | Q16: 2 | S16: 4 | T16: =B16+E16+H16+K16+B17+E17+H17+K17 -> 25 | U16: : | V16: =M16+J16+G16+D16+D17+G17+J17+M17 -> 23 | W16: =Q16*2+R16*1 -> 4 | Y16: 4
B17: 4 | D17: 3 | H17: 11 | J17: 1 | K17: 3 | M17: 4
A18: Lazy N. | B18: 3 | D18: 3 | E18: 3 | G18: 2 | K18: 4 | M18: 5 | P18: =Q18+R18+S18 -> 6 | Q18: 2 | R18: 1 | S18: 3 | T18: =B18+E18+H18+K18+B19+E19+H19+K19 -> 21 | U18: : | V18: =M18+J18+G18+D18+D19+G19+J19+M19 -> 34 | W18: =Q18*2+R18*1 -> 5 | Y18: 2
B19: 7 | D19: 4 | E19: 1 | G19: 11 | K19: 3 | M19: 9
A20: Heat tech | B20: 4 | D20: 5 | E20: 7 | G20: 3 | H20: 5 | J20: 4 | P20: =Q20+R20+S20 -> 6 | Q20: 5 | S20: 1 | T20: =B20+E20+H20+K20+B21+E21+H21+K21 -> 32 | U20: : | V20: =M20+J20+G20+D20+D21+G21+J21+M21 -> 20 | W20: =Q20*2+R20*1 -> 10 | Y20: 1
B21: 3 | D21: 2 | E21: 4 | G21: 3 | H21: 9 | J21: 3
A24: 3.liga | B24: Bystřec | E24: Klášterec | H24: Islanders | K24: Verměřovice | P24: ZÁPASY | Q24: VÍTĚZSTVÍ | R24: REMÍZY | S24: PORÁŽKY | T24: SKÓRE | W24: BODY | Y24: POŘADÍ
A25: Bystřec | E25: 2 | G25: 3 | H25: 2 | J25: 5 | K25: 5 | M25: 5 | P25: =Q25+R25+S25 -> 6 | Q25: 1 | R25: 1 | S25: 4 | T25: =K25+H25+E25+B25+K26+H26+E26+B26 -> 21 | U25: : | V25: =M25+J25+G25+D25+M26+J26+G26+D26 -> 27 | W25: =Q25*2+R25*1 -> 3 | Y25: 4
E26: 3 | G26: 5 | H26: 7 | J26: 5 | K26: 2 | M26: 4
A27: Klášterec | B27: 3 | D27: 2 | H27: 2 | J27: 4 | K27: 4 | M27: 4 | P27: =Q27+R27+S27 -> 6 | Q27: 3 | R27: 1 | S27: 2 | T27: =K27+H27+E27+B27+K28+H28+E28+B28 -> 22 | U27: : | V27: =M27+J27+G27+D27+M28+J28+G28+D28 -> 23 | W27: =Q27*2+R27*1 -> 7 | Y27: 2
B28: 5 | D28: 3 | H28: 3 | J28: 6 | K28: 5 | M28: 4
A29: Islanders | B29: 5 | D29: 2 | E29: 4 | G29: 2 | K29: 6 | M29: 2 | P29: =Q29+R29+S29 -> 6 | Q29: 5 | S29: 1 | T29: =K29+H29+E29+B29+K30+H30+E30+B30 -> 35 | U29: : | V29: =M29+J29+G29+D29+M30+J30+G30+D30 -> 22 | W29: =Q29*2+R29*1 -> 10 | Y29: 1
B30: 5 | D30: 7 | E30: 6 | G30: 3 | K30: 9 | M30: 6
A31: Verměřov. | B31: 5 | D31: 5 | E31: 4 | G31: 4 | H31: 2 | J31: 6 | P31: =Q31+R31+S31 -> 6 | Q31: 1 | R31: 2 | S31: 3 | T31: =K31+H31+E31+B31+K32+H32+E32+B32 -> 25 | U31: : | V31: =M31+J31+G31+D31+M32+J32+G32+D32 -> 31 | W31: =Q31*2+R31*1 -> 4 | Y31: 3
B32: 4 | D32: 2 | E32: 4 | G32: 5 | H32: 6 | J32: 9
A35: 4.liga | B35: Cyklo | E35: Udánky | H35: Flyers | K35: Bobři | P35: ZÁPASY | Q35: VÍTĚZSTVÍ | R35: REMÍZY | S35: PORÁŽKY | T35: SKÓRE | W35: BODY | Y35: POŘADÍ
A36: Cyklo | E36: 3 | F36: : | G36: 0 | H36: 2 | I36: : | J36: 3 | K36: 4 | L36: . | M36: 3 | P36: =Q36+R36+S36 -> 6 | Q36: 3 | S36: 3 | T36: =K36+H36+E36+B36+B37+E37+H37+K37 -> 20 | U36: : | V36: =M36+J36+G36+D36+D37+G37+J37+M37 -> 21 | W36: =Q36*2+R36*1 -> 6 | Y36: 3
E37: 7 | F37: : | G37: 4 | H37: 1 | I37: : | J37: 4 | K37: 3 | L37: : | M37: 7
A38: Udánky | B38: 0 | C38: : | D38: 3 | H38: 3 | I38: : | J38: 2 | K38: 7 | L38: : | M38: 3 | P38: =Q38+R38+S38 -> 6 | Q38: 2 | S38: 4 | T38: =K38+H38+E38+B38+B39+E39+H39+K39 -> 22 | U38: : | V38: =M38+J38+G38+D38+D39+G39+J39+M39 -> 29 | W38: =Q38*2+R38*1 -> 4 | Y38: 4
B39: 4 | C39: : | D39: 7 | H39: 3 | I39: : | J39: 8 | K39: 5 | L39: : | M39: 6
A40: Flyers | B40: 3 | C40: : | D40: 2 | E40: 2 | F40: : | G40: 3 | K40: 0 | L40: : | M40: 6 | P40: =Q40+R40+S40 -> 6 | Q40: 3 | R40: 1 | S40: 2 | T40: =K40+H40+E40+B40+B41+E41+H41+K41 -> 20 | U40: : | V40: =M40+J40+G40+D40+D41+G41+J41+M41 -> 18 | W40: =Q40*2+R40*1 -> 7 | Y40: 2
B41: 4 | C41: . | D41: 1 | E41: 8 | F41: . | G41: 3 | K41: 3 | L41: : | M41: 3
A42: Bobři | B42: 3 | C42: : | D42: 4 | E42: 3 | F42: : | G42: 7 | H42: 6 | I42: . | J42: 0 | P42: =Q42+R42+S42 -> 6 | Q42: 3 | R42: 1 | S42: 2 | T42: =K42+H42+E42+B42+B43+E43+H43+K43 -> 28 | U42: : | V42: =M42+J42+G42+D42+D43+G43+J43+M43 -> 22 | W42: =Q42*2+R42*1 -> 7 | Y42: 1
B43: 7 | C43: : | D43: 3 | E43: 6 | F43: : | G43: 5 | H43: 3 | I43: : | J43: 3
A45: 5.liga | B45: Lukavice | E45: Petrovice | H45: Rájec | K45: Slámožrouti | P45: ZÁPASY | Q45: VÍTĚZSTVÍ | R45: REMÍZY | S45: PORÁŽKY | T45: SKÓRE | W45: BODY | Y45: POŘADÍ
A46: Lukavice | E46: 4 | G46: 9 | H46: 1 | J46: 10 | K46: 0 | L46: . | M46: 6 | P46: =Q46+R46+S46 -> 6 | Q46: 2 | S46: 4 | T46: =K46+H46+E46+B46+B47+E47+H47+K47 -> 18 | U46: : | V46: =M46+J46+G46+D46+D47+G47+J47+M47 -> 36 | W46: =Q46*2+R46*1 -> 4 | Y46: 4
E47: 5 | G47: 6 | H47: 3 | J47: 1 | K47: 5 | L47: : | M47: 4
A48: Petrovice | B48: 9 | D48: 4 | H48: 3 | J48: 3 | K48: 7 | L48: : | M48: 6 | P48: =Q48+R48+S48 -> 6 | Q48: 3 | R48: 3 | T48: =K48+H48+E48+B48+B49+E49+H49+K49 -> 32 | U48: : | V48: =M48+J48+G48+D48+D49+G49+J49+M49 -> 25 | W48: =Q48*2+R48*1 -> 9 | Y48: 1
...

Sheet 3k.7
A2: 7. liga | B2: =A3 -> LDM | E2: =A4 -> Snakes | H2: =A5 -> Štíty | K2: =A6 -> Rafani | N2: =A7 -> H.Třeš. | Q2: H.Čermná | T2: =A9 -> OMB | Z2: ZÁPASY | AA2: VÍTĚZSTVÍ | AB2: REMÍZY | AC2: PORÁŽKY | AD2: SKÓRE | AG2: BODY | AI2: POŘADÍ | AK2: =Z10+Z22+Z33+Z44 -> 21
A3: LDM | E3: 3 | F3: : | G3: 7 | H3: 0 | I3: : | J3: 5 | K3: 7 | L3: : | M3: 5 | N3: 6 | O3: : | P3: 6 | Q3: 0 | R3: : | S3: 6 | T3: 3 | U3: : | V3: 1 | Z3: =AA3+AB3+AC3 -> 6 | AA3: 2 | AB3: 1 | AC3: 3 | AD3: =+N3+Q3+T3+K3+H3+E3+B3 -> 19 | AE3: : | AF3: =V3+M3+J3+G3+D3+P3++S3 -> 30 | AG3: =AA3*2+AB3*1 -> 5 | AI3: 6
A4: Snakes | B4: 7 | C4: : | D4: 3 | H4: 6 | I4: : | J4: 3 | K4: 3 | L4: : | M4: 7 | N4: 1 | O4: : | P4: 6 | Q4: 3 | R4: : | S4: 1 | T4: 6 | U4: : | V4: 1 | Z4: =AA4+AB4+AC4 -> 6 | AA4: 4 | AC4: 2 | AD4: =+N4+Q4+T4+K4+H4+E4+B4 -> 26 | AE4: : | AF4: =V4+M4+J4+G4+D4+P4++S4 -> 21 | AG4: =AA4*2+AB4*1 -> 8 | AI4: 1
A5: Štíty | B5: 5 | C5: : | D5: 0 | E5: 3 | F5: : | G5: 6 | K5: 0 | L5: : | M5: 5 | N5: 4 | O5: : | P5: 4 | Q5: 5 | R5: : | S5: 1 | T5: 15 | U5: : | V5: 6 | Z5: =AA5+AB5+AC5 -> 6 | AA5: 3 | AB5: 1 | AC5: 2 | AD5: =+N5+Q5+T5+K5+H5+E5+B5 -> 32 | AE5: : | AF5: =V5+M5+J5+G5+D5+P5++S5 -> 22 | AG5: =AA5*2+AB5*1 -> 7 | AI5: 3
A6: Rafani | B6: 5 | C6: : | D6: 7 | E6: 7 | F6: : | G6: 3 | H6: 5 | I6: : | J6: 0 | N6: 6 | O6: : | P6: 4 | Q6: 3 | R6: : | S6: 3 | T6: 0 | U6: : | V6: 5 | Z6: =AA6+AB6+AC6 -> 6 | AA6: 3 | AB6: 1 | AC6: 2 | AD6: =+N6+Q6+T6+K6+H6+E6+B6 -> 26 | AE6: : | AF6: =V6+M6+J6+G6+D6+P6++S6 -> 22 | AG6: =AA6*2+AB6*1 -> 7 | AI6: 2
A7: H.Třeš. | B7: 6 | C7: : | D7: 6 | E7: 6 | F7: : | G7: 1 | H7: 4 | I7: : | J7: 4 | K7: 4 | L7: : | M7: 6 | Q7: 1 | R7: : | S7: 1 | T7: 2 | U7: : | V7: 5 | Z7: =AA7+AB7+AC7 -> 6 | AA7: 1 | AB7: 3 | AC7: 2 | AD7: =+N7+Q7+T7+K7+H7+E7+B7 -> 23 | AE7: : | AF7: =V7+M7+J7+G7+D7+P7++S7 -> 23 | AG7: =AA7*2+AB7*1 -> 5 | AI7: 5
A8: H.Čermná | B8: 6 | C8: : | D8: 0 | E8: 1 | F8: : | G8: 3 | H8: 1 | I8: : | J8: 5 | K8: 3 | L8: : | M8: 3 | N8: 1 | O8: : | P8: 1 | T8: 8 | U8: : | V8: 5 | Z8: =AA8+AB8+AC8 -> 6 | AA8: 2 | AB8: 2 | AC8: 2 | AD8: =+N8+Q8+T8+K8+H8+E8+B8 -> 20 | AE8: : | AF8: =V8+M8+J8+G8+D8+P8++S8 -> 17 | AG8: =AA8*2+AB8*1 -> 6 | AI8: 4
A9: OMB | B9: 1 | C9: : | D9: 3 | E9: 1 | F9: : | G9: 6 | H9: 6 | I9: : | J9: 15 | K9: 5 | L9: : | M9: 0 | N9: 5 | O9: : | P9: 2 | Q9: 5 | R9: : | S9: 8 | Z9: =AA9+AB9+AC9 -> 6 | AA9: 2 | AC9: 4 | AD9: =+N9+Q9+T9+K9+H9+E9+B9 -> 23 | AE9: : | AF9: =V9+M9+J9+G9+D9+P9++S9 -> 34 | AG9: =AA9*2+AB9*1 -> 4 | AI9: 7
Z10: =SUM(Z3:Z9)/2 -> 21 | AD10: =SUM(AD3:AD9) -> 169 | AF10: =SUM(AF3:AF9) -> 169

Sheet Statis.
C1: =(H38+H65+H88+H125+H166+H194+H232+H260+H298+H336+H370+H413+H444+H478+H510+H549+H583+H611+H656+H693+H730+H756+H783+H813+H851+H886+H916+H947+H978+H1014+H1042)/2 -> 303
A2: SOMA | B2: 1 | R2: G | S2: ó | T2: l | U2: y | AO2: a | AP2: s | AQ2: i | AR2: s | AS2: t | AT2: e | AU2: n | AV2: c | AW2: e | BG2: T | BH2: r | BI2: e | BJ2: s | BK2: t | BL2: y
B3: Příjmení | C3: Jméno | D3: Narozen | E3: typ hráče | F3: Tým | G3: průměr | H3: Zá | I3: Gó. | J3: As. | K3: Body | L3: Tr. | O3: 1 | P3: 2 | Q3: 3 | R3: 4 | S3: 5 | T3: 6 | U3: 7 | V3: 8 | W3: 9 | X3: 10 | Y3: 11 | Z3: 12 | AA3: 13 | AB3: 14 | AC3: 15 | AD3: 16 | AE3: 17 | AF3: 18 | AG3: 19 | AH3: 20 | AJ3: 1 | AK3: 2 | AL3: 3 | AM3: 4 | AN3: 5 | AO3: 6 | AP3: 7 | AQ3: 8 | AR3: 9 | AS3: 10 | AT3: 11 | AU3: 12 | AV3: 13 | AW3: 14 | AX3: 15 | AY3: 16 | AZ3: 17 | BA3: 18 | BB3: 19 | BC3: 20 | BE3: 1 | BF3: 2 | BG3: 3 | BH3: 4 | BI3: 5 | BJ3: 6 | BK3: 7 | BL3: 8 | BM3: 9 | BN3: 10 | BO3: 11 | BP3: 12 | BQ3: 13 | BR3: 14 | BS3: 15 | BT3: 16 | BU3: 17 | BV3: 18 | BW3: 19 | BX3: 20
A4: =SOM!B18 -> 2 | B4: =SOM!C18 -> Sonntag | C4: =SOM!D18 -> Lukáš | D4: =SOM!E18 -> 820112 | E4: =SOM!F18 -> JH | F4: =SOM!G18 -> SOM | G4: =K4/H4 -> #DIV/0! | H4: =COUNT(O4:AH4) -> 0 | I4: =SUM(O4+P4+Q4+R4+S4+T4+V4+U4+W4+X4+Y4+Z4+AA4+AB4+AC4+AD4+AE4+AF4+AG4+AH4) -> 0 | J4: =AJ4+AK4+AL4+AM4+AN4+AO4+AP4+AQ4+AR4+AS4+AT4+AU4+AV4+AW4+AX4+AY4+AZ4+BA4+BB4+BC4 -> 0 | K4: =I4+J4 -> 0 | L4: =BE4+BF4+BG4+BH4+BI4+BJ4+BK4+BL4+BM4+BN4+BO4+BP4+BR4+BQ4+BS4+BT4+BU4+BV4+BW4+BX4 -> 0
A5: =SOM!B19 -> 5 | B5: =SOM!C19 -> Zeman | C5: =SOM!D19 -> Břetislav | D5: =SOM!E19 -> 750522 | E5: =SOM!F19 -> JH | F5: =SOM!G19 -> SOM | G5: =K5/H5 -> 0.57142857 | H5: =COUNT(O5:AH5) -> 14 | I5: =SUM(O5+P5+Q5+R5+S5+T5+V5+U5+W5+X5+Y5+Z5+AA5+AB5+AC5+AD5+AE5+AF5+AG5+AH5) -> 3 | J5: =AJ5+AK5+AL5+AM5+AN5+AO5+AP5+AQ5+AR5+AS5+AT5+AU5+AV5+AW5+AX5+AY5+AZ5+BA5+BB5+BC5 -> 5 | K5: =I5+J5 -> 8 | L5: =BE5+BF5+BG5+BH5+BI5+BJ5+BK5+BL5+BM5+BN5+BO5+BP5+BR5+BQ5+BS5+BT5+BU5+BV5+BW5+BX5 -> 0 | Q5: 0 | R5: 0 | T5: 0 | U5: 0 | V5: 1 | X5: 1 | Y5: 0 | Z5: 1 | AA5: 0 | AB5: 0 | AC5: 0 | AE5: 0 | AF5: 0 | AG5: 0 | AL5: 1 | AM5: 1 | AO5: 0 | AP5: 1 | AQ5: 1 | AS5: 0 | AT5: 0 | AU5: 0 | AV5: 0 | AW5: 0 | AX5: 0 | AZ5: 1 | BA5: 0 | BB5: 0
A6: =SOM!B20 -> 6 | B6: =SOM!C20 -> Kobza | C6: =SOM!D20 -> Jan | D6: =SOM!E20 -> 941105 | E6: =SOM!F20 -> JH | F6: =SOM!G20 -> SOM | G6: =K6/H6 -> 3.9444444 | H6: =COUNT(O6:AH6) -> 18 | I6: =SUM(O6+P6+Q6+R6+S6+T6+V6+U6+W6+X6+Y6+Z6+AA6+AB6+AC6+AD6+AE6+AF6+AG6+AH6) -> 33 | J6: =AJ6+AK6+AL6+AM6+AN6+AO6+AP6+AQ6+AR6+AS6+AT6+AU6+AV6+AW6+AX6+AY6+AZ6+BA6+BB6+BC6 -> 38 | K6: =I6+J6 -> 71 | L6: =BE6+BF6+BG6+BH6+BI6+BJ6+BK6+BL6+BM6+BN6+BO6+BP6+BR6+BQ6+BS6+BT6+BU6+BV6+BW6+BX6 -> 0 | O6: 3 | P6: 1 | Q6: 1 | R6: 2 | T6: 4 | U6: 2 | V6: 1 | W6: 1 | X6: 3 | Y6: 1 | Z6: 1 | AA6: 3 | AB6: 2 | AC6: 4 | AD6: 0 | AE6: 2 | AF6: 0 | AG6: 2 | AJ6: 4 | AK6: 0 | AL6: 0 | AM6: 1 | AO6: 1 | AP6: 2 | AQ6: 0 | AR6: 6 | AS6: 1 | AT6: 5 | AU6: 3 | AV6: 3 | AW6: 2 | AX6: 2 | AY6: 3 | AZ6: 2 | BA6: 1 | BB6: 2
A7: =SOM!B21 -> 7 | B7: =SOM!C21 -> Verner | C7: =SOM!D21 -> Ladislav | D7: =SOM!E21 -> 570219 | E7: =SOM!F21 -> JH | F7: =SOM!G21 -> SOM | G7: =K7/H7 -> #DIV/0! | H7: =COUNT(O7:AH7) -> 0 | I7: =SUM(O7+P7+Q7+R7+S7+T7+V7+U7+W7+X7+Y7+Z7+AA7+AB7+AC7+AD7+AE7+AF7+AG7+AH7) -> 0 | J7: =AJ7+AK7+AL7+AM7+AN7+AO7+AP7+AQ7+AR7+AS7+AT7+AU7+AV7+AW7+AX7+AY7+AZ7+BA7+BB7+BC7 -> 0 | K7: =I7+J7 -> 0 | L7: =BE7+BF7+BG7+BH7+BI7+BJ7+BK7+BL7+BM7+BN7+BO7+BP7+BR7+BQ7+BS7+BT7+BU7+BV7+BW7+BX7 -> 0
A8: =SOM!B22 -> 8 | B8: =SOM!C22 -> Gereš | C8: =SOM!D22 -> Stanislav | D8: =SOM!E22 -> 781004 | E8: =SOM!F22 -> JH | F8: =SOM!G22 -> SOM | G8: =K8/H8 -> #DIV/0! | H8: =COUNT(O8:AH8) -> 0 | I8: =SUM(O8+P8+Q8+R8+S8+T8+V8+U8+W8+X8+Y8+Z8+AA8+AB8+AC8+AD8+AE8+AF8+AG8+AH8) -> 0 | J8: =AJ8+AK8+AL8+AM8+AN8+AO8+AP8+AQ8+AR8+AS8+AT8+AU8+AV8+AW8+AX8+AY8+AZ8+BA8+BB8+BC8 -> 0 | K8: =I8+J8 -> 0 | L8: =BE8+BF8+BG8+BH8+BI8+BJ8+BK8+BL8+BM8+BN8+BO8+BP8+BR8+BQ8+BS8+BT8+BU8+BV8+BW8+BX8 -> 0
A9: =SOM!B23 -> 9 | B9: =SOM!C23 -> Holinka | C9: =SOM!D23 -> Radek | D9: =SOM!E23 -> 691201 | E9: =SOM!F23 -> JH | F9: =SOM!G23 -> SOM | G9: =K9/H9 -> 1.8333333 | H9: =COUNT(O9:AH9) -> 6 | I9: =SUM(O9+P9+Q9+R9+S9+T9+V9+U9+W9+X9+Y9+Z9+AA9+AB9+AC9+AD9+AE9+AF9+AG9+AH9) -> 4 | J9: =AJ9+AK9+AL9+AM9+AN9+AO9+AP9+AQ9+AR9+AS9+AT9+AU9+AV9+AW9+AX9+AY9+AZ9+BA9+BB9+BC9 -> 7 | K9: =I9+J9 -> 11 | L9: =BE9+BF9+BG9+BH9+BI9+BJ9+BK9+BL9+BM9+BN9+BO9+BP9+BR9+BQ9+BS9+BT9+BU9+BV9+BW9+BX9 -> 0 | O9: 0 | U9: 2 | Y9: 2 | Z9: 0 | AB9: 0 | AD9: 0 | AJ9: 2 | AP9: 1 | AT9: 1 | AU9: 2 | AW9: 1 | AY9: 0
A10: =SOM!B24 -> 10 | B10: =SOM!C24 -> Horváth | C10: =SOM!D24 -> Miroslav | D10: =SOM!E24 -> 930503 | E10: =SOM!F24 -> JH | F10: =SOM!G24 -> SOM | G10: =K10/H10 -> 0 | H10: =COUNT(O10:AH10) -> 1 | I10: =SUM(O10+P10+Q10+R10+S10+T10+V10+U10+W10+X10+Y10+Z10+AA10+AB10+AC10+AD10+AE10+AF10+AG10+AH10) -> 0 | J10: =AJ10+AK10+AL10+AM10+AN10+AO10+AP10+AQ10+AR10+AS10+AT10+AU10+AV10+AW10+AX10+AY10+AZ10+BA10+BB10+BC10 -> 0 | K10: =I10+J10 -> 0 | L10: =BE10+BF10+BG10+BH10+BI10+BJ10+BK10+BL10+BM10+BN10+BO10+BP10+BR10+BQ10+BS10+BT10+BU10+BV10+BW10+BX10 -> 0 | R10: 0 | AM10: 0
A11: =SOM!B25 -> 15 | B11: =SOM!C25 -> Havlík | C11: =SOM!D25 -> Josef | D11: =SOM!E25 -> 890816 | E11: =SOM!F25 -> JH | F11: =SOM!G25 -> SOM | G11: =K11/H11 -> 1.6 | H11: =COUNT(O11:AH11) -> 15 | I11: =SUM(O11+P11+Q11+R11+S11+T11+V11+U11+W11+X11+Y11+Z11+AA11+AB11+AC11+AD11+AE11+AF11+AG11+AH11) -> 14 | J11: =AJ11+AK11+AL11+AM11+AN11+AO11+AP11+AQ11+AR11+AS11+AT11+AU11+AV11+AW11+AX11+AY11+AZ11+BA11+BB11+BC11 -> 10 | K11: =I11+J11 -> 24 | L11: =BE11+BF11+BG11+BH11+BI11+BJ11+BK11+BL11+BM11+BN11+BO11+BP11+BR11+BQ11+BS11+BT11+BU11+BV11+BW11+BX11 -> 0 | O11: 1 | P11: 0 | Q11: 0 | R11: 1 | T11: 2 | U11: 1 | W11: 1 | X11: 1 | Y11: 2 | AA11: 0 | AC11: 0 | AD11: 1 | AE11: 0 | AF11: 4 | AG11: 0 | AJ11: 1 | AK11: 0 | AL11: 2 | AM11: 0 | AO11: 0 | AP11: 0 | AR11: 1 | AS11: 0 | AT11: 0 | AV11: 1 | AX11: 0 | AY11: 1 | AZ11: 0 | BA11: 0 | BB11: 4
A12: =SOM!B26 -> 17 | B12: =SOM!C26 -> Skoumal | C12: =SOM!D26 -> Kamil | D12: =SOM!E26 -> 710618 | E12: =SOM!F26 -> JH | F12: =SOM!G26 -> SOM | G12: =K12/H12 -> #DIV/0! | H12: =COUNT(O12:AH12) -> 0 | I12: =SUM(O12+P12+Q12+R12+S12+T12+V12+U12+W12+X12+Y12+Z12+AA12+AB12+AC12+AD12+AE12+AF12+AG12+AH12) -> 0 | J12: =AJ12+AK12+AL12+AM12+AN12+AO12+AP12+AQ12+AR12+AS12+AT12+AU12+AV12+AW12+AX12+AY12+AZ12+BA12+BB12+BC12 -> 0 | K12: =I12+J12 -> 0 | L12: =BE12+BF12+BG12+BH12+BI12+BJ12+BK12+BL12+BM12+BN12+BO12+BP12+BR12+BQ12+BS12+BT12+BU12+BV12+BW12+BX12 -> 0
A13: =SOM!B27 -> 20 | B13: =SOM!C27 -> Alka | C13: =SOM!D27 -> Radek | D13: =SOM!E27 -> 860528 | E13: =SOM!F27 -> UOH | F13: =SOM!G27 -> SOM | G13: =K13/H13 -> 1.3076923 | H13: =COUNT(O13:AH13) -> 13 | I13: =SUM(O13+P13+Q13+R13+S13+T13+V13+U13+W13+X13+Y13+Z13+AA13+AB13+AC13+AD13+AE13+AF13+AG13+AH13) -> 9 | J13: =AJ13+AK13+AL13+AM13+AN13+AO13+AP13+AQ13+AR13+AS13+AT13+AU13+AV13+AW13+AX13+AY13+AZ13+BA13+BB13+BC13 -> 8 | K13: =I13+J13 -> 17 | L13: =BE13+BF13+BG13+BH13+BI13+BJ13+BK13+BL13+BM13+BN13+BO13+BP13+BR13+BQ13+BS13+BT13+BU13+BV13+BW13+BX13 -> 0 | O13: 1 | P13: 0 | Q13: 0 | T13: 0 | V13: 0 | W13: 1 | X13: 2 | Y13: 2 | AA13: 1 | AB13: 1 | AC13: 0 | AE13: 0 | AF13: 1 | AJ13: 2 | AK13: 1 | AL13: 0 | AO13: 0 | AQ13: 1 | AR13: 1 | AS13: 0 | AT13: 2 | AV13: 0 | AW13: 1 | AX13: 0 | AZ13: 0 | BA13: 0
A14: =SOM!B28 -> 22 | B14: =SOM!C28 -> Kocian | C14: =SOM!D28 -> David | D14: =SOM!E28 -> 850704 | E14: UOH | F14: =SOM!G28 -> SOM | G14: =K14/H14 -> 4 | H14: =COUNT(O14:AH14) -> 17 | I14: =SUM(O14+P14+Q14+R14+S14+T14+V14+U14+W14+X14+Y14+Z14+AA14+AB14+AC14+AD14+AE14+AF14+AG14+AH14) -> 35 | J14: =AJ14+AK14+AL14+AM14+AN14+AO14+AP14+AQ14+AR14+AS14+AT14+AU14+AV14+AW14+AX14+AY14+AZ14+BA14+BB14+BC14 -> 33 | K14: =I14+J14 -> 68 | L14: =BE14+BF14+BG14+BH14+BI14+BJ14+BK14+BL14+BM14+BN14+BO14+BP14+BR14+BQ14+BS14+BT14+BU14+BV14+BW14+BX14 -> 0 | P14: 2 | Q14: 2 | R14: 1 | T14: 2 | U14: 2 | V14: 2 | W14: 9 | X14: 1 | Y14: 4 | Z14: 2 | AA14: 4 | AB14: 1 | AC14: 1 | AD14: 0 | AE14: 1 | AF14: 0 | AG14: 1 | AK14: 0 | AL14: 0 | AM14: 1 | AO14: 0 | AP14: 2 | AQ14: 1 | AR14: 5 | AS14: 6 | AT14: 3 | AU14: 2 | AV14: 1 | AW14: 3 | AX14: 3 | AY14: 2 | AZ14: 0 | BA14: 3 | BB14: 1
A15: =SOM!B29 -> 23 | B15: =SOM!C29 -> Kovář | C15: =SOM!D29 -> Jakub | D15: =SOM!E29 -> 930212 | E15: =SOM!F29 -> JH | F15: =SOM!G29 -> SOM | G15: =K15/H15 -> 0.8 | H15: =COUNT(O15:AH15) -> 10 | I15: =SUM(O15+P15+Q15+R15+S15+T15+V15+U15+W15+X15+Y15+Z15+AA15+AB15+AC15+AD15+AE15+AF15+AG15+AH15) -> 5 | J15: =AJ15+AK15+AL15+AM15+AN15+AO15+AP15+AQ15+AR15+AS15+AT15+AU15+AV15+AW15+AX15+AY15+AZ15+BA15+BB15+BC15 -> 3 | K15: =I15+J15 -> 8 | L15: =BE15+BF15+BG15+BH15+BI15+BJ15+BK15+BL15+BM15+BN15+BO15+BP15+BR15+BQ15+BS15+BT15+BU15+BV15+BW15+BX15 -> 0 | P15: 0 | R15: 1 | T15: 0 | U15: 1 | V15: 0 | Z15: 1 | AA15: 2 | AB15: 0 | AC15: 0 | AD15: 0 | AK15: 0 | AM15: 0 | AO15: 0 | AP15: 0 | AQ15: 0 | AU15: 2 | AV15: 0 | AW15: 0 | AX15: 1 | AY15: 0
A16: =SOM!B30 -> 24 | B16: =SOM!C30 -> Kilčický | C16: =SOM!D30 -> Michal | D16: =SOM!E30 -> 801227 | E16: =SOM!F30 -> UOH | F16: =SOM!G30 -> SOM | G16: =K16/H16 -> 3.3333333 | H16: =COUNT(O16:AH16) -> 6 | I16: =SUM(O16+P16+Q16+R16+S16+T16+V16+U16+W16+X16+Y16+Z16+AA16+AB16+AC16+AD16+AE16+AF16+AG16+AH16) -> 8 | J16: =AJ16+AK16+AL16+AM16+AN16+AO16+AP16+AQ16+AR16+AS16+AT16+AU16+AV16+AW16+AX16+AY16+AZ16+BA16+BB16+BC16 -> 12 | K16: =I16+J16 -> 20 | L16: =BE16+BF16+BG16+BH16+BI16+BJ16+BK16+BL16+BM16+BN16+BO16+BP16+BR16+BQ16+BS16+BT16+BU16+BV16+BW16+BX16 -> 0 | O16: 2 | P16: 1 | R16: 0 | T16: 0 | W16: 3 | X16: 2 | AJ16: 2 | AK16: 0 | AM16: 2 | AO16: 1 | AR16: 5 | AS16: 2
A17: =SOM!B31 -> 33 | B17: =SOM!C31 -> Kaupe | C17: =SOM!D31 -> Petr | D17: =SOM!E31 -> 680922 | E17: =SOM!F31 -> JH | F17: =SOM!G31 -> SOM | G17: =K17/H17 -> #DIV/0! | H17: =COUNT(O17:AH17) -> 0 | I17: =SUM(O17+P17+Q17+R17+S17+T17+V17+U17+W17+X17+Y17+Z17+AA17+AB17+AC17+AD17+AE17+AF17+AG17+AH17) -> 0 | J17: =AJ17+AK17+AL17+AM17+AN17+AO17+AP17+AQ17+AR17+AS17+AT17+AU17+AV17+AW17+AX17+AY17+AZ17+BA17+BB17+BC17 -> 0 | K17: =I17+J17 -> 0 | L17: =BE17+BF17+BG17+BH17+BI17+BJ17+BK17+BL17+BM17+BN17+BO17+BP17+BR17+BQ17+BS17+BT17+BU17+BV17+BW17+BX17 -> 0
A18: =SOM!B32 -> 37 | B18: =SOM!C32 -> Zeman | C18: =SOM!D32 -> Lukáš | D18: =SOM!E32 -> ….000129 | E18: =SOM!F32 -> JH | F18: =SOM!G32 -> SOM | G18: =K18/H18 -> 1.25 | H18: =COUNT(O18:AH18) -> 16 | I18: =SUM(O18+P18+Q18+R18+S18+T18+V18+U18+W18+X18+Y18+Z18+AA18+AB18+AC18+AD18+AE18+AF18+AG18+AH18) -> 17 | J18: =AJ18+AK18+AL18+AM18+AN18+AO18+AP18+AQ18+AR18+AS18+AT18+AU18+AV18+AW18+AX18+AY18+AZ18+BA18+BB18+BC18 -> 3 | K18: =I18+J18 -> 20 | L18: =BE18+BF18+BG18+BH18+BI18+BJ18+BK18+BL18+BM18+BN18+BO18+BP18+BR18+BQ18+BS18+BT18+BU18+BV18+BW18+BX18 -> 0 | O18: 2 | P18: 0 | Q18: 5 | U18: 1 | V18: 0 | W18: 1 | X18: 0 | Y18: 1 | Z18: 1 | AA18: 0 | AB18: 1 | AC18: 1 | AD18: 0 | AE18: 2 | AF18: 0 | AG18: 2 | AJ18: 0 | AK18: 0 | AL18: 1 | AP18: 0 | AQ18: 0 | AR18: 1 | AS18: 0 | AT18: 0 | AU18: 0 | AV18: 0 | AW18: 0 | AX18: 0 | AY18: 0 | AZ18: 0 | BA18: 1 | BB18: 0
A19: =SOM!B33 -> 48 | B19: =SOM!C33 -> Holinka | C19: =SOM!D33 -> Jan | D19: =SOM!E33 -> 920807 | E19: =SOM!F33 -> JH | F19: =SOM!G33 -> SOM | G19: =K19/H19 -> #DIV/0! | H19: =COUNT(O19:AH19) -> 0 | I19: =SUM(O19+P19+Q19+R19+S19+T19+V19+U19+W19+X19+Y19+Z19+AA19+AB19+AC19+AD19+AE19+AF19+AG19+AH19) -> 0 | J19: =AJ19+AK19+AL19+AM19+AN19+AO19+AP19+AQ19+AR19+AS19+AT19+AU19+AV19+AW19+AX19+AY19+AZ19+BA19+BB19+BC19 -> 0 | K19: =I19+J19 -> 0 | L19: =BE19+BF19+BG19+BH19+BI19+BJ19+BK19+BL19+BM19+BN19+BO19+BP19+BR19+BQ19+BS19+BT19+BU19+BV19+BW19+BX19 -> 0
A20: =SOM!B34 -> 67 | B20: =SOM!C34 -> Rozbroj | C20: =SOM!D34 -> Jiří | D20: =SOM!E34 -> 980520 | E20: =SOM!F34 -> JH | F20: =SOM!G34 -> SOM | G20: =K20/H20 -> 0.8 | H20: =COUNT(O20:AH20) -> 10 | I20: =SUM(O20+P20+Q20+R20+S20+T20+V20+U20+W20+X20+Y20+Z20+AA20+AB20+AC20+AD20+AE20+AF20+AG20+AH20) -> 3 | J20: =AJ20+AK20+AL20+AM20+AN20+AO20+AP20+AQ20+AR20+AS20+AT20+AU20+AV20+AW20+AX20+AY20+AZ20+BA20+BB20+BC20 -> 5 | K20: =I20+J20 -> 8 | L20: =BE20+BF20+BG20+BH20+BI20+BJ20+BK20+BL20+BM20+BN20+BO20+BP20+BR20+BQ20+BS20+BT20+BU20+BV20+BW20+BX20 -> 0 | Q20: 0 | R20: 0 | T20: 0 | W20: 1 | X20: 0 | Z20: 1 | AD20: 1 | AE20: 0 | AF20: 0 | AG20: 0 | AL20: 2 | AM20: 0 | AO20: 0 | AR20: 0 | AS20: 0 | AU20: 0 | AY20: 1 | AZ20: 0 | BA20: 1 | BB20: 1
A21: =SOM!B35 -> 89 | B21: =SOM!C35 -> Peška | C21: =SOM!D35 -> Michal | D21: =SOM!E35 -> 890618 | E21: =SOM!F35 -> JH | F21: =SOM!G35 -> SOM | G21: =K21/H21 -> 2.2142857 | H21: =COUNT(O21:AH21) -> 14 | I21: =SUM(O21+P21+Q21+R21+S21+T21+V21+U21+W21+X21+Y21+Z21+AA21+AB21+AC21+AD21+AE21+AF21+AG21+AH21) -> 16 | J21: =AJ21+AK21+AL21+AM21+AN21+AO21+AP21+AQ21+AR21+AS21+AT21+AU21+AV21+AW21+AX21+AY21+AZ21+BA21+BB21+BC21 -> 15 | K21: =I21+J21 -> 31 | L21: =BE21+BF21+BG21+BH21+BI21+BJ21+BK21+BL21+BM21+BN21+BO21+BP21+BR21+BQ21+BS21+BT21+BU21+BV21+BW21+BX21 -> 0 | O21: 1 | P21: 0 | Q21: 5 | R21: 1 | U21: 1 | V21: 2 | Y21: 1 | AA21: 0 | AB21: 1 | AC21: 0 | AD21: 1 | AE21: 0 | AF21: 2 | AG21: 1 | AJ21: 0 | AK21: 0 | AL21: 0 | AM21: 1 | AP21: 1 | AQ21: 3 | AT21: 0 | AV21: 2 | AW21: 2 | AX21: 1 | AY21: 1 | AZ21: 1 | BA21: 2 | BB21: 1
A22: =SOM!B36 -> 94 | B22: =SOM!C36 -> Bařica | C22: =SOM!D36 -> Dušan | D22: =SOM!E36 -> 750826 | E22: =SOM!F36 -> JH | F22: =SOM!G36 -> SOM | G22: =K22/H22 -> 3.2666667 | H22: =COUNT(O22:AH22) -> 15 | I22: =SUM(O22+P22+Q22+R22+S22+T22+V22+U22+W22+X22+Y22+Z22+AA22+AB22+AC22+AD22+AE22+AF22+AG22+AH22) -> 13 | J22: =AJ22+AK22+AL22+AM22+AN22+AO22+AP22+AQ22+AR22+AS22+AT22+AU22+AV22+AW22+AX22+AY22+AZ22+BA22+BB22+BC22 -> 36 | K22: =I22+J22 -> 49 | L22: =BE22+BF22+BG22+BH22+BI22+BJ22+BK22+BL22+BM22+BN22+BO22+BP22+BR22+BQ22+BS22+BT22+BU22+BV22+BW22+BX22 -> 0 | O22: 2 | P22: 0 | Q22: 0 | T22: 0 | U22: 2 | V22: 0 | X22: 0 | Y22: 1 | AA22: 1 | AB22: 3 | AC22: 0 | AD22: 3 | AE22: 0 | AF22: 1 | AG22: 0 | AJ22: 4 | AK22: 3 | AL22: 5 | AO22: 3 | AP22: 2 | AQ22: 2 | AS22: 2 | AT22: 4 | AV22: 2 | AW22: 1 | AX22: 0 | AY22: 2 | AZ22: 1 | BA22: 3 | BB22: 2
A23: =SOM!B37 -> 0 | B23: =SOM!C37 -> Čajánek | C23: =SOM!D37 -> Petr | D23: =SOM!E37 -> 750818 | E23: =SOM!F37 -> JH | F23: =SOM!G37 -> SOM | G23: =K23/H23 -> #DIV/0! | H23: =COUNT(O23:AH23) -> 0 | I23: =SUM(O23+P23+Q23+R23+S23+T23+V23+U23+W23+X23+Y23+Z23+AA23+AB23+AC23+AD23+AE23+AF23+AG23+AH23) -> 0 | J23: =AJ23+AK23+AL23+AM23+AN23+AO23+AP23+AQ23+AR23+AS23+AT23+AU23+AV23+AW23+AX23+AY23+AZ23+BA23+BB23+BC23 -> 0 | K23: =I23+J23 -> 0 | L23: =BE23+BF23+BG23+BH23+BI23+BJ23+BK23+BL23+BM23+BN23+BO23+BP23+BR23+BQ23+BS23+BT23+BU23+BV23+BW23+BX23 -> 0
A24: =SOM!B38 -> 0 | B24: =SOM!C38 -> Hroch | C24: =SOM!D38 -> Daniel | D24: =SOM!E38 -> 0 | E24: =SOM!F38 -> NR | F24: =SOM!G38 -> SOM | G24: =K24/H24 -> 3.9230769 | H24: =COUNT(O24:AH24) -> 13 | I24: =SUM(O24+P24+Q24+R24+S24+T24+V24+U24+W24+X24+Y24+Z24+AA24+AB24+AC24+AD24+AE24+AF24+AG24+AH24) -> 22 | J24: =AJ24+AK24+AL24+AM24+AN24+AO24+AP24+AQ24+AR24+AS24+AT24+AU24+AV24+AW24+AX24+AY24+AZ24+BA24+BB24+BC24 -> 29 | K24: =I24+J24 -> 51 | L24: =BE24+BF24+BG24+BH24+BI24+BJ24+BK24+BL24+BM24+BN24+BO24+BP24+BR24+BQ24+BS24+BT24+BU24+BV24+BW24+BX24 -> 0 | P24: 1 | Q24: 0 | R24: 1 | T24: 0 | U24: 0 | V24: 2 | AA24: 3 | AB24: 2 | AC24: 1 | AD24: 4 | AE24: 2 | AF24: 3 | AG24: 3 | AK24: 1 | AL24: 2 | AM24: 3 | AO24: 5 | AP24: 4 | AQ24: 2 | AV24: 4 | AW24: 2 | AX24: 1 | AY24: 2 | AZ24: 0 | BA24: 1 | BB24: 2
A25: =SOM!B39 -> 0 | B25: =SOM!C39 -> Patsch | C25: =SOM!D39 -> Ondřej | D25: =SOM!E39 -> 0 | E25: =SOM!F39 -> NR | F25: =SOM!G39 -> SOM | G25: =K25/H25 -> #DIV/0! | H25: =COUNT(O25:AH25) -> 0 | I25: =SUM(O25+P25+Q25+R25+S25+T25+V25+U25+W25+X25+Y25+Z25+AA25+AB25+AC25+AD25+AE25+AF25+AG25+AH25) -> 0 | J25: =AJ25+AK25+AL25+AM25+AN25+AO25+AP25+AQ25+AR25+AS25+AT25+AU25+AV25+AW25+AX25+AY25+AZ25+BA25+BB25+BC25 -> 0 | K25: =I25+J25 -> 0 | L25: =BE25+BF25+BG25+BH25+BI25+BJ25+BK25+BL25+BM25+BN25+BO25+BP25+BR25+BQ25+BS25+BT25+BU25+BV25+BW25+BX25 -> 0
A26: =SOM!B40 -> 0 | B26: =SOM!C40 -> Skoumal | C26: =SOM!D40 -> Michal | D26: =SOM!E40 -> 910618 | E26: =SOM!F40 -> NR | F26: =SOM!G40 -> SOM | G26: =K26/H26 -> #DIV/0! | H26: =COUNT(O26:AH26) -> 0 | I26: =SUM(O26+P26+Q26+R26+S26+T26+V26+U26+W26+X26+Y26+Z26+AA26+AB26+AC26+AD26+AE26+AF26+AG26+AH26) -> 0 | J26: =AJ26+AK26+AL26+AM26+AN26+AO26+AP26+AQ26+AR26+AS26+AT26+AU26+AV26+AW26+AX26+AY26+AZ26+BA26+BB26+BC26 -> 0 | K26: =I26+J26 -> 0 | L26: =BE26+BF26+BG26+BH26+BI26+BJ26+BK26+BL26+BM26+BN26+BO26+BP26+BR26+BQ26+BS26+BT26+BU26+BV26+BW26+BX26 -> 0
A27: =SOM!B41 -> 0 | B27: =SOM!C41 -> Langr | C27: =SOM!D41 -> Tomáš | D27: =SOM!E41 -> 940531 | E27: =SOM!F41 -> NR | F27: =SOM!G41 -> SOM | G27: =K27/H27 -> 7 | H27: =COUNT(O27:AH27) -> 1 | I27: =SUM(O27+P27+Q27+R27+S27+T27+V27+U27+W27+X27+Y27+Z27+AA27+AB27+AC27+AD27+AE27+AF27+AG27+AH27) -> 5 | J27: =AJ27+AK27+AL27+AM27+AN27+AO27+AP27+AQ27+AR27+AS27+AT27+AU27+AV27+AW27+AX27+AY27+AZ27+BA27+BB27+BC27 -> 2 | K27: =I27+J27 -> 7 | L27: =BE27+BF27+BG27+BH27+BI27+BJ27+BK27+BL27+BM27+BN27+BO27+BP27+BR27+BQ27+BS27+BT27+BU27+BV27+BW27+BX27 -> 0 | W27: 5 | AR27: 2
A28: =SOM!B42 -> 0 | B28: =SOM!C42 -> Stejskal | C28: =SOM!D42 -> David | D28: =SOM!E42 -> 0 | E28: =SOM!F42 -> NR | F28: =SOM!G42 -> SOM | G28: =K28/H28 -> #DIV/0! | H28: =COUNT(O28:AH28) -> 0 | I28: =SUM(O28+P28+Q28+R28+S28+T28+V28+U28+W28+X28+Y28+Z28+AA28+AB28+AC28+AD28+AE28+AF28+AG28+AH28) -> 0 | J28: =AJ28+AK28+AL28+AM28+AN28+AO28+AP28+AQ28+AR28+AS28+AT28+AU28+AV28+AW28+AX28+AY28+AZ28+BA28+BB28+BC28 -> 0 | K28: =I28+J28 -> 0 | L28: =BE28+BF28+BG28+BH28+BI28+BJ28+BK28+BL28+BM28+BN28+BO28+BP28+BR28+BQ28+BS28+BT28+BU28+BV28+BW28+BX28 -> 0
A29: =SOM!B43 -> 0 | B29: =SOM!C43 -> Smolík | C29: =SOM!D43 -> Zdeněk | D29: =SOM!E43 -> 0 | E29: =SOM!F43 -> HS | F29: =SOM!G43 -> SOM | G29: =K29/H29 -> 2 | H29: =COUNT(O29:AH29) -> 1 | I29: =SUM(O29+P29+Q29+R29+S29+T29+V29+U29+W29+X29+Y29+Z29+AA29+AB29+AC29+AD29+AE29+AF29+AG29+AH29) -> 1 | J29: =AJ29+AK29+AL29+AM29+AN29+AO29+AP29+AQ29+AR29+AS29+AT29+AU29+AV29+AW29+AX29+AY29+AZ29+BA29+BB29+BC29 -> 1 | K29: =I29+J29 -> 2 | L29: =BE29+BF29+BG29+BH29+BI29+BJ29+BK29+BL29+BM29+BN29+BO29+BP29+BR29+BQ29+BS29+BT29+BU29+BV29+BW29+BX29 -> 0 | Z29: 1 | AU29: 1
A30: =SOM!B44 -> 0 | B30: =SOM!C44 -> Hašek | C30: =SOM!D44 -> Stanislav | D30: =SOM!E44 -> 0 | E30: =SOM!F44 -> HS | F30: =SOM!H44 -> 0 | G30: =K30/H30 -> #DIV/0! | O30: 1 | Z30: 0 | AJ30: 0 | AU30: 0
